BEGIN:VCALENDAR
VERSION:2.0
PRODID:-//Clinton Street Theater - ECPv6.15.20//NONSGML v1.0//EN
CALSCALE:GREGORIAN
METHOD:PUBLISH
X-ORIGINAL-URL:https://cstpdx.com
X-WR-CALDESC:Events for Clinton Street Theater
REFRESH-INTERVAL;VALUE=DURATION:PT1H
X-Robots-Tag:noindex
X-PUBLISHED-TTL:PT1H
BEGIN:VTIMEZONE
TZID:America/Los_Angeles
BEGIN:DAYLIGHT
TZOFFSETFROM:-0800
TZOFFSETTO:-0700
TZNAME:PDT
DTSTART:20250309T100000
END:DAYLIGHT
BEGIN:STANDARD
TZOFFSETFROM:-0700
TZOFFSETTO:-0800
TZNAME:PST
DTSTART:20251102T090000
END:STANDARD
BEGIN:DAYLIGHT
TZOFFSETFROM:-0800
TZOFFSETTO:-0700
TZNAME:PDT
DTSTART:20260308T100000
END:DAYLIGHT
BEGIN:STANDARD
TZOFFSETFROM:-0700
TZOFFSETTO:-0800
TZNAME:PST
DTSTART:20261101T090000
END:STANDARD
BEGIN:DAYLIGHT
TZOFFSETFROM:-0800
TZOFFSETTO:-0700
TZNAME:PDT
DTSTART:20270314T100000
END:DAYLIGHT
BEGIN:STANDARD
TZOFFSETFROM:-0700
TZOFFSETTO:-0800
TZNAME:PST
DTSTART:20271107T090000
END:STANDARD
END:VTIMEZONE
BEGIN:VEVENT
DTSTART;TZID=America/Los_Angeles:20260613T230000
DTEND;TZID=America/Los_Angeles:20260613T235900
DTSTAMP:20260423T011910
CREATED:20260226T003352Z
LAST-MODIFIED:20260226T003352Z
UID:10002221-1781391600-1781395140@cstpdx.com
SUMMARY:The Rocky Horror Picture Show with Sinophelia
DESCRIPTION:Come watch our intimate\, scaled-back screening of the ultimate cult movie that has played weekly at the Clinton Street Theater since 1978 with everyone’s ancient royal vampire\, Thee Countess Sinophelia! \n\n\n\nEnjoy the legendary “bad” movie with props and callbacks\, but without all the theatrics of a shadow cast on stage. Perfect for first and old timers. If you love the film on its own\, these screenings are an opportunity to watch the film with less visual interruption. \n\n\n\n*Please note this screening does not include a performance or shadow cast of the Clinton Street Cabaret.* \n\n\n\n\nDirector: Jim Sharman\n\n\n\nCountry: USA\n\n\n\nYear: 1975\n\n\n\nRuntime: 100 minutes
URL:https://cstpdx.com/event/the-rocky-horror-picture-show-with-sinophelia-18/
CATEGORIES:drag
ATTACH;FMTTYPE=image/webp:https://cstpdx.com/wp-content/uploads/2023/07/rhps-virgins.webp
END:VEVENT
BEGIN:VEVENT
DTSTART;TZID=America/Los_Angeles:20260614T190000
DTEND;TZID=America/Los_Angeles:20260614T210000
DTSTAMP:20260423T011910
CREATED:20260310T212555Z
LAST-MODIFIED:20260408T155520Z
UID:10002238-1781463600-1781470800@cstpdx.com
SUMMARY:Desert Hearts
DESCRIPTION:Donna Deitch’s swooning and sensual first film was groundbreaking upon its 1986 release: a love story about two women\, produced and directed by a woman. In the 1959-set film\, an adaptation of a beloved novel by Jane Rule\, straitlaced East Coast professor Vivian Bell (Helen Shaver) arrives in Reno to file for divorce\, but winds up catching the eye of someone new\, the younger free spirit Cay (Patricia Charbonneau)\, touching off a slow seduction that unfolds against the breathtaking desert landscape.  \n\n\n\nWith smoldering chemistry between its two leads\, an evocative jukebox soundtrack\, and vivid cinematography by Robert Elswit\, Desert Hearts beautifully exudes a sense of tender yearning and emotional candor. \n\n\n\n    \n        Director: Donna Deitch\n        Year: 1986\n        Country: USA\n        Runtime: 96 minutes
URL:https://cstpdx.com/event/desert-hearts-4/
CATEGORIES:pride
ATTACH;FMTTYPE=image/webp:https://cstpdx.com/wp-content/uploads/2023/04/desert-hearts.webp
END:VEVENT
BEGIN:VEVENT
DTSTART;TZID=America/Los_Angeles:20260618T190000
DTEND;TZID=America/Los_Angeles:20260618T210000
DTSTAMP:20260423T011910
CREATED:20260323T205643Z
LAST-MODIFIED:20260323T212319Z
UID:10002253-1781809200-1781816400@cstpdx.com
SUMMARY:Stranger by the Lake
DESCRIPTION:Frank spends his summer days hopelessly searching for companionship at a popular cruising spot on the shores of a lake in rural France. One day\, he meets Michel\, an attractive yet darkly mysterious man and falls blindly in love. \n\n\n\nPresented by Queer Screams Film Festival\, returning to The Clinton Street Theater in August 2026! \n\n\n\n\n\n\n\n\n\n    \n        Director: Alain Guiraudie\n        Year: 2013\n        Country: France\n        Runtime: 100 minutes
URL:https://cstpdx.com/event/stranger-by-the-lake/
CATEGORIES:film,pride
ATTACH;FMTTYPE=image/jpeg:https://cstpdx.com/wp-content/uploads/2026/03/s6-18tranger-by-the-lake.jpg
END:VEVENT
BEGIN:VEVENT
DTSTART;TZID=America/Los_Angeles:20260619T190000
DTEND;TZID=America/Los_Angeles:20260619T210000
DTSTAMP:20260423T011910
CREATED:20260310T213006Z
LAST-MODIFIED:20260310T213007Z
UID:10002239-1781895600-1781902800@cstpdx.com
SUMMARY:Paris is Burning
DESCRIPTION:Where does voguing come from\, and what\, exactly\, is throwing shade? This landmark documentary provides a vibrant snapshot of the 1980s through the eyes of New York City’s African American and Latinx Harlem drag ball scene. Made over seven years\, the film is an intimate portrait of rival fashion “houses\,” from fierce contests for trophies\, to house mothers offering sustenance in a world rampant with homophobia and transphobia\, racism\, AIDS\, and poverty. Featuring legendary voguers\, drag queens\, and trans women—including Willi Ninja\, Pepper LaBeija\, Dorian Corey\, and Venus Xtravaganza. \n\n\n\n    \n        Director: Jennie Livingston\n        Year: 1990\n        Country: USA\n        Runtime: 78 minutes
URL:https://cstpdx.com/event/paris-is-burning-3/
CATEGORIES:pride
ATTACH;FMTTYPE=image/webp:https://cstpdx.com/wp-content/uploads/2023/04/pib.webp
END:VEVENT
BEGIN:VEVENT
DTSTART;TZID=America/Los_Angeles:20260620T190000
DTEND;TZID=America/Los_Angeles:20260620T210000
DTSTAMP:20260423T011910
CREATED:20260323T205333Z
LAST-MODIFIED:20260323T205334Z
UID:10002252-1781982000-1781989200@cstpdx.com
SUMMARY:Nowhere
DESCRIPTION:In Los Angeles\, a colorful assortment of bohemians try to make sense of their intersecting lives. The moody Dark Smith (James Duval)\, his bisexual girlfriend\, her lesbian lover and their shy gay friend plan on attending the wildest party of the year. But they’ll only make it if they can survive the drug trips\, suicides\, trysts\, mutilations and alien abductions that occur as one surreal day unfolds. \n\n\n\n    \n        Director: Gregg Araki\n        Year: 1997\n        Country: United States\n        Runtime: 82 minutes
URL:https://cstpdx.com/event/nowhere/
CATEGORIES:film,pride
ATTACH;FMTTYPE=image/jpeg:https://cstpdx.com/wp-content/uploads/2026/03/6-20Nowhere_Poster_-websize.jpeg
END:VEVENT
BEGIN:VEVENT
DTSTART;TZID=America/Los_Angeles:20260620T223000
DTEND;TZID=America/Los_Angeles:20260620T235900
DTSTAMP:20260423T011910
CREATED:20260226T002651Z
LAST-MODIFIED:20260226T002651Z
UID:10002217-1781994600-1781999940@cstpdx.com
SUMMARY:The Rocky Horror Picture Show with the Clinton Street Cabaret
DESCRIPTION:Doors open at 10:00 PM; pre-show starts at 10:30 PM \n\n\n\nJoin our weekly screenings of The Rocky Horror Picture Show that started in April of 1978! Starring Tim Curry\, Susan Sarandon\, and Barry Bostwick\, The Rocky Horror Picture Show (1975) continues to titillate and delight audiences all over the world. \n\n\n\nTonight’s screening features the cast of the Clinton Street Cabaret! $2 from every ticket goes to support the group. Come see the famous\, rambunctious show that has played every single week at the Clinton Street Theater in Portland\, Oregon. \n\n\n\n\nDirector: Jim Sharman\n\n\n\nCountry: USA\n\n\n\nYear: 1975\n\n\n\nRuntime: 100 minutes\n\n\n\n\n\nStarting March 16th of 2024 the CSC will have a selection of tickets for each show which are available to our BIPOC community members FREE of charge! \n\n\n\nTo reserve one send an email to the Clinton Street Cabaret clintonstreetec@gmail.com with the heading BIPOC Affinity Ticket and include your name and the date of the show you would like to reserve a ticket for in the body of the email. Only 1 ticket can be reserved per person per show and reserved tickets also include a prop bag. These tickets can only be reserved by confirmed email with the Clinton Street Cabaret and are not available to reserve at the Clinton Street Theater box office. \n\n\n\nTickets can be reserved starting 2 weeks before a show and no later than 2 hours before the show. Please note we won’t be able to accommodate late requests for shows that are already sold out. These are tickets specifically for the Clinton Street Cabaret’s performances of the Rocky Horror Picture Show at the Clinton Street Theater\, on the 1st\, 3rd\, and occasionally 5th Saturdays of the month.  \n\n\n\nShowings on 2nd and 4th Saturdays or “For Virgins” nights are not Cabaret shows and do not qualify for this program.
URL:https://cstpdx.com/event/the-rocky-horror-picture-show-with-the-clinton-street-cabaret-91/
CATEGORIES:drag
ATTACH;FMTTYPE=image/jpeg:https://cstpdx.com/wp-content/uploads/2022/05/rockyhorror.jpeg
END:VEVENT
BEGIN:VEVENT
DTSTART;TZID=America/Los_Angeles:20260625T190000
DTEND;TZID=America/Los_Angeles:20260625T210000
DTSTAMP:20260423T011910
CREATED:20260318T015203Z
LAST-MODIFIED:20260318T015204Z
UID:10002247-1782414000-1782421200@cstpdx.com
SUMMARY:The Handmaiden
DESCRIPTION:In 1930s Korea\, a girl is hired as a handmaiden to a Japanese heiress who lives a secluded life on a countryside estate. But the maid has a secret: She is a pickpocket recruited by a swindler to help seduce the Lady and steal her fortune. \n\n\n\n \n\n\n\n    \n        Director: Park Chan-wook\n        Year: 2016\n        Country: South Korea\n        Runtime: 145 minutes
URL:https://cstpdx.com/event/the-handmaiden/
CATEGORIES:pride
ATTACH;FMTTYPE=image/jpeg:https://cstpdx.com/wp-content/uploads/2026/03/thehandmaiden-scaled.jpg
END:VEVENT
BEGIN:VEVENT
DTSTART;TZID=America/Los_Angeles:20260627T190000
DTEND;TZID=America/Los_Angeles:20260627T213000
DTSTAMP:20260423T011910
CREATED:20260330T013303Z
LAST-MODIFIED:20260415T150744Z
UID:10002262-1782586800-1782595800@cstpdx.com
SUMMARY:Cult Sensation: But I'm a Cheerleader
DESCRIPTION:CULT SENSATION PRESENTS: An annual queer celebration & screening of the beloved+iconic 1999 camp cult-classic But I’m A Cheerleader!  \n\n\n\nDoors at 6:00 PM; show at 7:00 PM. \n\n\n\nFeaturing a superstar studded pre-film drag show\, with themed tribute performances to the film’s spectacular soundtrack! Performances by CLARE APPARENTLY as Graham and HARLOW QUINZEL as Megan! STARRING: Natasha Lyonne\, Clea Duvall\, RuPaul\, Mink Stole\, Cathy Moriarty\, Michelle Williams\, & more! \n\n\n\nOur annual screenings of But I’m A Cheerleader are very popular and tend to sell out FAST\, Diva! In past years we have presented multiple showtimes\, but this year we’re keeping it sweet & special with a ONE NIGHT ONLY single showtime. So grab your tickets now to secure your seat for the show before they’re gone! See you there babe! \n\n\n\nCULT SENSATION is a queer celebration of cult cinema! This reoccurring film series is presented by Portland drag starlet and resident programmer Violet Hex. Each show Violet carefully curates interactive screenings featuring themed pre-film DRAG SHOWS exploring (and paying tribute to) the fashion\, music\, drama\, and queerness of cult cinema. \n\n\n\nThe Clinton Street Theater is wheelchair accessible\, however the restrooms are not ADA compliant. For any questions about accessibility or to request English-language subtitles\, please email us at info@cstpdx.com for more information! \n\n\n\n    \n        Director: Jamie Babbit\n        Year: 1999\n        Country: United States\n        Runtime: 92 minutes
URL:https://cstpdx.com/event/cult-sensation-but-im-a-cheerleader/
CATEGORIES:pride
ATTACH;FMTTYPE=image/png:https://cstpdx.com/wp-content/uploads/2026/03/CHEERLEADER-2026-POSTER-WEB.png
END:VEVENT
BEGIN:VEVENT
DTSTART;TZID=America/Los_Angeles:20260627T230000
DTEND;TZID=America/Los_Angeles:20260627T235900
DTSTAMP:20260423T011910
CREATED:20260226T003830Z
LAST-MODIFIED:20260226T003830Z
UID:10002225-1782601200-1782604740@cstpdx.com
SUMMARY:The Rocky Horror Picture Show with Thom Hilton
DESCRIPTION:Come watch our intimate\, scaled-back screening of the ultimate cult movie that has played weekly at the Clinton Street Theater since 1978.  \n\n\n\nIf you’ve ever wanted to attend\, but didn’t know if you’d enjoy your first time\, our special host for this evening\, Thom Hilton\, will be your guide. You’ll learn the funniest callbacks\, proper prop timing\, and how to dance the Time Warp. \n\n\n\nEnjoy the legendary “bad” movie with props and callbacks\, but without all the theatrics of a shadow cast on stage. Perfect for first and old timers. If you love the film on its own\, these screenings are an opportunity to watch the film with less visual interruption. \n\n\n\n*Please note this screening does not include a performance or shadow cast of the Clinton Street Cabaret.* \n\n\n\n\nDirector: Jim Sharman\n\n\n\nCountry: USA\n\n\n\nYear: 1975\n\n\n\nRuntime: 100 minutes
URL:https://cstpdx.com/event/the-rocky-horror-picture-show-with-thom-hilton-17/
CATEGORIES:drag
ATTACH;FMTTYPE=image/webp:https://cstpdx.com/wp-content/uploads/2023/07/rhps-virgins.webp
END:VEVENT
BEGIN:VEVENT
DTSTART;TZID=America/Los_Angeles:20260630T190000
DTEND;TZID=America/Los_Angeles:20260630T210000
DTSTAMP:20260423T011910
CREATED:20260310T213443Z
LAST-MODIFIED:20260310T213509Z
UID:10002240-1782846000-1782853200@cstpdx.com
SUMMARY:Happy Together
DESCRIPTION:A couple travels from Hong Kong to Argentina to revive their relationship but experience turbulence when both men’s lives drift in separate directions. \n\n\n\n \n\n\n\n    \n        Director: Wong Kar-Wai\n        Year: 1997\n        Country: Hong Kong\, South Korea\, Japan\n        Runtime: 96 minutes
URL:https://cstpdx.com/event/happy-together-2/
CATEGORIES:pride
ATTACH;FMTTYPE=image/jpeg:https://cstpdx.com/wp-content/uploads/2026/03/happytogether.jpg
END:VEVENT
BEGIN:VEVENT
DTSTART;TZID=America/Los_Angeles:20260702T190000
DTEND;TZID=America/Los_Angeles:20260702T210000
DTSTAMP:20260423T011910
CREATED:20260413T010106Z
LAST-MODIFIED:20260413T010109Z
UID:10002280-1783018800-1783026000@cstpdx.com
SUMMARY:Repo Man
DESCRIPTION:A young punk\, recruited by a car repo agency\, finds himself in pursuit of a Chevrolet Malibu with a huge\, $20\,000 bounty–and something otherworldly stashed in its trunk. \n\n\n\n    \n        Director: Alex Cox\n        Year: 1984\n        Country: USA\n        Runtime: 92 minutes
URL:https://cstpdx.com/event/repo-man-2/
CATEGORIES:sci-fi
ATTACH;FMTTYPE=image/jpeg:https://cstpdx.com/wp-content/uploads/2024/05/repo-man.jpeg
END:VEVENT
BEGIN:VEVENT
DTSTART;TZID=America/Los_Angeles:20260703T180000
DTEND;TZID=America/Los_Angeles:20260703T230000
DTSTAMP:20260423T011910
CREATED:20260414T211931Z
LAST-MODIFIED:20260414T212439Z
UID:10002281-1783101600-1783119600@cstpdx.com
SUMMARY:An Evening with Alex Cox: Dead Souls & Walker
DESCRIPTION:Director\, writer\, actor and author Alex Cox (Repo Man\, Sid & Nancy) comes to The Clinton Street Theater for a special screening of his brand-new film Dead Souls followed by a repertory screening of Walker!  \n\n\n\nDoors open at 5:30 PM.  \n\n\n\nFree autographs and photographs with Alex Cox at 6:00 PM; limit two items per person.  \n\n\n\nIntroduction of Dead Souls by Alex Cox at 7:00 PM.  \n\n\n\nDead Souls screening at 7:15 PM.  \n\n\n\nModerated Q&A with Alex Cox at 8:45 PM.  \n\n\n\nWalker screening at 9:30 PM. \n\n\n\nDead Souls – In 1890 – the year of the U.S. census – chaos erupts when a man named Strindler arrives in a town in Arizona and requests money for providing the names of dead Mexican laborers. \n\n\n\nWalker – An unconventional retelling of the life of William Walker\, a 19th century American mercenary leader who became the president of Nicaragua. \n\n\n\n    \n        Director: Alex Cox\n        Year: 2025\, 1987\n        Country: United States\, Mexico\, Spain\n        Runtime: 88 minutes\, 94 minutes
URL:https://cstpdx.com/event/an-evening-with-alex-cox-dead-souls-walker/
CATEGORIES:sci-fi
ATTACH;FMTTYPE=image/jpeg:https://cstpdx.com/wp-content/uploads/2026/04/dead-souls.jpg
END:VEVENT
BEGIN:VEVENT
DTSTART;TZID=America/Los_Angeles:20260716T190000
DTEND;TZID=America/Los_Angeles:20260716T210000
DTSTAMP:20260423T011910
CREATED:20260416T034803Z
LAST-MODIFIED:20260416T034804Z
UID:10002284-1784228400-1784235600@cstpdx.com
SUMMARY:My 20th Century
DESCRIPTION:Two twin sisters\, who grew up separately\, Dóra\, a pseudo-aristocrat\, and Lili\, an anarchist bomber\, are reunited through Z\, a mysterious traveller of the luxurious Orient-Express. \n\n\n\n    \n        Director: Ildikó Enyedi\n        Year: 1989\n        Country: Hungary\, West Germany\, Cuba\n        Runtime: 105 minutes
URL:https://cstpdx.com/event/my-20th-century/
CATEGORIES:fantasy,sci-fi
ATTACH;FMTTYPE=image/jpeg:https://cstpdx.com/wp-content/uploads/2026/04/My-20th-Century.jpeg
END:VEVENT
BEGIN:VEVENT
DTSTART;TZID=America/Los_Angeles:20260717T190000
DTEND;TZID=America/Los_Angeles:20260717T210000
DTSTAMP:20260423T011910
CREATED:20260407T210020Z
LAST-MODIFIED:20260407T210021Z
UID:10002269-1784314800-1784322000@cstpdx.com
SUMMARY:Donnie Darko
DESCRIPTION:After narrowly escaping a bizarre accident\, a troubled teenager is plagued by visions of a man in a large rabbit suit who manipulates him to commit a series of crimes. \n\n\n\n    \n        Director: Richard Kelly\n        Year: 2001\n        Country: United States\n        Runtime: 113 minutes
URL:https://cstpdx.com/event/donnie-darko-3/
CATEGORIES:sci-fi
ATTACH;FMTTYPE=image/jpeg:https://cstpdx.com/wp-content/uploads/2026/04/donniedarko_poster.jpg
END:VEVENT
BEGIN:VEVENT
DTSTART;TZID=America/Los_Angeles:20260719T190000
DTEND;TZID=America/Los_Angeles:20260719T210000
DTSTAMP:20260423T011910
CREATED:20260407T210721Z
LAST-MODIFIED:20260407T210735Z
UID:10002270-1784487600-1784494800@cstpdx.com
SUMMARY:Vegas in Space
DESCRIPTION:When Captain Dan Tracey and his spacemen learn that the all-female planet of Clitoris has had its precious gem Girlinium stolen\, they take a pill to switch genders and go undercover. But there are evil schemers among the Clitori determined to thwart Tracey Daniels’ mission! Featuring a who’s-who of San Francisco legends\, including Doris Fish\, Tippi\, Miss X\, and Ginger Quest. \n\n\n\n    \n        Director: Phillip R. Ford\n        Year: 1991\n        Country: Unites States\n        Runtime: 85 minutes
URL:https://cstpdx.com/event/vegas-in-space/
CATEGORIES:fantasy,sci-fi
ATTACH;FMTTYPE=image/jpeg:https://cstpdx.com/wp-content/uploads/2026/04/vegas.jpg
END:VEVENT
BEGIN:VEVENT
DTSTART;TZID=America/Los_Angeles:20260721T190000
DTEND;TZID=America/Los_Angeles:20260721T210000
DTSTAMP:20260423T011910
CREATED:20260312T172107Z
LAST-MODIFIED:20260312T172358Z
UID:10002241-1784660400-1784667600@cstpdx.com
SUMMARY:Redline (2009)
DESCRIPTION:A story about the most popular racing event in the galaxy\, the Redline\, and the various racers who compete in it.In development for seven years and using over 100\,000 hand-drawn frames\, the film has grown into its cult status as one of the most impressive anime experiences to be seen on the big screen.Screened in Japanese with English subtitles. \n\n\n\n    \n        Director: Takeshi Koike\n        Year: 2009\n        Country: United States\n        Runtime: 102 minutes
URL:https://cstpdx.com/event/redline-2009/
CATEGORIES:animation,sci-fi
ATTACH;FMTTYPE=image/jpeg:https://cstpdx.com/wp-content/uploads/2026/03/redline-poster.jpg
END:VEVENT
BEGIN:VEVENT
DTSTART;TZID=America/Los_Angeles:20260728T190000
DTEND;TZID=America/Los_Angeles:20260728T210000
DTSTAMP:20260423T011910
CREATED:20260323T210328Z
LAST-MODIFIED:20260416T034900Z
UID:10002254-1785265200-1785272400@cstpdx.com
SUMMARY:Uncle Boonme Who Can Recall His Past Lives
DESCRIPTION:A unique tale of a man embracing life’s greatest mystery. Suffering from acute kidney failure\, Uncle Boonmee has chosen to spend his final days surrounded by his loved ones in the countryside.  Surprisingly\, the ghost of his deceased wife appears to care for him\, and his long lost son returns home in a non-human form.  Contemplating the reasons for his illness\, Boonmee treks through the jungle with his family to a mysterious hilltop cave – the birthplace of his first life. \n\n\n\n    \n        Director: Apichatpong Weerasethakul\n        Year: 2010\n        Country: Thailand\n        Runtime: 114 minutes
URL:https://cstpdx.com/event/uncle-boonme-who-can-recall-his-past-lives/
CATEGORIES:fantasy,sci-fi
ATTACH;FMTTYPE=image/jpeg:https://cstpdx.com/wp-content/uploads/2026/03/728boonme.jpg
END:VEVENT
BEGIN:VEVENT
DTSTART;TZID=America/Los_Angeles:20260912T190000
DTEND;TZID=America/Los_Angeles:20260912T210000
DTSTAMP:20260423T011910
CREATED:20260410T211343Z
LAST-MODIFIED:20260410T211410Z
UID:10002275-1789239600-1789246800@cstpdx.com
SUMMARY:The Pain and The Power
DESCRIPTION:An unflinching documentary portrait of artist\, activist\, and survivor Logan Lynn\, tracing a 30-year career forged at the intersection of queerness\, faith\, addiction\, trauma\, and self-reinvention. Structured around the songs from Lynn’s latest record of the same name\, the film treats music not as background but as a living character. \n\n\n\nBeginning in rural Nebraska and Texas inside a fundamentalist Christian world hostile to any type of difference\, the film follows Lynn’s early sense of displacement\, religious trauma\, and abuse\, and the ways secrecy and fear shaped both identity and survival. Through intimate interviews with Lynn\, and decades of archival footage and home movies\, the film charts a restless trajectory: early success\, underground acclaim\, addiction\, public collapse\, and the slow\, deliberate work of rebuilding a life on one’s own terms. \n\n\n\nBehind the scenes footage from early music videos\, vintage tour clips\, and present-day studio conversations collide with moments of humor\, tenderness\, and brutal honesty. The result is neither a redemption arc nor a nostalgia piece\, but a meditation on what it means to outlive the versions of yourself that no longer serve you. \n\n\n\n    \n        Director: Cai Indermaur\n        Year: 2026\n        Country: United States\n        Runtime: TBD
URL:https://cstpdx.com/event/the-pain-and-the-power/
CATEGORIES:documentary
ATTACH;FMTTYPE=image/jpeg:https://cstpdx.com/wp-content/uploads/2026/04/The-Pain-and-the-Power.jpeg
END:VEVENT
BEGIN:VEVENT
DTSTART;TZID=America/Los_Angeles:20261001T190000
DTEND;TZID=America/Los_Angeles:20261001T213000
DTSTAMP:20260423T011910
CREATED:20260316T191511Z
LAST-MODIFIED:20260316T191512Z
UID:10002245-1790881200-1790890200@cstpdx.com
SUMMARY:Sinners
DESCRIPTION:Trying to leave their troubled lives behind\, twin brothers (Academy Award winner Michael B. Jordan) return to their hometown to start again\, only to discover that an even greater evil is waiting to welcome them back. \n\n\n\n    \n        Director: Ryan Coogler\n        Year: 2025\n        Country: United States\n        Runtime: 138 minutes
URL:https://cstpdx.com/event/sinners/
ATTACH;FMTTYPE=image/jpeg:https://cstpdx.com/wp-content/uploads/2026/03/SNNRS_2000x3000_Classics-scaled.jpg
END:VEVENT
END:VCALENDAR