BEGIN:VCALENDAR
VERSION:2.0
PRODID:-//Clinton Street Theater - ECPv6.15.20//NONSGML v1.0//EN
CALSCALE:GREGORIAN
METHOD:PUBLISH
X-ORIGINAL-URL:https://cstpdx.com
X-WR-CALDESC:Events for Clinton Street Theater
REFRESH-INTERVAL;VALUE=DURATION:PT1H
X-Robots-Tag:noindex
X-PUBLISHED-TTL:PT1H
BEGIN:VTIMEZONE
TZID:America/Los_Angeles
BEGIN:DAYLIGHT
TZOFFSETFROM:-0800
TZOFFSETTO:-0700
TZNAME:PDT
DTSTART:20250309T100000
END:DAYLIGHT
BEGIN:STANDARD
TZOFFSETFROM:-0700
TZOFFSETTO:-0800
TZNAME:PST
DTSTART:20251102T090000
END:STANDARD
BEGIN:DAYLIGHT
TZOFFSETFROM:-0800
TZOFFSETTO:-0700
TZNAME:PDT
DTSTART:20260308T100000
END:DAYLIGHT
BEGIN:STANDARD
TZOFFSETFROM:-0700
TZOFFSETTO:-0800
TZNAME:PST
DTSTART:20261101T090000
END:STANDARD
BEGIN:DAYLIGHT
TZOFFSETFROM:-0800
TZOFFSETTO:-0700
TZNAME:PDT
DTSTART:20270314T100000
END:DAYLIGHT
BEGIN:STANDARD
TZOFFSETFROM:-0700
TZOFFSETTO:-0800
TZNAME:PST
DTSTART:20271107T090000
END:STANDARD
END:VTIMEZONE
BEGIN:VEVENT
DTSTART;TZID=America/Los_Angeles:20260612T200000
DTEND;TZID=America/Los_Angeles:20260612T220000
DTSTAMP:20260422T234650
CREATED:20260416T231057Z
LAST-MODIFIED:20260416T231115Z
UID:10002285-1781294400-1781301600@cstpdx.com
SUMMARY:SORIAH and Scot Jenerik
DESCRIPTION:Internationally-acclaimed throat singer\, musician\, and ritual artist SORIAH returns to the theater for a very special live performance! Generating experimental soundscapes where ancient traditions of Khöömei (Tuvan Throat Singing) are revealed through the lens of modern experience. Live cymatics provided by Eric Buchner.  \n\n\n\nOpening the evening is composer and conceptual artist Scot Jenerik and a set by XRAY FM’s DDDJJJ666 and DJ Magnolia Bouvier. \n\n\n\nDoors open at 7:30 PM; performance at 8:00 PM. \n\n\n\nAll ages welcome.
URL:https://cstpdx.com/event/soriah-and-scot-jenerik/
CATEGORIES:music
ATTACH;FMTTYPE=image/png:https://cstpdx.com/wp-content/uploads/2026/04/soriah-6-12.png
END:VEVENT
END:VCALENDAR