BEGIN:VCALENDAR
VERSION:2.0
PRODID:-//Clinton Street Theater - ECPv6.15.20//NONSGML v1.0//EN
CALSCALE:GREGORIAN
METHOD:PUBLISH
X-WR-CALNAME:Clinton Street Theater
X-ORIGINAL-URL:https://cstpdx.com
X-WR-CALDESC:Events for Clinton Street Theater
REFRESH-INTERVAL;VALUE=DURATION:PT1H
X-Robots-Tag:noindex
X-PUBLISHED-TTL:PT1H
BEGIN:VTIMEZONE
TZID:America/Los_Angeles
BEGIN:DAYLIGHT
TZOFFSETFROM:-0800
TZOFFSETTO:-0700
TZNAME:PDT
DTSTART:20250309T100000
END:DAYLIGHT
BEGIN:STANDARD
TZOFFSETFROM:-0700
TZOFFSETTO:-0800
TZNAME:PST
DTSTART:20251102T090000
END:STANDARD
BEGIN:DAYLIGHT
TZOFFSETFROM:-0800
TZOFFSETTO:-0700
TZNAME:PDT
DTSTART:20260308T100000
END:DAYLIGHT
BEGIN:STANDARD
TZOFFSETFROM:-0700
TZOFFSETTO:-0800
TZNAME:PST
DTSTART:20261101T090000
END:STANDARD
BEGIN:DAYLIGHT
TZOFFSETFROM:-0800
TZOFFSETTO:-0700
TZNAME:PDT
DTSTART:20270314T100000
END:DAYLIGHT
BEGIN:STANDARD
TZOFFSETFROM:-0700
TZOFFSETTO:-0800
TZNAME:PST
DTSTART:20271107T090000
END:STANDARD
END:VTIMEZONE
BEGIN:VEVENT
DTSTART;TZID=America/Los_Angeles:20260611T190000
DTEND;TZID=America/Los_Angeles:20260611T213000
DTSTAMP:20260422T221756
CREATED:20251204T050607Z
LAST-MODIFIED:20260313T181213Z
UID:10002112-1781204400-1781213400@cstpdx.com
SUMMARY:The Twilight Saga: Breaking Dawn Part 2
DESCRIPTION:Bella (Kristen Stewart) awakes—as a vampire—from her life-threatening labor\, and her newborn daughter\, Renesmee\, proves to be very special indeed. While Bella adjusts to her new state of being\, Renesmee experiences accelerated growth. When the Volturi learn of the baby’s existence\, they declare her to be an abomination and sentence the Cullens to death. Bella\, Edward (Robert Pattinson) and the rest of the clan seek help from allies around the world to protect their family. \n\n\n\nWatch Twilight Again\, organized by Blue Holgate and Jenna Vesper\, brings the Twilight Saga back to theaters in Portland\, OR. These two besties and lifelong Twilight enthusiasts wanted to watch the movies\, again\, on the big screen…with you! \n\n\n\nGet your tickets now to these dazzling fandom events at the historic Clinton Street Theater\, so you can shout iconic lines\, sing along to the unforgettable soundtrack\, play some trivia\, and come dressed as your favorite characters for a chance to win exciting raffle prizes! Embrace your inner Twihard and connect with other fans who share the obsession with sparkly vampires\, teen wolves\, and father figure doctors. We promise we don’t care what team you’re on. \n\n\n\n    \n        Director: Bill Condon\n        Year: 2012\n        Country: USA\n        Runtime: 115 minutes
URL:https://cstpdx.com/event/the-twilight-saga-breaking-dawn-part-2-3/
CATEGORIES:twilight
ATTACH;FMTTYPE=image/webp:https://cstpdx.com/wp-content/uploads/2023/06/breaking-dawn-2.webp
END:VEVENT
END:VCALENDAR