BEGIN:VCALENDAR
VERSION:2.0
PRODID:-//Clinton Street Theater - ECPv6.15.20//NONSGML v1.0//EN
CALSCALE:GREGORIAN
METHOD:PUBLISH
X-WR-CALNAME:Clinton Street Theater
X-ORIGINAL-URL:https://cstpdx.com
X-WR-CALDESC:Events for Clinton Street Theater
REFRESH-INTERVAL;VALUE=DURATION:PT1H
X-Robots-Tag:noindex
X-PUBLISHED-TTL:PT1H
BEGIN:VTIMEZONE
TZID:America/Los_Angeles
BEGIN:DAYLIGHT
TZOFFSETFROM:-0800
TZOFFSETTO:-0700
TZNAME:PDT
DTSTART:20250309T100000
END:DAYLIGHT
BEGIN:STANDARD
TZOFFSETFROM:-0700
TZOFFSETTO:-0800
TZNAME:PST
DTSTART:20251102T090000
END:STANDARD
BEGIN:DAYLIGHT
TZOFFSETFROM:-0800
TZOFFSETTO:-0700
TZNAME:PDT
DTSTART:20260308T100000
END:DAYLIGHT
BEGIN:STANDARD
TZOFFSETFROM:-0700
TZOFFSETTO:-0800
TZNAME:PST
DTSTART:20261101T090000
END:STANDARD
BEGIN:DAYLIGHT
TZOFFSETFROM:-0800
TZOFFSETTO:-0700
TZNAME:PDT
DTSTART:20270314T100000
END:DAYLIGHT
BEGIN:STANDARD
TZOFFSETFROM:-0700
TZOFFSETTO:-0800
TZNAME:PST
DTSTART:20271107T090000
END:STANDARD
END:VTIMEZONE
BEGIN:VEVENT
DTSTART;TZID=America/Los_Angeles:20260608T190000
DTEND;TZID=America/Los_Angeles:20260608T210000
DTSTAMP:20260422T221651
CREATED:20260323T204713Z
LAST-MODIFIED:20260323T212412Z
UID:10002251-1780945200-1780952400@cstpdx.com
SUMMARY:The Serpent's Skin
DESCRIPTION:Portland premiere! After escaping her transphobic hometown\, Anna meets goth tattoo artist Gen. They bond over shared supernatural abilities\, but Gen’s tattoo work accidentally conjures a demon before their romance can bloom. \n\n\n\n    \n        Director:  Alice Maio Mackay\n        Year: 2025\n        Country: Australia\n        Runtime: 83 minutes
URL:https://cstpdx.com/event/the-serpents-skin/
CATEGORIES:film,pride
ATTACH;FMTTYPE=image/jpeg:https://cstpdx.com/wp-content/uploads/2026/03/6-8Serpents-Poster-websize.jpeg
END:VEVENT
END:VCALENDAR