BEGIN:VCALENDAR
VERSION:2.0
PRODID:-//Clinton Street Theater - ECPv6.15.20//NONSGML v1.0//EN
CALSCALE:GREGORIAN
METHOD:PUBLISH
X-WR-CALNAME:Clinton Street Theater
X-ORIGINAL-URL:https://cstpdx.com
X-WR-CALDESC:Events for Clinton Street Theater
REFRESH-INTERVAL;VALUE=DURATION:PT1H
X-Robots-Tag:noindex
X-PUBLISHED-TTL:PT1H
BEGIN:VTIMEZONE
TZID:America/Los_Angeles
BEGIN:DAYLIGHT
TZOFFSETFROM:-0800
TZOFFSETTO:-0700
TZNAME:PDT
DTSTART:20250309T100000
END:DAYLIGHT
BEGIN:STANDARD
TZOFFSETFROM:-0700
TZOFFSETTO:-0800
TZNAME:PST
DTSTART:20251102T090000
END:STANDARD
BEGIN:DAYLIGHT
TZOFFSETFROM:-0800
TZOFFSETTO:-0700
TZNAME:PDT
DTSTART:20260308T100000
END:DAYLIGHT
BEGIN:STANDARD
TZOFFSETFROM:-0700
TZOFFSETTO:-0800
TZNAME:PST
DTSTART:20261101T090000
END:STANDARD
BEGIN:DAYLIGHT
TZOFFSETFROM:-0800
TZOFFSETTO:-0700
TZNAME:PDT
DTSTART:20270314T100000
END:DAYLIGHT
BEGIN:STANDARD
TZOFFSETFROM:-0700
TZOFFSETTO:-0800
TZNAME:PST
DTSTART:20271107T090000
END:STANDARD
END:VTIMEZONE
BEGIN:VEVENT
DTSTART;TZID=America/Los_Angeles:20260530T190000
DTEND;TZID=America/Los_Angeles:20260530T210000
DTSTAMP:20260422T202859
CREATED:20260326T165557Z
LAST-MODIFIED:20260402T010759Z
UID:10002255-1780167600-1780174800@cstpdx.com
SUMMARY:40 Years of Fuckin' Up
DESCRIPTION:A documentary detailing the storied history of drug-addled teen punks-turned-icons. \n\n\n\nFeaturing interviews with Fat Mike\, Eric Melvin\, Aaron ‘El Hefe’ Abeyta\, and Erik Sandin. \n\n\n\nDoors open at 6:30 PM. Film at 7:00 PM. \n\n\n\n    \n        Director: James Buddy Day\n        Year: 2026\n        Country: United States\n        Runtime: 120 minutes
URL:https://cstpdx.com/event/40-years-of-fuckin-up-2/
CATEGORIES:documentary
ATTACH;FMTTYPE=image/jpeg:https://cstpdx.com/wp-content/uploads/2026/03/NOFX-40-Years-of-Fuckin-Up-Poster-Web.jpg
END:VEVENT
BEGIN:VEVENT
DTSTART;TZID=America/Los_Angeles:20260530T230000
DTEND;TZID=America/Los_Angeles:20260530T235900
DTSTAMP:20260422T202859
CREATED:20260226T004030Z
LAST-MODIFIED:20260226T004030Z
UID:10002227-1780182000-1780185540@cstpdx.com
SUMMARY:The Rocky Horror Picture Show with Riff Raff's Street Rats
DESCRIPTION:Doors open at 10:00 PM on Saturday for the 11:00 PM show. \n\n\n\nJoin our weekly screenings of The Rocky Horror Picture Show that started in April of 1978! Starring Tim Curry\, Susan Sarandon\, and Barry Bostwick\, The Rocky Horror Picture Show (1975) continues to titillate and delight audiences all over the world. \n\n\n\nTonight’s screening features a special visiting cast Riff Raff’s Street Rats from Bremerton\, WA! $2 from every ticket goes to support the group. Come see the famous\, rambunctious show that has played every single week at the Clinton Street Theater in Portland\, Oregon. \n\n\n\n\nDirector: Jim Sharman\n\n\n\nCountry: USA\n\n\n\nYear: 1975\n\n\n\nRuntime: 100 minutes
URL:https://cstpdx.com/event/the-rocky-horror-picture-show-with-riff-raffs-street-rats-3/
CATEGORIES:drag
ATTACH;FMTTYPE=image/jpeg:https://cstpdx.com/wp-content/uploads/2024/07/rocky-alt-1.jpg
END:VEVENT
END:VCALENDAR