BEGIN:VCALENDAR
VERSION:2.0
PRODID:-//Clinton Street Theater - ECPv6.15.20//NONSGML v1.0//EN
CALSCALE:GREGORIAN
METHOD:PUBLISH
X-WR-CALNAME:Clinton Street Theater
X-ORIGINAL-URL:https://cstpdx.com
X-WR-CALDESC:Events for Clinton Street Theater
REFRESH-INTERVAL;VALUE=DURATION:PT1H
X-Robots-Tag:noindex
X-PUBLISHED-TTL:PT1H
BEGIN:VTIMEZONE
TZID:America/Los_Angeles
BEGIN:DAYLIGHT
TZOFFSETFROM:-0800
TZOFFSETTO:-0700
TZNAME:PDT
DTSTART:20250309T100000
END:DAYLIGHT
BEGIN:STANDARD
TZOFFSETFROM:-0700
TZOFFSETTO:-0800
TZNAME:PST
DTSTART:20251102T090000
END:STANDARD
BEGIN:DAYLIGHT
TZOFFSETFROM:-0800
TZOFFSETTO:-0700
TZNAME:PDT
DTSTART:20260308T100000
END:DAYLIGHT
BEGIN:STANDARD
TZOFFSETFROM:-0700
TZOFFSETTO:-0800
TZNAME:PST
DTSTART:20261101T090000
END:STANDARD
BEGIN:DAYLIGHT
TZOFFSETFROM:-0800
TZOFFSETTO:-0700
TZNAME:PDT
DTSTART:20270314T100000
END:DAYLIGHT
BEGIN:STANDARD
TZOFFSETFROM:-0700
TZOFFSETTO:-0800
TZNAME:PST
DTSTART:20271107T090000
END:STANDARD
END:VTIMEZONE
BEGIN:VEVENT
DTSTART;TZID=America/Los_Angeles:20260524T190000
DTEND;TZID=America/Los_Angeles:20260524T210000
DTSTAMP:20260422T202924
CREATED:20260413T001624Z
LAST-MODIFIED:20260413T001625Z
UID:10002279-1779649200-1779656400@cstpdx.com
SUMMARY:The Holidays Ten Minute Play Festival
DESCRIPTION:Doors at 6:30 PM; show at 7:00 PM.Since 2011\, the Portland 10MPF is an event Monkey With a Hat On produces 2-3 times a year. The Festival features new plays written\, directed and performed by Portland artists – with a live musical act in between each play. Every play is ten minutes or less and every festival features a new theme.  \n\n\n\nThe theme for our 35th 10MPF is… Holidays! \n\n\n\nEvery night will feature all six of the Holidays-themed plays produced in this festival – so enjoy all of the acts and music on any of the four performance nights. The 10MPF is a very fun\, well-attended event\, and there is nothing else like it in the city! In the Holidays Ten Minute Play Festival you will experience:  \n\n\n\n\nThe Easter Bunny and a Leprechaun fighting for their lives\n\n\n\nA New Years Eve party in a bunker at the end of the world\n\n\n\nInternet lovers meeting for the first time on Valentine’s Day\n\n\n\nA bright-eyed employee’s first day at the “Holiday Factory”\n\n\n\nFreddy Krueger and Pinhead’s first Christmas with their son\n\n\n\nFather’s Day with “Rent-A-Dad”\n\n\n\n\nThis play festival will feature music from the awesome local musical act\, Junglecorp\, with their new Nature-themed musical story performed in between each of the plays! Junglecorp leaves the audience thoroughly entertained and they are excited to be a part of the 34th 10MPF. Check out Junglecorp’s music from previous play festivals and fun videos\, and connect with them at junglecorp.org \n\n\n\nRuntime: ~2 hours (with a 15 minute intermission)  \n\n\n\nAll Ages; however there will be some F-bombs and adult themes.  \n\n\n\nThe Ten Minute Play Festival is theater for everybody. MWAHO will never turn away audience members for lack of funds\, and they have an open door policy where anyone can attend their writers workshops\, submit a play or try out to be involved. These are your stories\, Portland! \n\n\n\n***We will not turn away anyone for lack of funds. For more information on how to pick up free or subsidized tickets\, please contact ollie@monkeywithahaton.com***  \n\n\n\nJoin us this Spring for the epic compilation of Portland’s Holidays plays!  \n\n\n\nFor more information about MWAHO and the 10MPF\, go to www.monkeywithahaton.com
URL:https://cstpdx.com/event/the-holidays-ten-minute-play-festival-4/
CATEGORIES:live theater
ATTACH;FMTTYPE=image/jpeg:https://cstpdx.com/wp-content/uploads/2026/04/Holidays-10MPF.jpg
END:VEVENT
END:VCALENDAR