BEGIN:VCALENDAR
VERSION:2.0
PRODID:-//Clinton Street Theater - ECPv6.15.20//NONSGML v1.0//EN
CALSCALE:GREGORIAN
METHOD:PUBLISH
X-WR-CALNAME:Clinton Street Theater
X-ORIGINAL-URL:https://cstpdx.com
X-WR-CALDESC:Events for Clinton Street Theater
REFRESH-INTERVAL;VALUE=DURATION:PT1H
X-Robots-Tag:noindex
X-PUBLISHED-TTL:PT1H
BEGIN:VTIMEZONE
TZID:America/Los_Angeles
BEGIN:DAYLIGHT
TZOFFSETFROM:-0800
TZOFFSETTO:-0700
TZNAME:PDT
DTSTART:20250309T100000
END:DAYLIGHT
BEGIN:STANDARD
TZOFFSETFROM:-0700
TZOFFSETTO:-0800
TZNAME:PST
DTSTART:20251102T090000
END:STANDARD
BEGIN:DAYLIGHT
TZOFFSETFROM:-0800
TZOFFSETTO:-0700
TZNAME:PDT
DTSTART:20260308T100000
END:DAYLIGHT
BEGIN:STANDARD
TZOFFSETFROM:-0700
TZOFFSETTO:-0800
TZNAME:PST
DTSTART:20261101T090000
END:STANDARD
BEGIN:DAYLIGHT
TZOFFSETFROM:-0800
TZOFFSETTO:-0700
TZNAME:PDT
DTSTART:20270314T100000
END:DAYLIGHT
BEGIN:STANDARD
TZOFFSETFROM:-0700
TZOFFSETTO:-0800
TZNAME:PST
DTSTART:20271107T090000
END:STANDARD
END:VTIMEZONE
BEGIN:VEVENT
DTSTART;TZID=America/Los_Angeles:20260519T190000
DTEND;TZID=America/Los_Angeles:20260519T210000
DTSTAMP:20260422T202925
CREATED:20260415T033419Z
LAST-MODIFIED:20260421T201909Z
UID:10002282-1779217200-1779224400@cstpdx.com
SUMMARY:Flaming Creatures on 16mm
DESCRIPTION:21+ \n\n\n\n\nSpectrum Between presents Jack Smith’s notorious 1963 film Flaming Creatures on 16mm. Now recognized as an aesthetic and historical landmark in the traditions of American avant-garde film and radical queer art practice\, Smith’s film was greeted largely with revulsion by critics and intellectuals when it first screened in New York City. It was championed by a small but influential crowd of underground artists\, and quickly became a major censorship battleground. Attempted screenings lead to police raids\, free speech protests\, and eventually the arrests and convictions of Jonas Mekas\, Ken and Flo Jacobs\, and Jerry Tartaglia on obscenity grounds.  \n\n\n\nA significant influence on Susan Sontag’s essay “Notes On Camp\,” she wrote: “The only thing to be regretted about the close-ups of limp penises and bouncing breasts\, the shots of masturbation and oral sexuality\, in Jack Smith’s Flaming Creatures is that it makes it hard simply to talk about this remarkable and beautiful film\, one has to defend it.” Indeed\, its position as a political and legal symbol threaten to obscure the pleasure and comedy in Smith’s vision. Featuring a cast of Warhol Superstars and other New York underground luminaries\, as well as a score by Tony Conrad\, Flaming Creatures is a whirlwind celebration of perverse sexuality\, gender ambiguity\, and orgiastic violence\, animated by Smith’s playful\, amateur approach and his love for trashy Hollywood B-movies and exotica. Though digital copies of Flaming Creaturescan be found online\, these poor transfers lose much of the film’s dreamlike visual texture\, which is much better appreciated on a proper 16mm print. \n\n\n\nFlaming Creatures will be followed by a 16mm print of Ron Rice’s Chumlum (1963)\, an experimental short film shot during the production of Jack Smith’s unfinished Normal Love\, which was meant to be the follow-up to Flaming Creatures. Both a behind-the-scenes document of Smith and his cast\, and a beguiling work of art in its own right\, Rice makes use of Smith’s tools to notably different ends. \n\n\n\nSpectrum Between is an independent\, nomadic film exhibition group based in Portland. We are dedicated to screening all manner of experimental\, avant-garde\, and underground films in their original analog formats. 
URL:https://cstpdx.com/event/flaming-creatures-on-16mm/
CATEGORIES:film
ATTACH;FMTTYPE=image/png:https://cstpdx.com/wp-content/uploads/2026/04/Flaming-Creatures-Poster-Instagram-sized.png
END:VEVENT
END:VCALENDAR