BEGIN:VCALENDAR
VERSION:2.0
PRODID:-//Clinton Street Theater - ECPv6.15.20//NONSGML v1.0//EN
CALSCALE:GREGORIAN
METHOD:PUBLISH
X-ORIGINAL-URL:https://cstpdx.com
X-WR-CALDESC:Events for Clinton Street Theater
REFRESH-INTERVAL;VALUE=DURATION:PT1H
X-Robots-Tag:noindex
X-PUBLISHED-TTL:PT1H
BEGIN:VTIMEZONE
TZID:America/Los_Angeles
BEGIN:DAYLIGHT
TZOFFSETFROM:-0800
TZOFFSETTO:-0700
TZNAME:PDT
DTSTART:20250309T100000
END:DAYLIGHT
BEGIN:STANDARD
TZOFFSETFROM:-0700
TZOFFSETTO:-0800
TZNAME:PST
DTSTART:20251102T090000
END:STANDARD
BEGIN:DAYLIGHT
TZOFFSETFROM:-0800
TZOFFSETTO:-0700
TZNAME:PDT
DTSTART:20260308T100000
END:DAYLIGHT
BEGIN:STANDARD
TZOFFSETFROM:-0700
TZOFFSETTO:-0800
TZNAME:PST
DTSTART:20261101T090000
END:STANDARD
BEGIN:DAYLIGHT
TZOFFSETFROM:-0800
TZOFFSETTO:-0700
TZNAME:PDT
DTSTART:20270314T100000
END:DAYLIGHT
BEGIN:STANDARD
TZOFFSETFROM:-0700
TZOFFSETTO:-0800
TZNAME:PST
DTSTART:20271107T090000
END:STANDARD
END:VTIMEZONE
BEGIN:VEVENT
DTSTART;TZID=America/Los_Angeles:20260508T200000
DTEND;TZID=America/Los_Angeles:20260508T220000
DTSTAMP:20260422T203314
CREATED:20260331T163901Z
LAST-MODIFIED:20260331T163902Z
UID:10002264-1778270400-1778277600@cstpdx.com
SUMMARY:Sun Blood Stories
DESCRIPTION:Fueled by paranoia\, hope\, wonder and rage\, Sun Blood Stories has gone through several iterations over the last 12 years\, sometimes creating music within the sub-genre described as psych fuzz.  \n\n\n\nBeloved among the underground music scene for their immersive live shows\, the band is celebrating the release of their third live album\, Solar Return (Live at Hallowed Halls)\, featuring songs from various EPs and their latest studio recording Shadow Loud.Doors open at 7:00 PM; Sun Blood Stories performs at 8:00 PM.
URL:https://cstpdx.com/event/sun-blood-stories/
CATEGORIES:music
ATTACH;FMTTYPE=image/png:https://cstpdx.com/wp-content/uploads/2026/03/sun-blood-stories-poster-websize.png
END:VEVENT
END:VCALENDAR