BEGIN:VCALENDAR
VERSION:2.0
PRODID:-//Clinton Street Theater - ECPv6.15.20//NONSGML v1.0//EN
CALSCALE:GREGORIAN
METHOD:PUBLISH
X-WR-CALNAME:Clinton Street Theater
X-ORIGINAL-URL:https://cstpdx.com
X-WR-CALDESC:Events for Clinton Street Theater
REFRESH-INTERVAL;VALUE=DURATION:PT1H
X-Robots-Tag:noindex
X-PUBLISHED-TTL:PT1H
BEGIN:VTIMEZONE
TZID:America/Los_Angeles
BEGIN:DAYLIGHT
TZOFFSETFROM:-0800
TZOFFSETTO:-0700
TZNAME:PDT
DTSTART:20250309T100000
END:DAYLIGHT
BEGIN:STANDARD
TZOFFSETFROM:-0700
TZOFFSETTO:-0800
TZNAME:PST
DTSTART:20251102T090000
END:STANDARD
BEGIN:DAYLIGHT
TZOFFSETFROM:-0800
TZOFFSETTO:-0700
TZNAME:PDT
DTSTART:20260308T100000
END:DAYLIGHT
BEGIN:STANDARD
TZOFFSETFROM:-0700
TZOFFSETTO:-0800
TZNAME:PST
DTSTART:20261101T090000
END:STANDARD
BEGIN:DAYLIGHT
TZOFFSETFROM:-0800
TZOFFSETTO:-0700
TZNAME:PDT
DTSTART:20270314T100000
END:DAYLIGHT
BEGIN:STANDARD
TZOFFSETFROM:-0700
TZOFFSETTO:-0800
TZNAME:PST
DTSTART:20271107T090000
END:STANDARD
END:VTIMEZONE
BEGIN:VEVENT
DTSTART;TZID=America/Los_Angeles:20260507T193000
DTEND;TZID=America/Los_Angeles:20260507T210000
DTSTAMP:20260422T202904
CREATED:20260405T073107Z
LAST-MODIFIED:20260412T182400Z
UID:10002267-1778182200-1778187600@cstpdx.com
SUMMARY:Waking Up From A Nap On A Long Day Of Doing Nothing
DESCRIPTION:Join us for a First Thursday unlike any other at the world premiere of WAKING UP FROM A NAP ON A LONG DAY OF DOING NOTHING\, the new short film by Thom Hilton (writer/director of Matinee Baby and co-host of The Rocky Horror Picture Show at the Clinton Street Theater). \n\n\n\nWith the guidance of his best friend and mystical grandfather\, a young painter – anxiously awaiting his first gallery show – embarks on a surreal skateboard odyssey through Portland to discover the true value of his art. \n\n\n\nIntroducing Ben Siver and starring Katie Kell (My Friend\, Chevy) and Anthony Hudson (the artist FKA Carla Rossi)\, the film features nearly thirty characters in more than a dozen iconic Portland locations\, plus surprise celebrity voice cameos and a posthumous performance by Hilton’s grandfather Jim Browning.  \n\n\n\nFrom an award-winning screenplay\, WAKING UP FROM A NAP ON A LONG DAY OF DOING NOTHING was partially filmed at the Clinton Street Theater and was made possible by a community crowdfunding campaign with over seventy-five local donors and sponsorships by more than thirty local businesses. The short’s centerpiece gallery scene was made in collaboration with fourteen local painters\, illustrators\, photographers\, sculptors\, furniture makers and puppet designers. \n\n\n\nThis special premiere event will feature a moderated post-show Q&A with select cast and crew. All attendees will also receive commemorative postcards designed by Film School’s Shea Satterlee. Proceeds of ticket sales will go directly to the film’s festival submission and distribution fund. Welcome to the art life. \n\n\n\n    \n        Director: Thom Hilton\n        Year: 2026\n        Country: United States\n        Runtime: 29 minutes
URL:https://cstpdx.com/event/waking-up-from-a-nap-on-a-long-day-of-doing-nothing/
ATTACH;FMTTYPE=image/png:https://cstpdx.com/wp-content/uploads/2026/04/Waking-Up-premiere-poster-scaled.png
END:VEVENT
END:VCALENDAR