BEGIN:VCALENDAR
VERSION:2.0
PRODID:-//Clinton Street Theater - ECPv6.15.20//NONSGML v1.0//EN
CALSCALE:GREGORIAN
METHOD:PUBLISH
X-ORIGINAL-URL:https://cstpdx.com
X-WR-CALDESC:Events for Clinton Street Theater
REFRESH-INTERVAL;VALUE=DURATION:PT1H
X-Robots-Tag:noindex
X-PUBLISHED-TTL:PT1H
BEGIN:VTIMEZONE
TZID:America/Los_Angeles
BEGIN:DAYLIGHT
TZOFFSETFROM:-0800
TZOFFSETTO:-0700
TZNAME:PDT
DTSTART:20250309T100000
END:DAYLIGHT
BEGIN:STANDARD
TZOFFSETFROM:-0700
TZOFFSETTO:-0800
TZNAME:PST
DTSTART:20251102T090000
END:STANDARD
BEGIN:DAYLIGHT
TZOFFSETFROM:-0800
TZOFFSETTO:-0700
TZNAME:PDT
DTSTART:20260308T100000
END:DAYLIGHT
BEGIN:STANDARD
TZOFFSETFROM:-0700
TZOFFSETTO:-0800
TZNAME:PST
DTSTART:20261101T090000
END:STANDARD
BEGIN:DAYLIGHT
TZOFFSETFROM:-0800
TZOFFSETTO:-0700
TZNAME:PDT
DTSTART:20270314T100000
END:DAYLIGHT
BEGIN:STANDARD
TZOFFSETFROM:-0700
TZOFFSETTO:-0800
TZNAME:PST
DTSTART:20271107T090000
END:STANDARD
END:VTIMEZONE
BEGIN:VEVENT
DTSTART;TZID=America/Los_Angeles:20260505T190000
DTEND;TZID=America/Los_Angeles:20260505T210000
DTSTAMP:20260422T203436
CREATED:20260121T185323Z
LAST-MODIFIED:20260421T203101Z
UID:10002163-1778007600-1778014800@cstpdx.com
SUMMARY:Being John Malkovich
DESCRIPTION:Montucky Cold Snacks presents a $5 movie night! Special drink and popcorn combo discount available at the show. \n\n\n\nA puppeteer discovers a portal that leads literally into the head of movie star John Malkovich.Tickets also get you into see the late night Portland premier of Roach Trip for free immediately following the feature! \n\n\n\n    \n        Director: Spike Jonze\n        Year: 1999\n        Country: United States\n        Runtime: 113 minutes
URL:https://cstpdx.com/event/being-john-malkovich/
CATEGORIES:film
ATTACH;FMTTYPE=image/jpeg:https://cstpdx.com/wp-content/uploads/2026/01/being-john-malkovich.jpg
END:VEVENT
BEGIN:VEVENT
DTSTART;TZID=America/Los_Angeles:20260505T210000
DTEND;TZID=America/Los_Angeles:20260505T220000
DTSTAMP:20260422T203436
CREATED:20260416T031411Z
LAST-MODIFIED:20260416T031412Z
UID:10002283-1778014800-1778018400@cstpdx.com
SUMMARY:Roach Trip
DESCRIPTION:Join actress Clare McNulty (Search Party\, Fort Tilden) in person for the Portland premiere of her directorial debut—a 12-minute short film. In this offbeat road movie starring McNulty and comedian Chris Fleming\, a woman fleeing heartbreak cultivates the healthiest relationship of her life with a cockroach who teaches her it’s wiser to embrace her pain than to run from it.  \n\n\n\nQ&A with McNulty following the short screening. \n\n\n\n    \n        Director: Clare McNulty\n        Year: 2026\n        Country: United States\n        Runtime: 12 minutes
URL:https://cstpdx.com/event/roach-trip/
ATTACH;FMTTYPE=image/jpeg:https://cstpdx.com/wp-content/uploads/2026/04/roach-trip-ART-vert-typev2-scaled.jpg
END:VEVENT
END:VCALENDAR