BEGIN:VCALENDAR
VERSION:2.0
PRODID:-//Clinton Street Theater - ECPv6.15.20//NONSGML v1.0//EN
CALSCALE:GREGORIAN
METHOD:PUBLISH
X-ORIGINAL-URL:https://cstpdx.com
X-WR-CALDESC:Events for Clinton Street Theater
REFRESH-INTERVAL;VALUE=DURATION:PT1H
X-Robots-Tag:noindex
X-PUBLISHED-TTL:PT1H
BEGIN:VTIMEZONE
TZID:America/Los_Angeles
BEGIN:DAYLIGHT
TZOFFSETFROM:-0800
TZOFFSETTO:-0700
TZNAME:PDT
DTSTART:20250309T100000
END:DAYLIGHT
BEGIN:STANDARD
TZOFFSETFROM:-0700
TZOFFSETTO:-0800
TZNAME:PST
DTSTART:20251102T090000
END:STANDARD
BEGIN:DAYLIGHT
TZOFFSETFROM:-0800
TZOFFSETTO:-0700
TZNAME:PDT
DTSTART:20260308T100000
END:DAYLIGHT
BEGIN:STANDARD
TZOFFSETFROM:-0700
TZOFFSETTO:-0800
TZNAME:PST
DTSTART:20261101T090000
END:STANDARD
BEGIN:DAYLIGHT
TZOFFSETFROM:-0800
TZOFFSETTO:-0700
TZNAME:PDT
DTSTART:20270314T100000
END:DAYLIGHT
BEGIN:STANDARD
TZOFFSETFROM:-0700
TZOFFSETTO:-0800
TZNAME:PST
DTSTART:20271107T090000
END:STANDARD
END:VTIMEZONE
BEGIN:VEVENT
DTSTART;TZID=America/Los_Angeles:20260430T190000
DTEND;TZID=America/Los_Angeles:20260430T220000
DTSTAMP:20260422T203452
CREATED:20260219T021140Z
LAST-MODIFIED:20260219T023242Z
UID:10002199-1777575600-1777586400@cstpdx.com
SUMMARY:Programme 4: Make the Scene
DESCRIPTION:Programme 4\, the switched-on broadcast from the wall-to-wall carpeted world of Golden Sands\, is coming to you live with a special presentation: a feature-length screening of Programme 4 with an exclusive look at all-new television entertainment! Escape to a groovy\, aspirational world of tomorrow\, TODAY. Make the Scene with creator Rachel Lichtman\, special guest stars\, Rhodes pianos\, complimentary matchbooks and more.
URL:https://cstpdx.com/event/programme-4-make-the-scene/
CATEGORIES:comedy
ATTACH;FMTTYPE=image/png:https://cstpdx.com/wp-content/uploads/2026/02/MakeTheScenePlain.png
END:VEVENT
END:VCALENDAR