BEGIN:VCALENDAR
VERSION:2.0
PRODID:-//Clinton Street Theater - ECPv6.15.20//NONSGML v1.0//EN
CALSCALE:GREGORIAN
METHOD:PUBLISH
X-WR-CALNAME:Clinton Street Theater
X-ORIGINAL-URL:https://cstpdx.com
X-WR-CALDESC:Events for Clinton Street Theater
REFRESH-INTERVAL;VALUE=DURATION:PT1H
X-Robots-Tag:noindex
X-PUBLISHED-TTL:PT1H
BEGIN:VTIMEZONE
TZID:America/Los_Angeles
BEGIN:DAYLIGHT
TZOFFSETFROM:-0800
TZOFFSETTO:-0700
TZNAME:PDT
DTSTART:20250309T100000
END:DAYLIGHT
BEGIN:STANDARD
TZOFFSETFROM:-0700
TZOFFSETTO:-0800
TZNAME:PST
DTSTART:20251102T090000
END:STANDARD
BEGIN:DAYLIGHT
TZOFFSETFROM:-0800
TZOFFSETTO:-0700
TZNAME:PDT
DTSTART:20260308T100000
END:DAYLIGHT
BEGIN:STANDARD
TZOFFSETFROM:-0700
TZOFFSETTO:-0800
TZNAME:PST
DTSTART:20261101T090000
END:STANDARD
BEGIN:DAYLIGHT
TZOFFSETFROM:-0800
TZOFFSETTO:-0700
TZNAME:PDT
DTSTART:20270314T100000
END:DAYLIGHT
BEGIN:STANDARD
TZOFFSETFROM:-0700
TZOFFSETTO:-0800
TZNAME:PST
DTSTART:20271107T090000
END:STANDARD
END:VTIMEZONE
BEGIN:VEVENT
DTSTART;TZID=America/Los_Angeles:20260426T180000
DTEND;TZID=America/Los_Angeles:20260426T210000
DTSTAMP:20260422T203005
CREATED:20260418T192955Z
LAST-MODIFIED:20260418T192956Z
UID:10002286-1777226400-1777237200@cstpdx.com
SUMMARY:Melange: A Queer and P.O.C. Variety Show
DESCRIPTION:21+ \n\n\n\n\nIT’S APRIL! The flowers are blooming and so are you! \n\n\n\nHosted By: \n\n\n\n\nChakra Stone Smokez\n\n\n\n\nStarring: \n\n\n\n\nBelinda Rose\n\n\n\nMarquis de Sade\n\n\n\nNae Love\n\n\n\nUmBruh\n\n\n\nU phoria\n\n\n\n\nCrew: \n\n\n\n\nMiss Nicole\n\n\n\nMr. E Smokez\n\n\n\nLana
URL:https://cstpdx.com/event/melange-a-queer-and-p-o-c-variety-show-6/
CATEGORIES:drag
ATTACH;FMTTYPE=image/png:https://cstpdx.com/wp-content/uploads/2026/04/melange-a-queer-and-p-o-c-variety-show.jpg.png
END:VEVENT
END:VCALENDAR