BEGIN:VCALENDAR
VERSION:2.0
PRODID:-//Clinton Street Theater - ECPv6.15.20//NONSGML v1.0//EN
CALSCALE:GREGORIAN
METHOD:PUBLISH
X-ORIGINAL-URL:https://cstpdx.com
X-WR-CALDESC:Events for Clinton Street Theater
REFRESH-INTERVAL;VALUE=DURATION:PT1H
X-Robots-Tag:noindex
X-PUBLISHED-TTL:PT1H
BEGIN:VTIMEZONE
TZID:America/Los_Angeles
BEGIN:DAYLIGHT
TZOFFSETFROM:-0800
TZOFFSETTO:-0700
TZNAME:PDT
DTSTART:20250309T100000
END:DAYLIGHT
BEGIN:STANDARD
TZOFFSETFROM:-0700
TZOFFSETTO:-0800
TZNAME:PST
DTSTART:20251102T090000
END:STANDARD
BEGIN:DAYLIGHT
TZOFFSETFROM:-0800
TZOFFSETTO:-0700
TZNAME:PDT
DTSTART:20260308T100000
END:DAYLIGHT
BEGIN:STANDARD
TZOFFSETFROM:-0700
TZOFFSETTO:-0800
TZNAME:PST
DTSTART:20261101T090000
END:STANDARD
BEGIN:DAYLIGHT
TZOFFSETFROM:-0800
TZOFFSETTO:-0700
TZNAME:PDT
DTSTART:20270314T100000
END:DAYLIGHT
BEGIN:STANDARD
TZOFFSETFROM:-0700
TZOFFSETTO:-0800
TZNAME:PST
DTSTART:20271107T090000
END:STANDARD
END:VTIMEZONE
BEGIN:VEVENT
DTSTART;TZID=America/Los_Angeles:20260423T190000
DTEND;TZID=America/Los_Angeles:20260423T220000
DTSTAMP:20260422T184420
CREATED:20260403T033830Z
LAST-MODIFIED:20260407T163239Z
UID:10002265-1776970800-1776981600@cstpdx.com
SUMMARY:Oregon Active Transportation Summit: PK Slam
DESCRIPTION:Doors open at 7:00 PM; event starts at 7:30 PM. \n\n\n\nAt this PK Slam or lightning slide celebration\, hosted and organized by The Street Trust and Strong Towns PDX\, our storytellers have 20 slides to share a topic\, tale\, or passion project\, with each slide automatically advancing after just 20 secs. \n\n\n\nA few of the PK Slams you’ll see: Transportation History via Pinball; Skate Urbanism from BDX to PDX; and The Weight of Exclusion: Designing Streets for Every Body by Marley Blonsky\, Executive Director of All Bodies on Bikes and star of the short documentary We Are Cyclists – The All Bodies on Bikes Story. This event is part of the Oregon Active Transportation Summit\, April 22-24.
URL:https://cstpdx.com/event/oregon-active-transportation-summit-pk-slam/
CATEGORIES:documentary
ATTACH;FMTTYPE=image/jpeg:https://cstpdx.com/wp-content/uploads/2026/04/TST_PKSLAM_corrected.jpg
END:VEVENT
END:VCALENDAR