BEGIN:VCALENDAR
VERSION:2.0
PRODID:-//Clinton Street Theater - ECPv6.15.20//NONSGML v1.0//EN
CALSCALE:GREGORIAN
METHOD:PUBLISH
X-ORIGINAL-URL:https://cstpdx.com
X-WR-CALDESC:Events for Clinton Street Theater
REFRESH-INTERVAL;VALUE=DURATION:PT1H
X-Robots-Tag:noindex
X-PUBLISHED-TTL:PT1H
BEGIN:VTIMEZONE
TZID:America/Los_Angeles
BEGIN:DAYLIGHT
TZOFFSETFROM:-0800
TZOFFSETTO:-0700
TZNAME:PDT
DTSTART:20250309T100000
END:DAYLIGHT
BEGIN:STANDARD
TZOFFSETFROM:-0700
TZOFFSETTO:-0800
TZNAME:PST
DTSTART:20251102T090000
END:STANDARD
BEGIN:DAYLIGHT
TZOFFSETFROM:-0800
TZOFFSETTO:-0700
TZNAME:PDT
DTSTART:20260308T100000
END:DAYLIGHT
BEGIN:STANDARD
TZOFFSETFROM:-0700
TZOFFSETTO:-0800
TZNAME:PST
DTSTART:20261101T090000
END:STANDARD
BEGIN:DAYLIGHT
TZOFFSETFROM:-0800
TZOFFSETTO:-0700
TZNAME:PDT
DTSTART:20270314T100000
END:DAYLIGHT
BEGIN:STANDARD
TZOFFSETFROM:-0700
TZOFFSETTO:-0800
TZNAME:PST
DTSTART:20271107T090000
END:STANDARD
END:VTIMEZONE
BEGIN:VEVENT
DTSTART;TZID=America/Los_Angeles:20260420T190000
DTEND;TZID=America/Los_Angeles:20260420T210000
DTSTAMP:20260422T203500
CREATED:20260319T224039Z
LAST-MODIFIED:20260319T224126Z
UID:10002248-1776711600-1776718800@cstpdx.com
SUMMARY:Yintah
DESCRIPTION:Come early for a Know Your Rights training starting at 5:30 PM. Doors open at 5:00 PM; film starts at 7:00 PM.A focus on the impact on the lives of the Wet’suwet’en people who live on unceded territory\, as they oppose the construction of multiple pipelines.Virtual Q&A with filmmaker Jennifer Wickham following the screening.
URL:https://cstpdx.com/event/yintah/
CATEGORIES:documentary
ATTACH;FMTTYPE=image/jpeg:https://cstpdx.com/wp-content/uploads/2026/03/yintah.jpg
END:VEVENT
END:VCALENDAR