BEGIN:VCALENDAR
VERSION:2.0
PRODID:-//Clinton Street Theater - ECPv6.15.20//NONSGML v1.0//EN
CALSCALE:GREGORIAN
METHOD:PUBLISH
X-ORIGINAL-URL:https://cstpdx.com
X-WR-CALDESC:Events for Clinton Street Theater
REFRESH-INTERVAL;VALUE=DURATION:PT1H
X-Robots-Tag:noindex
X-PUBLISHED-TTL:PT1H
BEGIN:VTIMEZONE
TZID:America/Los_Angeles
BEGIN:DAYLIGHT
TZOFFSETFROM:-0800
TZOFFSETTO:-0700
TZNAME:PDT
DTSTART:20250309T100000
END:DAYLIGHT
BEGIN:STANDARD
TZOFFSETFROM:-0700
TZOFFSETTO:-0800
TZNAME:PST
DTSTART:20251102T090000
END:STANDARD
BEGIN:DAYLIGHT
TZOFFSETFROM:-0800
TZOFFSETTO:-0700
TZNAME:PDT
DTSTART:20260308T100000
END:DAYLIGHT
BEGIN:STANDARD
TZOFFSETFROM:-0700
TZOFFSETTO:-0800
TZNAME:PST
DTSTART:20261101T090000
END:STANDARD
BEGIN:DAYLIGHT
TZOFFSETFROM:-0800
TZOFFSETTO:-0700
TZNAME:PDT
DTSTART:20270314T100000
END:DAYLIGHT
BEGIN:STANDARD
TZOFFSETFROM:-0700
TZOFFSETTO:-0800
TZNAME:PST
DTSTART:20271107T090000
END:STANDARD
END:VTIMEZONE
BEGIN:VEVENT
DTSTART;TZID=America/Los_Angeles:20260419T150000
DTEND;TZID=America/Los_Angeles:20260419T170000
DTSTAMP:20260422T185242
CREATED:20260203T225830Z
LAST-MODIFIED:20260203T225831Z
UID:10002187-1776610800-1776618000@cstpdx.com
SUMMARY:Earth's Greatest Enemy
DESCRIPTION:In her new documentary\, journalist Abby Martin that uncovers a shocking blind spot in the climate conversation: the U.S. military. Exempt from international climate agreements and rarely scrutinized in mainstream reporting\, the Pentagon is revealed here as the world’s single largest institutional polluter—spewing carbon\, contaminating water\, and scarring landscapes across the globe. Combining investigative journalism\, striking visuals\, and stories from impacted communities\, the film challenges audiences to rethink the hidden costs of war and its planetary consequences. Provocative\, urgent\, and eye-opening\, this is a documentary that will change how you see both conflict and environmentalism.
URL:https://cstpdx.com/event/earths-greatest-enemy-3/
CATEGORIES:documentary
ATTACH;FMTTYPE=image/png:https://cstpdx.com/wp-content/uploads/2026/02/EGE-27x40-1.png
END:VEVENT
BEGIN:VEVENT
DTSTART;TZID=America/Los_Angeles:20260419T190000
DTEND;TZID=America/Los_Angeles:20260419T210000
DTSTAMP:20260422T185242
CREATED:20260227T211848Z
LAST-MODIFIED:20260227T211849Z
UID:10002228-1776625200-1776632400@cstpdx.com
SUMMARY:Mars (2024)
DESCRIPTION:Portland premiere of the long-awaited final film from sketch comedy group The Whitest Kids U Know! \n\n\n\nA zany crew of misfits blasts off to Mars\, only to find they’ve been duped by a scheming billionaire. Chaos ensues as they face bizarre challenges and unexpected surprises on their wacky interplanetary journey. Featuring voices from the late Trevor Moore\, Sam Brown\, Darren Trumeter\, Timmy Williams\, and Zach Cregger (Weapons). \n\n\n\n    \n        Director: Sevan Najarian\n        Year: 2024\n        Country: United States\n        Runtime: 84 minutes
URL:https://cstpdx.com/event/mars-2024/
CATEGORIES:animation
ATTACH;FMTTYPE=image/jpeg:https://cstpdx.com/wp-content/uploads/2026/02/Mars_CreditBlock_2000x3000_textless.jpg
END:VEVENT
END:VCALENDAR