BEGIN:VCALENDAR
VERSION:2.0
PRODID:-//Clinton Street Theater - ECPv6.15.20//NONSGML v1.0//EN
CALSCALE:GREGORIAN
METHOD:PUBLISH
X-WR-CALNAME:Clinton Street Theater
X-ORIGINAL-URL:https://cstpdx.com
X-WR-CALDESC:Events for Clinton Street Theater
REFRESH-INTERVAL;VALUE=DURATION:PT1H
X-Robots-Tag:noindex
X-PUBLISHED-TTL:PT1H
BEGIN:VTIMEZONE
TZID:America/Los_Angeles
BEGIN:DAYLIGHT
TZOFFSETFROM:-0800
TZOFFSETTO:-0700
TZNAME:PDT
DTSTART:20250309T100000
END:DAYLIGHT
BEGIN:STANDARD
TZOFFSETFROM:-0700
TZOFFSETTO:-0800
TZNAME:PST
DTSTART:20251102T090000
END:STANDARD
BEGIN:DAYLIGHT
TZOFFSETFROM:-0800
TZOFFSETTO:-0700
TZNAME:PDT
DTSTART:20260308T100000
END:DAYLIGHT
BEGIN:STANDARD
TZOFFSETFROM:-0700
TZOFFSETTO:-0800
TZNAME:PST
DTSTART:20261101T090000
END:STANDARD
BEGIN:DAYLIGHT
TZOFFSETFROM:-0800
TZOFFSETTO:-0700
TZNAME:PDT
DTSTART:20270314T100000
END:DAYLIGHT
BEGIN:STANDARD
TZOFFSETFROM:-0700
TZOFFSETTO:-0800
TZNAME:PST
DTSTART:20271107T090000
END:STANDARD
END:VTIMEZONE
BEGIN:VEVENT
DTSTART;TZID=America/Los_Angeles:20260418T110000
DTEND;TZID=America/Los_Angeles:20260418T130000
DTSTAMP:20260422T184204
CREATED:20260310T203942Z
LAST-MODIFIED:20260325T160021Z
UID:10002235-1776510000-1776517200@cstpdx.com
SUMMARY:Portland Panorama: Sirens Call
DESCRIPTION:Una\, a mermaid reborn in a human body on Earth during a planetary crisis\, searches for connection and fellow merpeople to share Atlantis’ wisdom. However\, her health deteriorates in the toxic environment\, and she longs to transcend her human form. \n\n\n\nIn their feature-length debut\, Gossing/Sieckmann dive into the merfolk subculture with performance artist and siren Una. Genre elements\, fiction and documentary\, self-care\, political activism and self-chosen identities blend into one another. \n\n\n\n \n\n\n\nPart of the Portland Panorama Film Festival! \n\n\n\n    \n        Director: Miriam Gossing\, Lina Sieckmann\n        Year: 2025\n        Country: Germany\, Netherlands\n        Runtime: 121 minutes
URL:https://cstpdx.com/event/portland-panorama-sirens-call/
CATEGORIES:documentary
ATTACH;FMTTYPE=image/jpeg:https://cstpdx.com/wp-content/uploads/2026/03/sirenscallpdxpan.jpg
END:VEVENT
BEGIN:VEVENT
DTSTART;TZID=America/Los_Angeles:20260418T150000
DTEND;TZID=America/Los_Angeles:20260418T170000
DTSTAMP:20260422T184204
CREATED:20260219T231240Z
LAST-MODIFIED:20260219T233140Z
UID:10002201-1776524400-1776531600@cstpdx.com
SUMMARY:The Lure of Ponies: A Spellbound Attic Mystery
DESCRIPTION:A stop motion mystery set in the attic of a shuttered vintage emporium. Helping to keep things in order are Detective Frances Faraday and her sidekick Midge. One morning\, a distressed baby doll shows up with a new case—her 8 year old human playmate Lily has gone missing! Is Lily just playing hide and seek? Or is something more sinister afoot?Filmmaker Beck Underwood in attendance for post-screening Q&A! \n\n\n\nA portion of ticket sales will benefit Smart Reading\, a children’s literacy nonprofit. \n\n\n\n    \n        Director: Beck Underwood\n        Year: 2026\n        Country: USA\n        Runtime: 67 minutes
URL:https://cstpdx.com/event/the-lure-of-ponies-a-spellbound-attic-mystery/
CATEGORIES:animation
ATTACH;FMTTYPE=image/png:https://cstpdx.com/wp-content/uploads/2026/02/lure-of-ponies.png
END:VEVENT
BEGIN:VEVENT
DTSTART;TZID=America/Los_Angeles:20260418T190000
DTEND;TZID=America/Los_Angeles:20260418T210000
DTSTAMP:20260422T184204
CREATED:20260221T213829Z
LAST-MODIFIED:20260307T005648Z
UID:10002206-1776538800-1776546000@cstpdx.com
SUMMARY:The Bob's Burgers Movie
DESCRIPTION:When a sinkhole in front of Bob’s Burgers threatens the Belchers’ plans for a successful summer\, Bob and Linda try to keep their business going\, while the kids attempt to save the restaurant by solving a mystery. \n\n\n\nMuch more than just an extended episode of the beloved TV show\, the film incorporates traditional hand-drawn and cutout animation techniques for grand musical numbers that light up the big screen. \n\n\n\n    \n        Director: Loren Bouchard\, Bernard Derriman\n        Year: 2022\n        Country: United States\n        Runtime: 102 minutes
URL:https://cstpdx.com/event/the-bobs-burgers-movie/
CATEGORIES:animation
ATTACH;FMTTYPE=image/jpeg:https://cstpdx.com/wp-content/uploads/2026/02/AMC-Theaters-The-Bobs-Burgers-Movie-poster.jpg
END:VEVENT
BEGIN:VEVENT
DTSTART;TZID=America/Los_Angeles:20260418T223000
DTEND;TZID=America/Los_Angeles:20260418T235900
DTSTAMP:20260422T184204
CREATED:20260226T002226Z
LAST-MODIFIED:20260226T002227Z
UID:10002213-1776551400-1776556740@cstpdx.com
SUMMARY:The Rocky Horror Picture Show with the Clinton Street Cabaret
DESCRIPTION:Doors open at 10:00 PM; pre-show starts at 10:30 PM \n\n\n\nJoin our weekly screenings of The Rocky Horror Picture Show that started in April of 1978! Starring Tim Curry\, Susan Sarandon\, and Barry Bostwick\, The Rocky Horror Picture Show (1975) continues to titillate and delight audiences all over the world. \n\n\n\nTonight’s screening features the cast of the Clinton Street Cabaret! $2 from every ticket goes to support the group. Come see the famous\, rambunctious show that has played every single week at the Clinton Street Theater in Portland\, Oregon. \n\n\n\n\nDirector: Jim Sharman\n\n\n\nCountry: USA\n\n\n\nYear: 1975\n\n\n\nRuntime: 100 minutes\n\n\n\n\n\nStarting March 16th of 2024 the CSC will have a selection of tickets for each show which are available to our BIPOC community members FREE of charge! \n\n\n\nTo reserve one send an email to the Clinton Street Cabaret clintonstreetec@gmail.com with the heading BIPOC Affinity Ticket and include your name and the date of the show you would like to reserve a ticket for in the body of the email. Only 1 ticket can be reserved per person per show and reserved tickets also include a prop bag. These tickets can only be reserved by confirmed email with the Clinton Street Cabaret and are not available to reserve at the Clinton Street Theater box office. \n\n\n\nTickets can be reserved starting 2 weeks before a show and no later than 2 hours before the show. Please note we won’t be able to accommodate late requests for shows that are already sold out. These are tickets specifically for the Clinton Street Cabaret’s performances of the Rocky Horror Picture Show at the Clinton Street Theater\, on the 1st\, 3rd\, and occasionally 5th Saturdays of the month.  \n\n\n\nShowings on 2nd and 4th Saturdays or “For Virgins” nights are not Cabaret shows and do not qualify for this program.
URL:https://cstpdx.com/event/the-rocky-horror-picture-show-with-the-clinton-street-cabaret-87/
CATEGORIES:drag
ATTACH;FMTTYPE=image/jpeg:https://cstpdx.com/wp-content/uploads/2022/05/rockyhorror.jpeg
END:VEVENT
END:VCALENDAR