BEGIN:VCALENDAR
VERSION:2.0
PRODID:-//Clinton Street Theater - ECPv6.15.20//NONSGML v1.0//EN
CALSCALE:GREGORIAN
METHOD:PUBLISH
X-WR-CALNAME:Clinton Street Theater
X-ORIGINAL-URL:https://cstpdx.com
X-WR-CALDESC:Events for Clinton Street Theater
REFRESH-INTERVAL;VALUE=DURATION:PT1H
X-Robots-Tag:noindex
X-PUBLISHED-TTL:PT1H
BEGIN:VTIMEZONE
TZID:America/Los_Angeles
BEGIN:DAYLIGHT
TZOFFSETFROM:-0800
TZOFFSETTO:-0700
TZNAME:PDT
DTSTART:20250309T100000
END:DAYLIGHT
BEGIN:STANDARD
TZOFFSETFROM:-0700
TZOFFSETTO:-0800
TZNAME:PST
DTSTART:20251102T090000
END:STANDARD
BEGIN:DAYLIGHT
TZOFFSETFROM:-0800
TZOFFSETTO:-0700
TZNAME:PDT
DTSTART:20260308T100000
END:DAYLIGHT
BEGIN:STANDARD
TZOFFSETFROM:-0700
TZOFFSETTO:-0800
TZNAME:PST
DTSTART:20261101T090000
END:STANDARD
BEGIN:DAYLIGHT
TZOFFSETFROM:-0800
TZOFFSETTO:-0700
TZNAME:PDT
DTSTART:20270314T100000
END:DAYLIGHT
BEGIN:STANDARD
TZOFFSETFROM:-0700
TZOFFSETTO:-0800
TZNAME:PST
DTSTART:20271107T090000
END:STANDARD
END:VTIMEZONE
BEGIN:VEVENT
DTSTART;TZID=America/Los_Angeles:20260414T190000
DTEND;TZID=America/Los_Angeles:20260414T210000
DTSTAMP:20260422T185745
CREATED:20260221T213458Z
LAST-MODIFIED:20260221T213612Z
UID:10002205-1776193200-1776200400@cstpdx.com
SUMMARY:The Tragedy of Man
DESCRIPTION:More than 20 years in the making\, the sprawling\, kaleidoscopic masterwork from iconic Hungarian animator Marcell Jankovics (Son of the White Mare) is a seemingly-endless animated scroll of gorgon-like demons\, barbarian warriors\, bejeweled pharaohs\, knights and martyrs and prophets all bleeding together into one brutal age passing like pages in a flipbook.  \n\n\n\nBroken into many chapters\, which were produced one at a time as Jankovics could cobble together funding\, each section has a different visual style\, it is a mind-blowing tapestry of world art\, cultures\, symbols and rituals that demands to be seen on the big screen. \n\n\n\n    \n        Director: Marcell Jankovics\n        Year: 2011\n        Country: Hungary\n        Runtime: 160 minutes
URL:https://cstpdx.com/event/the-tragedy-of-man/
CATEGORIES:animation
ATTACH;FMTTYPE=image/jpeg:https://cstpdx.com/wp-content/uploads/2026/02/the-tragedy-of-man-216844.jpg
END:VEVENT
END:VCALENDAR