BEGIN:VCALENDAR
VERSION:2.0
PRODID:-//Clinton Street Theater - ECPv6.15.20//NONSGML v1.0//EN
CALSCALE:GREGORIAN
METHOD:PUBLISH
X-ORIGINAL-URL:https://cstpdx.com
X-WR-CALDESC:Events for Clinton Street Theater
REFRESH-INTERVAL;VALUE=DURATION:PT1H
X-Robots-Tag:noindex
X-PUBLISHED-TTL:PT1H
BEGIN:VTIMEZONE
TZID:America/Los_Angeles
BEGIN:DAYLIGHT
TZOFFSETFROM:-0800
TZOFFSETTO:-0700
TZNAME:PDT
DTSTART:20250309T100000
END:DAYLIGHT
BEGIN:STANDARD
TZOFFSETFROM:-0700
TZOFFSETTO:-0800
TZNAME:PST
DTSTART:20251102T090000
END:STANDARD
BEGIN:DAYLIGHT
TZOFFSETFROM:-0800
TZOFFSETTO:-0700
TZNAME:PDT
DTSTART:20260308T100000
END:DAYLIGHT
BEGIN:STANDARD
TZOFFSETFROM:-0700
TZOFFSETTO:-0800
TZNAME:PST
DTSTART:20261101T090000
END:STANDARD
BEGIN:DAYLIGHT
TZOFFSETFROM:-0800
TZOFFSETTO:-0700
TZNAME:PDT
DTSTART:20270314T100000
END:DAYLIGHT
BEGIN:STANDARD
TZOFFSETFROM:-0700
TZOFFSETTO:-0800
TZNAME:PST
DTSTART:20271107T090000
END:STANDARD
END:VTIMEZONE
BEGIN:VEVENT
DTSTART;TZID=America/Los_Angeles:20260413T190000
DTEND;TZID=America/Los_Angeles:20260413T210000
DTSTAMP:20260422T184420
CREATED:20260221T213200Z
LAST-MODIFIED:20260221T213201Z
UID:10002204-1776106800-1776114000@cstpdx.com
SUMMARY:The Bloody Lady
DESCRIPTION:Lady Elisabeth Báthory lives a charmed life in a resplendent Romanesque castle\, surrounded by Disney-esque wildlife and a colorful cast of obliging servants. Taking ill one day while traveling through the forest\, she’s nursed back to health by a handsome woodsman\, and in gratitude gifts him with her own heart. But upon returning home\, Lady Báthory’s sunny disposition quickly turns murderous and vampiric once she discovers the secret to heart-less eternal youth lies in draining the blood of all the young women and men in her castle. \n\n\n\nWidely considered one of Slovak animation’s crown jewels\, director Viktor Kubal’s film is an improbable and bewitching fusion of gothic horror and classic children’s animation\, retelling the infamous Čachtická castle and Báthory folk tale which is often cited as the inspiration for Bram Stoker’s Dracula.  \n\n\n\nRecently treated to haunting live score by celebrated indie musician claire rousay\, this underseen gem is a new cult classic in the making.  \n\n\n\nRestoration courtesy of the Slovak Film Institute. \n\n\n\n    \n        Director: Viktor Kubal\n        Year: 1980\n        Country: Czechoslovakia\n        Runtime: 77 minutes
URL:https://cstpdx.com/event/the-bloody-lady/
CATEGORIES:animation
ATTACH;FMTTYPE=image/jpeg:https://cstpdx.com/wp-content/uploads/2026/02/the_bloody_lady_poster-arbelos-films.jpg
END:VEVENT
END:VCALENDAR