BEGIN:VCALENDAR
VERSION:2.0
PRODID:-//Clinton Street Theater - ECPv6.15.20//NONSGML v1.0//EN
CALSCALE:GREGORIAN
METHOD:PUBLISH
X-WR-CALNAME:Clinton Street Theater
X-ORIGINAL-URL:https://cstpdx.com
X-WR-CALDESC:Events for Clinton Street Theater
REFRESH-INTERVAL;VALUE=DURATION:PT1H
X-Robots-Tag:noindex
X-PUBLISHED-TTL:PT1H
BEGIN:VTIMEZONE
TZID:America/Los_Angeles
BEGIN:DAYLIGHT
TZOFFSETFROM:-0800
TZOFFSETTO:-0700
TZNAME:PDT
DTSTART:20250309T100000
END:DAYLIGHT
BEGIN:STANDARD
TZOFFSETFROM:-0700
TZOFFSETTO:-0800
TZNAME:PST
DTSTART:20251102T090000
END:STANDARD
BEGIN:DAYLIGHT
TZOFFSETFROM:-0800
TZOFFSETTO:-0700
TZNAME:PDT
DTSTART:20260308T100000
END:DAYLIGHT
BEGIN:STANDARD
TZOFFSETFROM:-0700
TZOFFSETTO:-0800
TZNAME:PST
DTSTART:20261101T090000
END:STANDARD
BEGIN:DAYLIGHT
TZOFFSETFROM:-0800
TZOFFSETTO:-0700
TZNAME:PDT
DTSTART:20270314T100000
END:DAYLIGHT
BEGIN:STANDARD
TZOFFSETFROM:-0700
TZOFFSETTO:-0800
TZNAME:PST
DTSTART:20271107T090000
END:STANDARD
END:VTIMEZONE
BEGIN:VEVENT
DTSTART;TZID=America/Los_Angeles:20260411T110000
DTEND;TZID=America/Los_Angeles:20260411T130000
DTSTAMP:20260422T184702
CREATED:20260310T203006Z
LAST-MODIFIED:20260314T171351Z
UID:10002234-1775905200-1775912400@cstpdx.com
SUMMARY:Portland Panorama: Kinobu: Food\, Tradition\, and Identity
DESCRIPTION:Takuji Takahashi\, a third-generation chef-owner of Kinobu\, honors the deep roots of Japanese cuisine while boldly reimagining its future. A practitioner of Noh theater for over 20 years\, Takahashi brings its disciplined intensity and calm precision into his high-pressure kitchen\, crafting dishes that are as delicate as they are inventive. As a trained sommelier\, he also collaborates with a Japanese winemaker to develop wines that pair seamlessly with his cuisine. \n\n\n\n \n\n\n\nPart of the Portland Panorama Film Festival! \n\n\n\n    \n        Director: Chikara Motomura\n        Year: 2025\n        Country: Japan\n        Runtime: 83 minutes
URL:https://cstpdx.com/event/portland-panorama-film-festival-kinobu-food-tradition-and-identity/
CATEGORIES:documentary
ATTACH;FMTTYPE=image/jpeg:https://cstpdx.com/wp-content/uploads/2026/03/kinobu-scaled.jpg
END:VEVENT
BEGIN:VEVENT
DTSTART;TZID=America/Los_Angeles:20260411T160000
DTEND;TZID=America/Los_Angeles:20260411T180000
DTSTAMP:20260422T184702
CREATED:20260215T011026Z
LAST-MODIFIED:20260215T011027Z
UID:10002193-1775923200-1775930400@cstpdx.com
SUMMARY:Tag! Queer Shorts Festival: The Heaven Spot
DESCRIPTION:Part of the TAG! Queer Shorts Festival! Festival passes available. \n\n\n\n\n\n\n\n\n\n\nA “heaven spot” in graffiti terms is a prime\, high-impact canvas—hard to reach but highly visible once you do. This block’s films are centered on queer spaces and how we inhabit them with an emphasis on how LGBTQ2S+ show up for each other. Here we include some unflinching takes on the darker end of the spectrum where the rainbows don’t shine as brightly. \n\n\n\nFilms in this block: \n\n\n\n\nOne Story at a Time: Celeste Lecesne \n\n\n\nIntercambio \n\n\n\nPart of the Band \n\n\n\nSorority \n\n\n\nSeamos mejores \n\n\n\nExploitation \n\n\n\nBig Bass \n\n\n\nJoshua Tree (Part 2)
URL:https://cstpdx.com/event/tag-queer-shorts-festival-the-heaven-spot/
CATEGORIES:festival
ATTACH;FMTTYPE=image/jpeg:https://cstpdx.com/wp-content/uploads/2026/02/1-Heaven-Spot.jpeg
END:VEVENT
BEGIN:VEVENT
DTSTART;TZID=America/Los_Angeles:20260411T190000
DTEND;TZID=America/Los_Angeles:20260411T210000
DTSTAMP:20260422T184702
CREATED:20260215T011102Z
LAST-MODIFIED:20260215T011102Z
UID:10002194-1775934000-1775941200@cstpdx.com
SUMMARY:Tag! Queer Shorts Festival: Get Up\, Get Off
DESCRIPTION:Part of the TAG! Queer Shorts Festival! Festival passes available. \n\n\n\n\n\n\n\n\n\n21+ \n\n\n\n\nThe most popular block from the festival’s Corvallis years returns with a mix of erotic and pornographic shorts that explore queer sex in a framework of body positivity and consent—think HUMP with longer\, sometimes more nuanced films and no cishet scenes. Some films feature non-simulated intercourse and other sexual activity; no minors permitted. 21+ only! \n\n\n\nFilms in this block: \n\n\n\n\nBackseat\n\n\n\nIt’s My Party and I’ll Cum if You Let Me\n\n\n\nSex Siren\n\n\n\nNo Man Like Me\n\n\n\nDaddylove\n\n\n\nEl bosque me habló sobre ti\n\n\n\nNot Exactly Strangers\n\n\n\nMeet the Camera\n\n\n\nCrashPadSeries: J London & Johnny Castro
URL:https://cstpdx.com/event/tag-queer-shorts-festival-get-up-get-off/
CATEGORIES:festival
ATTACH;FMTTYPE=image/jpeg:https://cstpdx.com/wp-content/uploads/2026/02/2-Get-Up-Get-Off.jpeg
END:VEVENT
BEGIN:VEVENT
DTSTART;TZID=America/Los_Angeles:20260411T230000
DTEND;TZID=America/Los_Angeles:20260411T235900
DTSTAMP:20260422T184702
CREATED:20260226T003049Z
LAST-MODIFIED:20260226T003050Z
UID:10002219-1775948400-1775951940@cstpdx.com
SUMMARY:The Rocky Horror Picture Show with Sinophelia
DESCRIPTION:Come watch our intimate\, scaled-back screening of the ultimate cult movie that has played weekly at the Clinton Street Theater since 1978 with everyone’s ancient royal vampire\, Thee Countess Sinophelia! \n\n\n\nEnjoy the legendary “bad” movie with props and callbacks\, but without all the theatrics of a shadow cast on stage. Perfect for first and old timers. If you love the film on its own\, these screenings are an opportunity to watch the film with less visual interruption. \n\n\n\n*Please note this screening does not include a performance or shadow cast of the Clinton Street Cabaret.* \n\n\n\n\nDirector: Jim Sharman\n\n\n\nCountry: USA\n\n\n\nYear: 1975\n\n\n\nRuntime: 100 minutes
URL:https://cstpdx.com/event/the-rocky-horror-picture-show-with-sinophelia-16/
CATEGORIES:drag
ATTACH;FMTTYPE=image/webp:https://cstpdx.com/wp-content/uploads/2023/07/rhps-virgins.webp
END:VEVENT
END:VCALENDAR