BEGIN:VCALENDAR
VERSION:2.0
PRODID:-//Clinton Street Theater - ECPv6.15.20//NONSGML v1.0//EN
CALSCALE:GREGORIAN
METHOD:PUBLISH
X-WR-CALNAME:Clinton Street Theater
X-ORIGINAL-URL:https://cstpdx.com
X-WR-CALDESC:Events for Clinton Street Theater
REFRESH-INTERVAL;VALUE=DURATION:PT1H
X-Robots-Tag:noindex
X-PUBLISHED-TTL:PT1H
BEGIN:VTIMEZONE
TZID:America/Los_Angeles
BEGIN:DAYLIGHT
TZOFFSETFROM:-0800
TZOFFSETTO:-0700
TZNAME:PDT
DTSTART:20250309T100000
END:DAYLIGHT
BEGIN:STANDARD
TZOFFSETFROM:-0700
TZOFFSETTO:-0800
TZNAME:PST
DTSTART:20251102T090000
END:STANDARD
BEGIN:DAYLIGHT
TZOFFSETFROM:-0800
TZOFFSETTO:-0700
TZNAME:PDT
DTSTART:20260308T100000
END:DAYLIGHT
BEGIN:STANDARD
TZOFFSETFROM:-0700
TZOFFSETTO:-0800
TZNAME:PST
DTSTART:20261101T090000
END:STANDARD
BEGIN:DAYLIGHT
TZOFFSETFROM:-0800
TZOFFSETTO:-0700
TZNAME:PDT
DTSTART:20270314T100000
END:DAYLIGHT
BEGIN:STANDARD
TZOFFSETFROM:-0700
TZOFFSETTO:-0800
TZNAME:PST
DTSTART:20271107T090000
END:STANDARD
END:VTIMEZONE
BEGIN:VEVENT
DTSTART;TZID=America/Los_Angeles:20260410T190000
DTEND;TZID=America/Los_Angeles:20260410T220000
DTSTAMP:20260422T184210
CREATED:20260131T211110Z
LAST-MODIFIED:20260131T211111Z
UID:10002184-1775847600-1775858400@cstpdx.com
SUMMARY:THAT’S CAMP! Vol. 4
DESCRIPTION:18+ \n\n\n\nDoors at 6pm\, show at 7pm. \n\n\n\n\nTHAT’S CAMP! Vol. 4 is coming in fresh & fierce at the Clinton Street Theater on Friday\, April 10th at 7pm! Struggling to feel satiated? Drag delusion got you down? Ry Bred and Tomboy will make sure you are fed! Our regional managers are here to ensure Quality Slays for these End of Days: Angel Darko\, Clare Apparently\, Dria Dore\, Given Q. Davis\, Kimberly Michelle Westwood\, Mona Chrome\, Pepper Pepper\, and Shandi Evans. Clean up on Aisle 69! Tickets are ON SALE NOW at only $18 at cstpdx.com and wherever Camp is sold. Would you like to sign up for our Gay Rewards Card? Paper or Plastic? Thank you for shopping at That’s Camp! Have a Nice Slay!
URL:https://cstpdx.com/event/thats-camp-vol-4/
CATEGORIES:drag
ATTACH;FMTTYPE=image/jpeg:https://cstpdx.com/wp-content/uploads/2026/01/IMG_2922-scaled.jpeg
END:VEVENT
END:VCALENDAR