BEGIN:VCALENDAR
VERSION:2.0
PRODID:-//Clinton Street Theater - ECPv6.15.20//NONSGML v1.0//EN
CALSCALE:GREGORIAN
METHOD:PUBLISH
X-WR-CALNAME:Clinton Street Theater
X-ORIGINAL-URL:https://cstpdx.com
X-WR-CALDESC:Events for Clinton Street Theater
REFRESH-INTERVAL;VALUE=DURATION:PT1H
X-Robots-Tag:noindex
X-PUBLISHED-TTL:PT1H
BEGIN:VTIMEZONE
TZID:America/Los_Angeles
BEGIN:DAYLIGHT
TZOFFSETFROM:-0800
TZOFFSETTO:-0700
TZNAME:PDT
DTSTART:20250309T100000
END:DAYLIGHT
BEGIN:STANDARD
TZOFFSETFROM:-0700
TZOFFSETTO:-0800
TZNAME:PST
DTSTART:20251102T090000
END:STANDARD
BEGIN:DAYLIGHT
TZOFFSETFROM:-0800
TZOFFSETTO:-0700
TZNAME:PDT
DTSTART:20260308T100000
END:DAYLIGHT
BEGIN:STANDARD
TZOFFSETFROM:-0700
TZOFFSETTO:-0800
TZNAME:PST
DTSTART:20261101T090000
END:STANDARD
BEGIN:DAYLIGHT
TZOFFSETFROM:-0800
TZOFFSETTO:-0700
TZNAME:PDT
DTSTART:20270314T100000
END:DAYLIGHT
BEGIN:STANDARD
TZOFFSETFROM:-0700
TZOFFSETTO:-0800
TZNAME:PST
DTSTART:20271107T090000
END:STANDARD
END:VTIMEZONE
BEGIN:VEVENT
DTSTART;TZID=America/Los_Angeles:20260405T140000
DTEND;TZID=America/Los_Angeles:20260405T210000
DTSTAMP:20260422T184210
CREATED:20260202T032032Z
LAST-MODIFIED:20260218T232721Z
UID:10002185-1775397600-1775422800@cstpdx.com
SUMMARY:Twin Peaks Season 1: Episodes 1\, 2\, 3
DESCRIPTION:Joins us for the complete Twin Peaks series on the big screen for the first time in history! We start our year-long celebration of the greatest TV show of all time with the extended pilot “Northwest Passage\,” episode two “Traces to Nowhere\,” and episode three “Zen\, or the Skill to Catch a Killer.” \n\n\n\nPrizes\, surprises\, and breaks in between episodes so you can refuel.
URL:https://cstpdx.com/event/twin-peaks-season-1-episodes-1-2-3/
ATTACH;FMTTYPE=image/jpeg:https://cstpdx.com/wp-content/uploads/2026/02/twinpeaks.jpeg
END:VEVENT
END:VCALENDAR