BEGIN:VCALENDAR
VERSION:2.0
PRODID:-//Clinton Street Theater - ECPv6.15.20//NONSGML v1.0//EN
CALSCALE:GREGORIAN
METHOD:PUBLISH
X-WR-CALNAME:Clinton Street Theater
X-ORIGINAL-URL:https://cstpdx.com
X-WR-CALDESC:Events for Clinton Street Theater
REFRESH-INTERVAL;VALUE=DURATION:PT1H
X-Robots-Tag:noindex
X-PUBLISHED-TTL:PT1H
BEGIN:VTIMEZONE
TZID:America/Los_Angeles
BEGIN:DAYLIGHT
TZOFFSETFROM:-0800
TZOFFSETTO:-0700
TZNAME:PDT
DTSTART:20250309T100000
END:DAYLIGHT
BEGIN:STANDARD
TZOFFSETFROM:-0700
TZOFFSETTO:-0800
TZNAME:PST
DTSTART:20251102T090000
END:STANDARD
BEGIN:DAYLIGHT
TZOFFSETFROM:-0800
TZOFFSETTO:-0700
TZNAME:PDT
DTSTART:20260308T100000
END:DAYLIGHT
BEGIN:STANDARD
TZOFFSETFROM:-0700
TZOFFSETTO:-0800
TZNAME:PST
DTSTART:20261101T090000
END:STANDARD
BEGIN:DAYLIGHT
TZOFFSETFROM:-0800
TZOFFSETTO:-0700
TZNAME:PDT
DTSTART:20270314T100000
END:DAYLIGHT
BEGIN:STANDARD
TZOFFSETFROM:-0700
TZOFFSETTO:-0800
TZNAME:PST
DTSTART:20271107T090000
END:STANDARD
END:VTIMEZONE
BEGIN:VEVENT
DTSTART;TZID=America/Los_Angeles:20260331T190000
DTEND;TZID=America/Los_Angeles:20260331T210000
DTSTAMP:20260422T184204
CREATED:20260107T203528Z
LAST-MODIFIED:20260325T155018Z
UID:10002146-1774983600-1774990800@cstpdx.com
SUMMARY:The Portland EcoFilm Festival presents: Cradled by the Earth
DESCRIPTION:USA Premiere of an intimate and often uplifting look at childhood via the traditions of four Indigenous peoples\, this evocative documentary transports us to the Amazon where we commune with the Guarani Kaiowá\, Guarani Ñandeva\, Baniwa\, and Khisêtjê. \n\n\n\nImmersed in their daily lives\, the film highlights traditional knowledge and the ways it is passed on to children through play and ceremony. For each of these peoples\, nature is alive and inhabited by many souls. At the forefront of this world are the children\, who\, as one Guarani Kaiowá elder says\, embody the continuity of life.Learn more about the Portland EcoFilm Festival at: portlandecofilmfest.org \n\n\n\n    \n        Director: Renata Meirelles\, David Vêluz\n        Year: 2025\n        Country: Brazil\n        Runtime: 85 minutes
URL:https://cstpdx.com/event/cradled-by-the-earth/
CATEGORIES:documentary
ATTACH;FMTTYPE=image/jpeg:https://cstpdx.com/wp-content/uploads/2026/01/Cradled-by-the-Earth.jpg
END:VEVENT
END:VCALENDAR