BEGIN:VCALENDAR
VERSION:2.0
PRODID:-//Clinton Street Theater - ECPv6.15.20//NONSGML v1.0//EN
CALSCALE:GREGORIAN
METHOD:PUBLISH
X-ORIGINAL-URL:https://cstpdx.com
X-WR-CALDESC:Events for Clinton Street Theater
REFRESH-INTERVAL;VALUE=DURATION:PT1H
X-Robots-Tag:noindex
X-PUBLISHED-TTL:PT1H
BEGIN:VTIMEZONE
TZID:America/Los_Angeles
BEGIN:DAYLIGHT
TZOFFSETFROM:-0800
TZOFFSETTO:-0700
TZNAME:PDT
DTSTART:20250309T100000
END:DAYLIGHT
BEGIN:STANDARD
TZOFFSETFROM:-0700
TZOFFSETTO:-0800
TZNAME:PST
DTSTART:20251102T090000
END:STANDARD
BEGIN:DAYLIGHT
TZOFFSETFROM:-0800
TZOFFSETTO:-0700
TZNAME:PDT
DTSTART:20260308T100000
END:DAYLIGHT
BEGIN:STANDARD
TZOFFSETFROM:-0700
TZOFFSETTO:-0800
TZNAME:PST
DTSTART:20261101T090000
END:STANDARD
BEGIN:DAYLIGHT
TZOFFSETFROM:-0800
TZOFFSETTO:-0700
TZNAME:PDT
DTSTART:20270314T100000
END:DAYLIGHT
BEGIN:STANDARD
TZOFFSETFROM:-0700
TZOFFSETTO:-0800
TZNAME:PST
DTSTART:20271107T090000
END:STANDARD
END:VTIMEZONE
BEGIN:VEVENT
DTSTART;TZID=America/Los_Angeles:20260327T200000
DTEND;TZID=America/Los_Angeles:20260327T220000
DTSTAMP:20260422T203453
CREATED:20260126T005632Z
LAST-MODIFIED:20260126T005639Z
UID:10002175-1774641600-1774648800@cstpdx.com
SUMMARY:Star Trek: The Next Generation Drag
DESCRIPTION:21+ \n\n\n\n\n\n\nCult of! Presents Generation Next! A Star Trek: The Next Generation Themed Drag & Burlesque Show. \n\n\n\nQ has once again kidnapped the Enterprise crew and they must performer acts of Drag & Burlesque to get out. A Scripted night that leads into all the acts based on your favorite TNG characters. \n\n\n\nDoors at 7:00 PM; show at 8:00 PM. Open seating. 21+ only.
URL:https://cstpdx.com/event/star-trek-the-next-generation-drag/
CATEGORIES:drag
ATTACH;FMTTYPE=image/jpeg:https://cstpdx.com/wp-content/uploads/2026/01/Star-Trek-Drag.jpeg
END:VEVENT
END:VCALENDAR