BEGIN:VCALENDAR
VERSION:2.0
PRODID:-//Clinton Street Theater - ECPv6.15.20//NONSGML v1.0//EN
CALSCALE:GREGORIAN
METHOD:PUBLISH
X-WR-CALNAME:Clinton Street Theater
X-ORIGINAL-URL:https://cstpdx.com
X-WR-CALDESC:Events for Clinton Street Theater
REFRESH-INTERVAL;VALUE=DURATION:PT1H
X-Robots-Tag:noindex
X-PUBLISHED-TTL:PT1H
BEGIN:VTIMEZONE
TZID:America/Los_Angeles
BEGIN:DAYLIGHT
TZOFFSETFROM:-0800
TZOFFSETTO:-0700
TZNAME:PDT
DTSTART:20250309T100000
END:DAYLIGHT
BEGIN:STANDARD
TZOFFSETFROM:-0700
TZOFFSETTO:-0800
TZNAME:PST
DTSTART:20251102T090000
END:STANDARD
BEGIN:DAYLIGHT
TZOFFSETFROM:-0800
TZOFFSETTO:-0700
TZNAME:PDT
DTSTART:20260308T100000
END:DAYLIGHT
BEGIN:STANDARD
TZOFFSETFROM:-0700
TZOFFSETTO:-0800
TZNAME:PST
DTSTART:20261101T090000
END:STANDARD
BEGIN:DAYLIGHT
TZOFFSETFROM:-0800
TZOFFSETTO:-0700
TZNAME:PDT
DTSTART:20270314T100000
END:DAYLIGHT
BEGIN:STANDARD
TZOFFSETFROM:-0700
TZOFFSETTO:-0800
TZNAME:PST
DTSTART:20271107T090000
END:STANDARD
END:VTIMEZONE
BEGIN:VEVENT
DTSTART;TZID=America/Los_Angeles:20260227T190000
DTEND;TZID=America/Los_Angeles:20260227T210000
DTSTAMP:20260423T000137
CREATED:20260130T181550Z
LAST-MODIFIED:20260209T041202Z
UID:10002180-1772218800-1772226000@cstpdx.com
SUMMARY:Daughters of the Dust
DESCRIPTION:This film is funded in part by the Regional Arts & Culture Council and the Office of Arts & Culture. \n\n\n\nA languid\, impressionistic story of three generations of Gullah women living on the South Carolina Sea Islands in 1902. \n\n\n\nThe first feature film directed by an African-American woman to receive a theatrical release in the United States\, Julie Dash’s feature debut was financed by PBS and later selected for preservation in the United States National Film Registry by the Library of Congress. Universally hailed\, it is considered one of Sight & Sound’s Greatest Films of All Time. \n\n\n\n    \n        Director: Julie Dash\n        Year: 1991\n        Country: United States\n        Runtime: 112 minutes
URL:https://cstpdx.com/event/daughters-of-the-dust/
CATEGORIES:bhm
ATTACH;FMTTYPE=image/jpeg:https://cstpdx.com/wp-content/uploads/2026/01/daughters_of_the_dust-380654221-large.jpg
END:VEVENT
END:VCALENDAR