BEGIN:VCALENDAR
VERSION:2.0
PRODID:-//Clinton Street Theater - ECPv6.15.20//NONSGML v1.0//EN
CALSCALE:GREGORIAN
METHOD:PUBLISH
X-ORIGINAL-URL:https://cstpdx.com
X-WR-CALDESC:Events for Clinton Street Theater
REFRESH-INTERVAL;VALUE=DURATION:PT1H
X-Robots-Tag:noindex
X-PUBLISHED-TTL:PT1H
BEGIN:VTIMEZONE
TZID:America/Los_Angeles
BEGIN:DAYLIGHT
TZOFFSETFROM:-0800
TZOFFSETTO:-0700
TZNAME:PDT
DTSTART:20250309T100000
END:DAYLIGHT
BEGIN:STANDARD
TZOFFSETFROM:-0700
TZOFFSETTO:-0800
TZNAME:PST
DTSTART:20251102T090000
END:STANDARD
BEGIN:DAYLIGHT
TZOFFSETFROM:-0800
TZOFFSETTO:-0700
TZNAME:PDT
DTSTART:20260308T100000
END:DAYLIGHT
BEGIN:STANDARD
TZOFFSETFROM:-0700
TZOFFSETTO:-0800
TZNAME:PST
DTSTART:20261101T090000
END:STANDARD
BEGIN:DAYLIGHT
TZOFFSETFROM:-0800
TZOFFSETTO:-0700
TZNAME:PDT
DTSTART:20270314T100000
END:DAYLIGHT
BEGIN:STANDARD
TZOFFSETFROM:-0700
TZOFFSETTO:-0800
TZNAME:PST
DTSTART:20271107T090000
END:STANDARD
END:VTIMEZONE
BEGIN:VEVENT
DTSTART;TZID=America/Los_Angeles:20260226T190000
DTEND;TZID=America/Los_Angeles:20260226T210000
DTSTAMP:20260423T014955
CREATED:20260208T001942Z
LAST-MODIFIED:20260208T002008Z
UID:10002189-1772132400-1772139600@cstpdx.com
SUMMARY:To Catch a Fascist with Christopher Mathias
DESCRIPTION:The Oregon Justice Resource Center is bringing Christopher Mathias to Portland for an evening in conversation with local journalist and author Leah Sottile (Blazing Eye Sees All; When the Moon Turns to Blood.) Join us to learn more about how anti-fascists unmask hate at great personal risk and what we can learn at a time of rising authoritarianism about how to confront and confound fascism in our communities and our government. Signed copies of To Catch a Fascist will be on sale at the event courtesy of our partners Broadway Books. \n\n\n\nThis event is sponsored by Western States Center.More information at OJRC.
URL:https://cstpdx.com/event/to-catch-a-fascist-with-christopher-mathias/
CATEGORIES:discussion
ATTACH;FMTTYPE=image/jpeg:https://cstpdx.com/wp-content/uploads/2026/02/to-catch-a-fascist-9781668034767_xlg.jpg
END:VEVENT
END:VCALENDAR