BEGIN:VCALENDAR
VERSION:2.0
PRODID:-//Clinton Street Theater - ECPv6.15.20//NONSGML v1.0//EN
CALSCALE:GREGORIAN
METHOD:PUBLISH
X-ORIGINAL-URL:https://cstpdx.com
X-WR-CALDESC:Events for Clinton Street Theater
REFRESH-INTERVAL;VALUE=DURATION:PT1H
X-Robots-Tag:noindex
X-PUBLISHED-TTL:PT1H
BEGIN:VTIMEZONE
TZID:America/Los_Angeles
BEGIN:DAYLIGHT
TZOFFSETFROM:-0800
TZOFFSETTO:-0700
TZNAME:PDT
DTSTART:20250309T100000
END:DAYLIGHT
BEGIN:STANDARD
TZOFFSETFROM:-0700
TZOFFSETTO:-0800
TZNAME:PST
DTSTART:20251102T090000
END:STANDARD
BEGIN:DAYLIGHT
TZOFFSETFROM:-0800
TZOFFSETTO:-0700
TZNAME:PDT
DTSTART:20260308T100000
END:DAYLIGHT
BEGIN:STANDARD
TZOFFSETFROM:-0700
TZOFFSETTO:-0800
TZNAME:PST
DTSTART:20261101T090000
END:STANDARD
BEGIN:DAYLIGHT
TZOFFSETFROM:-0800
TZOFFSETTO:-0700
TZNAME:PDT
DTSTART:20270314T100000
END:DAYLIGHT
BEGIN:STANDARD
TZOFFSETFROM:-0700
TZOFFSETTO:-0800
TZNAME:PST
DTSTART:20271107T090000
END:STANDARD
END:VTIMEZONE
BEGIN:VEVENT
DTSTART;TZID=America/Los_Angeles:20260222T130000
DTEND;TZID=America/Los_Angeles:20260222T153000
DTSTAMP:20260423T063444
CREATED:20260121T223331Z
LAST-MODIFIED:20260121T223332Z
UID:10002164-1771765200-1771774200@cstpdx.com
SUMMARY:Rescued Hearts
DESCRIPTION:Presented by On Golden Rescue\, this powerful new documentary uncovers the miracles\, mystery\, and science of healing with horses. Inspired by a life-changing moment when a 7-year-old child diagnosed with autism spoke his first words while interacting with a horse\, filmmakers Dana Croschere and Krisanna Sexton set out to explore the profound and often miraculous connection between horses and humans.
URL:https://cstpdx.com/event/rescued-hearts/
CATEGORIES:documentary
ATTACH;FMTTYPE=image/png:https://cstpdx.com/wp-content/uploads/2026/01/Rescued-Hearts-1.png
END:VEVENT
BEGIN:VEVENT
DTSTART;TZID=America/Los_Angeles:20260222T180000
DTEND;TZID=America/Los_Angeles:20260222T210000
DTSTAMP:20260423T063444
CREATED:20260214T161109Z
LAST-MODIFIED:20260214T161238Z
UID:10002190-1771783200-1771794000@cstpdx.com
SUMMARY:Melange: A Queer and P.O.C. Variety Show
DESCRIPTION:21+ \n\n\n\n\nCome celebrate Black history month with some classic melange ass shaking! Uplifting the bootyful Black Community in the Pacific Northwest is the perfect way to celebrate Black History Month with us here at Melange. With an incredible lineup of talents\, electric hosting\, and an unforgettable raffle\, this is not an experience you want to miss! \n\n\n\nHosted by:  \n\n\n\n\nDestiny Smokez\n\n\n\n\nActs From: \n\n\n\n\nBeeBee Sanchez\n\n\n\nSolangerie \n\n\n\nRisqué & Rye\n\n\n\nRob The 2nd\n\n\n\nViper\n\n\n\n\nCrew: \n\n\n\n\nMARQUI DE SADE\n\n\n\nMISS NICOLE\n\n\n\nED’ D BULL
URL:https://cstpdx.com/event/melange-a-queer-and-p-o-c-variety-show-4/
CATEGORIES:drag
ATTACH;FMTTYPE=image/jpeg:https://cstpdx.com/wp-content/uploads/2026/02/melange-february.jpg
END:VEVENT
END:VCALENDAR