BEGIN:VCALENDAR
VERSION:2.0
PRODID:-//Clinton Street Theater - ECPv6.15.20//NONSGML v1.0//EN
CALSCALE:GREGORIAN
METHOD:PUBLISH
X-ORIGINAL-URL:https://cstpdx.com
X-WR-CALDESC:Events for Clinton Street Theater
REFRESH-INTERVAL;VALUE=DURATION:PT1H
X-Robots-Tag:noindex
X-PUBLISHED-TTL:PT1H
BEGIN:VTIMEZONE
TZID:America/Los_Angeles
BEGIN:DAYLIGHT
TZOFFSETFROM:-0800
TZOFFSETTO:-0700
TZNAME:PDT
DTSTART:20250309T100000
END:DAYLIGHT
BEGIN:STANDARD
TZOFFSETFROM:-0700
TZOFFSETTO:-0800
TZNAME:PST
DTSTART:20251102T090000
END:STANDARD
BEGIN:DAYLIGHT
TZOFFSETFROM:-0800
TZOFFSETTO:-0700
TZNAME:PDT
DTSTART:20260308T100000
END:DAYLIGHT
BEGIN:STANDARD
TZOFFSETFROM:-0700
TZOFFSETTO:-0800
TZNAME:PST
DTSTART:20261101T090000
END:STANDARD
BEGIN:DAYLIGHT
TZOFFSETFROM:-0800
TZOFFSETTO:-0700
TZNAME:PDT
DTSTART:20270314T100000
END:DAYLIGHT
BEGIN:STANDARD
TZOFFSETFROM:-0700
TZOFFSETTO:-0800
TZNAME:PST
DTSTART:20271107T090000
END:STANDARD
END:VTIMEZONE
BEGIN:VEVENT
DTSTART;TZID=America/Los_Angeles:20260221T190000
DTEND;TZID=America/Los_Angeles:20260221T210000
DTSTAMP:20260423T063615
CREATED:20260130T175855Z
LAST-MODIFIED:20260209T041114Z
UID:10002179-1771700400-1771707600@cstpdx.com
SUMMARY:A Dry White Season
DESCRIPTION:This film is funded in part by the Regional Arts & Culture Council and the Office of Arts & Culture. \n\n\n\nA white middle class South African suburbanite (Donald Sutherland) with no interest in politics agrees to help his black gardener (Tony Award winner Winston Ntshona) find his jailed son. His investigation opens his eyes to the horrors committed by the secret police and turns him into a target.Director Euzhan Palcy became the first black female director to have a film produced by a major Hollywood studio. Palcy went undercover in Soweto to research the riots. With the help of Dr. Motlana (Nelson Mandela’s and Desmond Tutu’s personal physician)\, she eluded the South African secret services by posing as a recording artist and flew local actors to the U.K. under artist visas and then down to Zimbabwe for location shoots to get around South African travel bans. \n\n\n\nInitially censored by officials who said it could harm attempts at apartheid reform\, it became one of the largest and last films about apartheid before Mandela’s release from prison. \n\n\n\n    \n        Director: Euzhan Palcy\n        Year: 1989\n        Country: United States\, France\n        Runtime: 107 minutes
URL:https://cstpdx.com/event/a-dry-white-season/
CATEGORIES:bhm
ATTACH;FMTTYPE=image/jpeg:https://cstpdx.com/wp-content/uploads/2026/01/LH4CRLBKGMO52SNQGC7C5VSD.jpeg
END:VEVENT
BEGIN:VEVENT
DTSTART;TZID=America/Los_Angeles:20260221T223000
DTEND;TZID=America/Los_Angeles:20260221T235900
DTSTAMP:20260423T063615
CREATED:20251219T025653Z
LAST-MODIFIED:20251219T025654Z
UID:10002134-1771713000-1771718340@cstpdx.com
SUMMARY:The Rocky Horror Picture Show with the Clinton Street Cabaret
DESCRIPTION:Doors open at 10:00 PM; pre-show starts at 10:30 PM \n\n\n\nJoin our weekly screenings of The Rocky Horror Picture Show that started in April of 1978! Starring Tim Curry\, Susan Sarandon\, and Barry Bostwick\, The Rocky Horror Picture Show (1975) continues to titillate and delight audiences all over the world. \n\n\n\nTonight’s screening features the cast of the Clinton Street Cabaret! $2 from every ticket goes to support the group. Come see the famous\, rambunctious show that has played every single week at the Clinton Street Theater in Portland\, Oregon. \n\n\n\n\nDirector: Jim Sharman\n\n\n\nCountry: USA\n\n\n\nYear: 1975\n\n\n\nRuntime: 100 minutes\n\n\n\n\n\nStarting March 16th of 2024 the CSC will have a selection of tickets for each show which are available to our BIPOC community members FREE of charge! \n\n\n\nTo reserve one send an email to the Clinton Street Cabaret clintonstreetec@gmail.com with the heading BIPOC Affinity Ticket and include your name and the date of the show you would like to reserve a ticket for in the body of the email. Only 1 ticket can be reserved per person per show and reserved tickets also include a prop bag. These tickets can only be reserved by confirmed email with the Clinton Street Cabaret and are not available to reserve at the Clinton Street Theater box office. \n\n\n\nTickets can be reserved starting 2 weeks before a show and no later than 2 hours before the show. Please note we won’t be able to accommodate late requests for shows that are already sold out. These are tickets specifically for the Clinton Street Cabaret’s performances of the Rocky Horror Picture Show at the Clinton Street Theater\, on the 1st\, 3rd\, and occasionally 5th Saturdays of the month.  \n\n\n\nShowings on 2nd and 4th Saturdays or “For Virgins” nights are not Cabaret shows and do not qualify for this program.
URL:https://cstpdx.com/event/the-rocky-horror-picture-show-with-the-clinton-street-cabaret-81/
CATEGORIES:drag
ATTACH;FMTTYPE=image/jpeg:https://cstpdx.com/wp-content/uploads/2022/05/rockyhorror.jpeg
END:VEVENT
END:VCALENDAR