BEGIN:VCALENDAR
VERSION:2.0
PRODID:-//Clinton Street Theater - ECPv6.15.20//NONSGML v1.0//EN
CALSCALE:GREGORIAN
METHOD:PUBLISH
X-ORIGINAL-URL:https://cstpdx.com
X-WR-CALDESC:Events for Clinton Street Theater
REFRESH-INTERVAL;VALUE=DURATION:PT1H
X-Robots-Tag:noindex
X-PUBLISHED-TTL:PT1H
BEGIN:VTIMEZONE
TZID:America/Los_Angeles
BEGIN:DAYLIGHT
TZOFFSETFROM:-0800
TZOFFSETTO:-0700
TZNAME:PDT
DTSTART:20250309T100000
END:DAYLIGHT
BEGIN:STANDARD
TZOFFSETFROM:-0700
TZOFFSETTO:-0800
TZNAME:PST
DTSTART:20251102T090000
END:STANDARD
BEGIN:DAYLIGHT
TZOFFSETFROM:-0800
TZOFFSETTO:-0700
TZNAME:PDT
DTSTART:20260308T100000
END:DAYLIGHT
BEGIN:STANDARD
TZOFFSETFROM:-0700
TZOFFSETTO:-0800
TZNAME:PST
DTSTART:20261101T090000
END:STANDARD
BEGIN:DAYLIGHT
TZOFFSETFROM:-0800
TZOFFSETTO:-0700
TZNAME:PDT
DTSTART:20270314T100000
END:DAYLIGHT
BEGIN:STANDARD
TZOFFSETFROM:-0700
TZOFFSETTO:-0800
TZNAME:PST
DTSTART:20271107T090000
END:STANDARD
END:VTIMEZONE
BEGIN:VEVENT
DTSTART;TZID=America/Los_Angeles:20260219T190000
DTEND;TZID=America/Los_Angeles:20260219T210000
DTSTAMP:20260423T063601
CREATED:20260111T201215Z
LAST-MODIFIED:20260111T201216Z
UID:10002157-1771527600-1771534800@cstpdx.com
SUMMARY:The Best Man (1999)
DESCRIPTION:Just before his best friend’s wedding\, the life of a Chicago writer becomes crazy when his best friend guesses that his new book’s story is based on his bride’s fervent past. \n\n\n\n    \n        Director: Malcolm D. Lee\n        Year: 1999\n        Country: United States\n        Runtime: 120 minutes
URL:https://cstpdx.com/event/the-best-man-1999/
CATEGORIES:bhm
ATTACH;FMTTYPE=image/jpeg:https://cstpdx.com/wp-content/uploads/2026/01/the-best-man-poster.jpg
END:VEVENT
END:VCALENDAR