BEGIN:VCALENDAR
VERSION:2.0
PRODID:-//Clinton Street Theater - ECPv6.15.20//NONSGML v1.0//EN
CALSCALE:GREGORIAN
METHOD:PUBLISH
X-ORIGINAL-URL:https://cstpdx.com
X-WR-CALDESC:Events for Clinton Street Theater
REFRESH-INTERVAL;VALUE=DURATION:PT1H
X-Robots-Tag:noindex
X-PUBLISHED-TTL:PT1H
BEGIN:VTIMEZONE
TZID:America/Los_Angeles
BEGIN:DAYLIGHT
TZOFFSETFROM:-0800
TZOFFSETTO:-0700
TZNAME:PDT
DTSTART:20250309T100000
END:DAYLIGHT
BEGIN:STANDARD
TZOFFSETFROM:-0700
TZOFFSETTO:-0800
TZNAME:PST
DTSTART:20251102T090000
END:STANDARD
BEGIN:DAYLIGHT
TZOFFSETFROM:-0800
TZOFFSETTO:-0700
TZNAME:PDT
DTSTART:20260308T100000
END:DAYLIGHT
BEGIN:STANDARD
TZOFFSETFROM:-0700
TZOFFSETTO:-0800
TZNAME:PST
DTSTART:20261101T090000
END:STANDARD
BEGIN:DAYLIGHT
TZOFFSETFROM:-0800
TZOFFSETTO:-0700
TZNAME:PDT
DTSTART:20270314T100000
END:DAYLIGHT
BEGIN:STANDARD
TZOFFSETFROM:-0700
TZOFFSETTO:-0800
TZNAME:PST
DTSTART:20271107T090000
END:STANDARD
END:VTIMEZONE
BEGIN:VEVENT
DTSTART;TZID=America/Los_Angeles:20260216T190000
DTEND;TZID=America/Los_Angeles:20260216T210000
DTSTAMP:20260423T063554
CREATED:20251218T045209Z
LAST-MODIFIED:20260213T012150Z
UID:10002130-1771268400-1771275600@cstpdx.com
SUMMARY:Right in the Eye: Live Concert of Georges Méliès’ Films
DESCRIPTION:Right in the Eye is a live performance that combines music from pianist Jean-François Alcoléa and his trio with the early films of Georges Méliès (A Trip to the Moon\, The Impossible Voyage). On tour from France\, don’t miss this unique and spellbinding journey through the world of silent film with world-class musicians.
URL:https://cstpdx.com/event/right-in-the-eye-live-concert-of-georges-melies-films/
CATEGORIES:music
ATTACH;FMTTYPE=image/jpeg:https://cstpdx.com/wp-content/uploads/2025/12/Alcoleacie_Facebook_portrait.jpg
END:VEVENT
END:VCALENDAR