BEGIN:VCALENDAR
VERSION:2.0
PRODID:-//Clinton Street Theater - ECPv6.15.20//NONSGML v1.0//EN
CALSCALE:GREGORIAN
METHOD:PUBLISH
X-WR-CALNAME:Clinton Street Theater
X-ORIGINAL-URL:https://cstpdx.com
X-WR-CALDESC:Events for Clinton Street Theater
REFRESH-INTERVAL;VALUE=DURATION:PT1H
X-Robots-Tag:noindex
X-PUBLISHED-TTL:PT1H
BEGIN:VTIMEZONE
TZID:America/Los_Angeles
BEGIN:DAYLIGHT
TZOFFSETFROM:-0800
TZOFFSETTO:-0700
TZNAME:PDT
DTSTART:20250309T100000
END:DAYLIGHT
BEGIN:STANDARD
TZOFFSETFROM:-0700
TZOFFSETTO:-0800
TZNAME:PST
DTSTART:20251102T090000
END:STANDARD
BEGIN:DAYLIGHT
TZOFFSETFROM:-0800
TZOFFSETTO:-0700
TZNAME:PDT
DTSTART:20260308T100000
END:DAYLIGHT
BEGIN:STANDARD
TZOFFSETFROM:-0700
TZOFFSETTO:-0800
TZNAME:PST
DTSTART:20261101T090000
END:STANDARD
BEGIN:DAYLIGHT
TZOFFSETFROM:-0800
TZOFFSETTO:-0700
TZNAME:PDT
DTSTART:20270314T100000
END:DAYLIGHT
BEGIN:STANDARD
TZOFFSETFROM:-0700
TZOFFSETTO:-0800
TZNAME:PST
DTSTART:20271107T090000
END:STANDARD
END:VTIMEZONE
BEGIN:VEVENT
DTSTART;TZID=America/Los_Angeles:20260212T190000
DTEND;TZID=America/Los_Angeles:20260212T210000
DTSTAMP:20260423T063236
CREATED:20251126T221522Z
LAST-MODIFIED:20251130T180651Z
UID:10002102-1770922800-1770930000@cstpdx.com
SUMMARY:Richard Pryor: Live in Concert
DESCRIPTION:The first live stand-up comedy performance to be filmed as a theatrical release for the big screen\, recently remastered in a glorious 4K version! \n\n\n\nShot at the Terrace Theater in Long Beach\, California on December 10\, 1978\, the film was produced and distributed independently in 1979. In 2021\, the film was selected for preservation in the United States National Film Registry by the Library of Congress as being “culturally\, historically\, or aesthetically significant.” \n\n\n\nUniversally hailed by critics upon release\, it has been called “the single greatest stand-up performance ever captured on film.” \n\n\n\n    \n        Director: Jeff Margolis\n        Year: 1979\n        Country: United States\n        Runtime: 78 minutes
URL:https://cstpdx.com/event/richard-pryor-live-in-concert/
CATEGORIES:bhm
ATTACH;FMTTYPE=image/png:https://cstpdx.com/wp-content/uploads/2025/11/Richard-Pryor-Live-in-Concert-poster.png
END:VEVENT
END:VCALENDAR