BEGIN:VCALENDAR
VERSION:2.0
PRODID:-//Clinton Street Theater - ECPv6.15.20//NONSGML v1.0//EN
CALSCALE:GREGORIAN
METHOD:PUBLISH
X-WR-CALNAME:Clinton Street Theater
X-ORIGINAL-URL:https://cstpdx.com
X-WR-CALDESC:Events for Clinton Street Theater
REFRESH-INTERVAL;VALUE=DURATION:PT1H
X-Robots-Tag:noindex
X-PUBLISHED-TTL:PT1H
BEGIN:VTIMEZONE
TZID:America/Los_Angeles
BEGIN:DAYLIGHT
TZOFFSETFROM:-0800
TZOFFSETTO:-0700
TZNAME:PDT
DTSTART:20250309T100000
END:DAYLIGHT
BEGIN:STANDARD
TZOFFSETFROM:-0700
TZOFFSETTO:-0800
TZNAME:PST
DTSTART:20251102T090000
END:STANDARD
BEGIN:DAYLIGHT
TZOFFSETFROM:-0800
TZOFFSETTO:-0700
TZNAME:PDT
DTSTART:20260308T100000
END:DAYLIGHT
BEGIN:STANDARD
TZOFFSETFROM:-0700
TZOFFSETTO:-0800
TZNAME:PST
DTSTART:20261101T090000
END:STANDARD
BEGIN:DAYLIGHT
TZOFFSETFROM:-0800
TZOFFSETTO:-0700
TZNAME:PDT
DTSTART:20270314T100000
END:DAYLIGHT
BEGIN:STANDARD
TZOFFSETFROM:-0700
TZOFFSETTO:-0800
TZNAME:PST
DTSTART:20271107T090000
END:STANDARD
END:VTIMEZONE
BEGIN:VEVENT
DTSTART;TZID=America/Los_Angeles:20260210T190000
DTEND;TZID=America/Los_Angeles:20260210T210000
DTSTAMP:20260423T063238
CREATED:20251218T042516Z
LAST-MODIFIED:20260131T184352Z
UID:10002129-1770750000-1770757200@cstpdx.com
SUMMARY:Numbskull Revolution
DESCRIPTION:Immediately following its world premiere at UCLA\, Jon Moritsugu’s latest film comes to Portland! \n\n\n\nDubbed “the Godfather of Punk Cinema\,” Moritsugu and Amy Davis (Mod Fuck Explosion) are back with a satirical deconstruction of the high art scene. Starring David and James Duval (The Doom Generation)\, the play a pair of rival conceptual artists battling for fame in Shitville\, Earth. As one rises in the scene\, the other becomes addicted to a new drug called Skullfuck. ART = $HIT \n\n\n\n    \n        Director: Jon Moritsugu\n        Year: 2026\n        Country: United States\n        Runtime: 93 minutes
URL:https://cstpdx.com/event/numbskull-revolution/
CATEGORIES:film
ATTACH;FMTTYPE=image/png:https://cstpdx.com/wp-content/uploads/2025/12/NUMBSKULL-REVOLUTION_Poster_8.5by11-scaled.png
END:VEVENT
END:VCALENDAR