BEGIN:VCALENDAR
VERSION:2.0
PRODID:-//Clinton Street Theater - ECPv6.15.20//NONSGML v1.0//EN
CALSCALE:GREGORIAN
METHOD:PUBLISH
X-WR-CALNAME:Clinton Street Theater
X-ORIGINAL-URL:https://cstpdx.com
X-WR-CALDESC:Events for Clinton Street Theater
REFRESH-INTERVAL;VALUE=DURATION:PT1H
X-Robots-Tag:noindex
X-PUBLISHED-TTL:PT1H
BEGIN:VTIMEZONE
TZID:America/Los_Angeles
BEGIN:DAYLIGHT
TZOFFSETFROM:-0800
TZOFFSETTO:-0700
TZNAME:PDT
DTSTART:20250309T100000
END:DAYLIGHT
BEGIN:STANDARD
TZOFFSETFROM:-0700
TZOFFSETTO:-0800
TZNAME:PST
DTSTART:20251102T090000
END:STANDARD
BEGIN:DAYLIGHT
TZOFFSETFROM:-0800
TZOFFSETTO:-0700
TZNAME:PDT
DTSTART:20260308T100000
END:DAYLIGHT
BEGIN:STANDARD
TZOFFSETFROM:-0700
TZOFFSETTO:-0800
TZNAME:PST
DTSTART:20261101T090000
END:STANDARD
BEGIN:DAYLIGHT
TZOFFSETFROM:-0800
TZOFFSETTO:-0700
TZNAME:PDT
DTSTART:20270314T100000
END:DAYLIGHT
BEGIN:STANDARD
TZOFFSETFROM:-0700
TZOFFSETTO:-0800
TZNAME:PST
DTSTART:20271107T090000
END:STANDARD
END:VTIMEZONE
BEGIN:VEVENT
DTSTART;TZID=America/Los_Angeles:20260203T190000
DTEND;TZID=America/Los_Angeles:20260203T210000
DTSTAMP:20260423T063237
CREATED:20251218T041517Z
LAST-MODIFIED:20251218T041518Z
UID:10002128-1770145200-1770152400@cstpdx.com
SUMMARY:Ghost Dog: The Way of the Samurai
DESCRIPTION:In one of his defining roles\, Forest Whitaker brings a commanding serenity to his portrayal of a Zen contract killer working for a bumbling mob outfit while trying to adhere to the code outlined in the book of Yamamoto Tsunetomo’s recorded sayings\, Hagakure.  \n\n\n\nFeaturing cinematography by Robby Müller (Paris\, Texas) and a mesmerizing score by the Wu-Tang Clan’s RZA\, director Jim Jarmusch combines his love for Jean-Pierre Melville (Le Samouraï) and Seijun Suzuki (Branded to Kill) with samurai mythology for an eccentrically postmodern take on the hit-man thriller. \n\n\n\n    \n        Director: Jim Jarmusch\n        Year: 2000\n        Country: USA\n        Runtime: 116 minutes
URL:https://cstpdx.com/event/ghost-dog-the-way-of-the-samurai/
CATEGORIES:bhm
ATTACH;FMTTYPE=image/jpeg:https://cstpdx.com/wp-content/uploads/2025/12/ghost-dog-new.jpg
END:VEVENT
END:VCALENDAR