BEGIN:VCALENDAR
VERSION:2.0
PRODID:-//Clinton Street Theater - ECPv6.15.20//NONSGML v1.0//EN
CALSCALE:GREGORIAN
METHOD:PUBLISH
X-ORIGINAL-URL:https://cstpdx.com
X-WR-CALDESC:Events for Clinton Street Theater
REFRESH-INTERVAL;VALUE=DURATION:PT1H
X-Robots-Tag:noindex
X-PUBLISHED-TTL:PT1H
BEGIN:VTIMEZONE
TZID:America/Los_Angeles
BEGIN:DAYLIGHT
TZOFFSETFROM:-0800
TZOFFSETTO:-0700
TZNAME:PDT
DTSTART:20250309T100000
END:DAYLIGHT
BEGIN:STANDARD
TZOFFSETFROM:-0700
TZOFFSETTO:-0800
TZNAME:PST
DTSTART:20251102T090000
END:STANDARD
BEGIN:DAYLIGHT
TZOFFSETFROM:-0800
TZOFFSETTO:-0700
TZNAME:PDT
DTSTART:20260308T100000
END:DAYLIGHT
BEGIN:STANDARD
TZOFFSETFROM:-0700
TZOFFSETTO:-0800
TZNAME:PST
DTSTART:20261101T090000
END:STANDARD
BEGIN:DAYLIGHT
TZOFFSETFROM:-0800
TZOFFSETTO:-0700
TZNAME:PDT
DTSTART:20270314T100000
END:DAYLIGHT
BEGIN:STANDARD
TZOFFSETFROM:-0700
TZOFFSETTO:-0800
TZNAME:PST
DTSTART:20271107T090000
END:STANDARD
END:VTIMEZONE
BEGIN:VEVENT
DTSTART;TZID=America/Los_Angeles:20260127T190000
DTEND;TZID=America/Los_Angeles:20260127T210000
DTSTAMP:20260423T080405
CREATED:20251204T053901Z
LAST-MODIFIED:20251204T053903Z
UID:10002119-1769540400-1769547600@cstpdx.com
SUMMARY:The Lure
DESCRIPTION:In this bold\, horror-musical twist on Hans Christian Andersen’s Little Mermaid tale\, a pair of carnivorous mermaid sisters are drawn ashore in an alternate 1980s Poland to explore the wonders and temptations of life on land. Their tantalizing siren songs and otherworldly aura make them overnight sensations as nightclub singers in the half-glam\, half-decrepit fantasy world.  \n\n\n\nAgnieszka Smoczynska’s debut is savage coming-of-age fairytale with a catchy new-wave soundtrack and lavishly grimy sets explores sexuality\, exploitation\, and the compromises of adulthood with true originality. \n\n\n\nPresented by Queer Screams Film Festival\, returning to The Clinton Street Theater in August 2026! \n\n\n\n\nDirector: Agnieszka Smoczyńska\n\n\n\nCountry: Poland\n\n\n\nYear: 2015\n\n\n\nRuntime: 92 minutes
URL:https://cstpdx.com/event/the-lure-2/
ATTACH;FMTTYPE=image/jpeg:https://cstpdx.com/wp-content/uploads/2022/07/thelure-web.jpeg
END:VEVENT
END:VCALENDAR