BEGIN:VCALENDAR
VERSION:2.0
PRODID:-//Clinton Street Theater - ECPv6.15.20//NONSGML v1.0//EN
CALSCALE:GREGORIAN
METHOD:PUBLISH
X-WR-CALNAME:Clinton Street Theater
X-ORIGINAL-URL:https://cstpdx.com
X-WR-CALDESC:Events for Clinton Street Theater
REFRESH-INTERVAL;VALUE=DURATION:PT1H
X-Robots-Tag:noindex
X-PUBLISHED-TTL:PT1H
BEGIN:VTIMEZONE
TZID:America/Los_Angeles
BEGIN:DAYLIGHT
TZOFFSETFROM:-0800
TZOFFSETTO:-0700
TZNAME:PDT
DTSTART:20250309T100000
END:DAYLIGHT
BEGIN:STANDARD
TZOFFSETFROM:-0700
TZOFFSETTO:-0800
TZNAME:PST
DTSTART:20251102T090000
END:STANDARD
BEGIN:DAYLIGHT
TZOFFSETFROM:-0800
TZOFFSETTO:-0700
TZNAME:PDT
DTSTART:20260308T100000
END:DAYLIGHT
BEGIN:STANDARD
TZOFFSETFROM:-0700
TZOFFSETTO:-0800
TZNAME:PST
DTSTART:20261101T090000
END:STANDARD
BEGIN:DAYLIGHT
TZOFFSETFROM:-0800
TZOFFSETTO:-0700
TZNAME:PDT
DTSTART:20270314T100000
END:DAYLIGHT
BEGIN:STANDARD
TZOFFSETFROM:-0700
TZOFFSETTO:-0800
TZNAME:PST
DTSTART:20271107T090000
END:STANDARD
END:VTIMEZONE
BEGIN:VEVENT
DTSTART;TZID=America/Los_Angeles:20260123T200000
DTEND;TZID=America/Los_Angeles:20260123T220000
DTSTAMP:20260423T080010
CREATED:20251222T225541Z
LAST-MODIFIED:20251222T225542Z
UID:10002139-1769198400-1769205600@cstpdx.com
SUMMARY:JurASSic Park Drag Show
DESCRIPTION:21+ \n\n\n\n\n\n\nCult of! presents a Jurassic Park theme drag and burlqusque show\, featuring a night of acts based on your favorite characters—from Ian Malcom to Clever Girl velociraptors.  \n\n\n\nDoors at 7:00 PM; show at 8:00 PM. Open seating. 21+ only.
URL:https://cstpdx.com/event/jurassic-park-drag-show/
CATEGORIES:drag
ATTACH;FMTTYPE=image/avif:https://cstpdx.com/wp-content/uploads/2025/12/jurassic-scaled.avif
END:VEVENT
END:VCALENDAR