BEGIN:VCALENDAR
VERSION:2.0
PRODID:-//Clinton Street Theater - ECPv6.15.20//NONSGML v1.0//EN
CALSCALE:GREGORIAN
METHOD:PUBLISH
X-WR-CALNAME:Clinton Street Theater
X-ORIGINAL-URL:https://cstpdx.com
X-WR-CALDESC:Events for Clinton Street Theater
REFRESH-INTERVAL;VALUE=DURATION:PT1H
X-Robots-Tag:noindex
X-PUBLISHED-TTL:PT1H
BEGIN:VTIMEZONE
TZID:America/Los_Angeles
BEGIN:DAYLIGHT
TZOFFSETFROM:-0800
TZOFFSETTO:-0700
TZNAME:PDT
DTSTART:20250309T100000
END:DAYLIGHT
BEGIN:STANDARD
TZOFFSETFROM:-0700
TZOFFSETTO:-0800
TZNAME:PST
DTSTART:20251102T090000
END:STANDARD
BEGIN:DAYLIGHT
TZOFFSETFROM:-0800
TZOFFSETTO:-0700
TZNAME:PDT
DTSTART:20260308T100000
END:DAYLIGHT
BEGIN:STANDARD
TZOFFSETFROM:-0700
TZOFFSETTO:-0800
TZNAME:PST
DTSTART:20261101T090000
END:STANDARD
BEGIN:DAYLIGHT
TZOFFSETFROM:-0800
TZOFFSETTO:-0700
TZNAME:PDT
DTSTART:20270314T100000
END:DAYLIGHT
BEGIN:STANDARD
TZOFFSETFROM:-0700
TZOFFSETTO:-0800
TZNAME:PST
DTSTART:20271107T090000
END:STANDARD
END:VTIMEZONE
BEGIN:VEVENT
DTSTART;TZID=America/Los_Angeles:20260114T190000
DTEND;TZID=America/Los_Angeles:20260114T210000
DTSTAMP:20260423T075613
CREATED:20260110T173023Z
LAST-MODIFIED:20260110T173024Z
UID:10002149-1768417200-1768424400@cstpdx.com
SUMMARY:ANDRIESH (1954) (Church of Film)
DESCRIPTION:The hero Voinovan entrusts his magic flute to the young shepherd Andriesh— but its music is odious to the wicked sorcerer Black Hurricane\, who steals his flock and burns down the village. It’s up to Andriesh to stop him. Along the way\, he sees the devastation the Black Hurricane has unleashed\, encounters strange dangers\, and makes some helpful new friends.  \n\n\n\nANDRIESH was the film debut of the esteemed Armenian master Sergei Paradjanov\, a gorgeous fairy tale based on a Moldovan poem and brimming with folk motifs.
URL:https://cstpdx.com/event/andriesh-1954-church-of-film/
CATEGORIES:film
ATTACH;FMTTYPE=image/jpeg:https://cstpdx.com/wp-content/uploads/2026/01/Andriesh-Poster.jpg
END:VEVENT
END:VCALENDAR