BEGIN:VCALENDAR
VERSION:2.0
PRODID:-//Clinton Street Theater - ECPv6.15.20//NONSGML v1.0//EN
CALSCALE:GREGORIAN
METHOD:PUBLISH
X-ORIGINAL-URL:https://cstpdx.com
X-WR-CALDESC:Events for Clinton Street Theater
REFRESH-INTERVAL;VALUE=DURATION:PT1H
X-Robots-Tag:noindex
X-PUBLISHED-TTL:PT1H
BEGIN:VTIMEZONE
TZID:America/Los_Angeles
BEGIN:DAYLIGHT
TZOFFSETFROM:-0800
TZOFFSETTO:-0700
TZNAME:PDT
DTSTART:20250309T100000
END:DAYLIGHT
BEGIN:STANDARD
TZOFFSETFROM:-0700
TZOFFSETTO:-0800
TZNAME:PST
DTSTART:20251102T090000
END:STANDARD
BEGIN:DAYLIGHT
TZOFFSETFROM:-0800
TZOFFSETTO:-0700
TZNAME:PDT
DTSTART:20260308T100000
END:DAYLIGHT
BEGIN:STANDARD
TZOFFSETFROM:-0700
TZOFFSETTO:-0800
TZNAME:PST
DTSTART:20261101T090000
END:STANDARD
BEGIN:DAYLIGHT
TZOFFSETFROM:-0800
TZOFFSETTO:-0700
TZNAME:PDT
DTSTART:20270314T100000
END:DAYLIGHT
BEGIN:STANDARD
TZOFFSETFROM:-0700
TZOFFSETTO:-0800
TZNAME:PST
DTSTART:20271107T090000
END:STANDARD
END:VTIMEZONE
BEGIN:VEVENT
DTSTART;TZID=America/Los_Angeles:20260110T190000
DTEND;TZID=America/Los_Angeles:20260110T210000
DTSTAMP:20260423T081116
CREATED:20251123T203747Z
LAST-MODIFIED:20251126T051207Z
UID:10002098-1768071600-1768078800@cstpdx.com
SUMMARY:Zoot Suit
DESCRIPTION:Presented by Raza Reels and benefiting Pueblo Unido PDX\, a non-profit organization which connects immigrant communities to legal\, social\, and language interpretation services.When barrio leader Henry Reyna and his friends are unjustly convicted on circumstantial evidence\, activist lawyers Alice Bloomfield and George Shearer fight the blatant racially motivated miscarriage of justice to win them their freedom. Starring Daniel Valdez and Edward James Olmos—both reprising their roles from the stage production by Luis Valdez\, considered the father of Chicano film and playwriting. \n\n\n\n    \n        Director: Luis Valdez\n        Year: 1981\n        Country: United States\n        Runtime: 103 minutes
URL:https://cstpdx.com/event/zoot-suit/
ATTACH;FMTTYPE=image/jpeg:https://cstpdx.com/wp-content/uploads/2025/11/Zoot-Suit.jpg
END:VEVENT
BEGIN:VEVENT
DTSTART;TZID=America/Los_Angeles:20260110T230000
DTEND;TZID=America/Los_Angeles:20260110T235900
DTSTAMP:20260423T081116
CREATED:20251219T025802Z
LAST-MODIFIED:20251219T025803Z
UID:10002135-1768086000-1768089540@cstpdx.com
SUMMARY:The Rocky Horror Picture Show with Sinophelia
DESCRIPTION:Come watch our intimate\, scaled-back screening of the ultimate cult movie that has played weekly at the Clinton Street Theater since 1978 with everyone’s ancient royal vampire\, Thee Countess Sinophelia! \n\n\n\nEnjoy the legendary “bad” movie with props and callbacks\, but without all the theatrics of a shadow cast on stage. Perfect for first and old timers. If you love the film on its own\, these screenings are an opportunity to watch the film with less visual interruption. \n\n\n\n*Please note this screening does not include a performance or shadow cast of the Clinton Street Cabaret.* \n\n\n\n\nDirector: Jim Sharman\n\n\n\nCountry: USA\n\n\n\nYear: 1975\n\n\n\nRuntime: 100 minutes
URL:https://cstpdx.com/event/the-rocky-horror-picture-show-with-sinophelia-13/
CATEGORIES:drag
ATTACH;FMTTYPE=image/webp:https://cstpdx.com/wp-content/uploads/2023/07/rhps-virgins.webp
END:VEVENT
END:VCALENDAR