BEGIN:VCALENDAR
VERSION:2.0
PRODID:-//Clinton Street Theater - ECPv6.15.20//NONSGML v1.0//EN
CALSCALE:GREGORIAN
METHOD:PUBLISH
X-WR-CALNAME:Clinton Street Theater
X-ORIGINAL-URL:https://cstpdx.com
X-WR-CALDESC:Events for Clinton Street Theater
REFRESH-INTERVAL;VALUE=DURATION:PT1H
X-Robots-Tag:noindex
X-PUBLISHED-TTL:PT1H
BEGIN:VTIMEZONE
TZID:America/Los_Angeles
BEGIN:DAYLIGHT
TZOFFSETFROM:-0800
TZOFFSETTO:-0700
TZNAME:PDT
DTSTART:20250309T100000
END:DAYLIGHT
BEGIN:STANDARD
TZOFFSETFROM:-0700
TZOFFSETTO:-0800
TZNAME:PST
DTSTART:20251102T090000
END:STANDARD
BEGIN:DAYLIGHT
TZOFFSETFROM:-0800
TZOFFSETTO:-0700
TZNAME:PDT
DTSTART:20260308T100000
END:DAYLIGHT
BEGIN:STANDARD
TZOFFSETFROM:-0700
TZOFFSETTO:-0800
TZNAME:PST
DTSTART:20261101T090000
END:STANDARD
BEGIN:DAYLIGHT
TZOFFSETFROM:-0800
TZOFFSETTO:-0700
TZNAME:PDT
DTSTART:20270314T100000
END:DAYLIGHT
BEGIN:STANDARD
TZOFFSETFROM:-0700
TZOFFSETTO:-0800
TZNAME:PST
DTSTART:20271107T090000
END:STANDARD
END:VTIMEZONE
BEGIN:VEVENT
DTSTART;TZID=America/Los_Angeles:20260109T190000
DTEND;TZID=America/Los_Angeles:20260109T210000
DTSTAMP:20260423T081859
CREATED:20251201T173938Z
LAST-MODIFIED:20251203T180900Z
UID:10002107-1767985200-1767992400@cstpdx.com
SUMMARY:Swan Song starring Udo Kier
DESCRIPTION:A formerly flamboyant hairdresser (the late Udo Kier in a rare leading role) takes a long walk across a small town to style a dead woman’s hair. \n\n\n\nPresented by actor Thom Hilton (Gabriel)\, who will be remembering his friend’s career and their work on the film together with behind-the-scenes memorabilia from the set. \n\n\n\n    \n        Director: Todd Stephens\n        Year: 2021\n        Country: United States\n        Runtime: 105 minutes
URL:https://cstpdx.com/event/swan-song/
ATTACH;FMTTYPE=image/jpeg:https://cstpdx.com/wp-content/uploads/2025/12/swan-song.jpg
END:VEVENT
END:VCALENDAR