BEGIN:VCALENDAR
VERSION:2.0
PRODID:-//Clinton Street Theater - ECPv6.15.20//NONSGML v1.0//EN
CALSCALE:GREGORIAN
METHOD:PUBLISH
X-ORIGINAL-URL:https://cstpdx.com
X-WR-CALDESC:Events for Clinton Street Theater
REFRESH-INTERVAL;VALUE=DURATION:PT1H
X-Robots-Tag:noindex
X-PUBLISHED-TTL:PT1H
BEGIN:VTIMEZONE
TZID:America/Los_Angeles
BEGIN:DAYLIGHT
TZOFFSETFROM:-0800
TZOFFSETTO:-0700
TZNAME:PDT
DTSTART:20250309T100000
END:DAYLIGHT
BEGIN:STANDARD
TZOFFSETFROM:-0700
TZOFFSETTO:-0800
TZNAME:PST
DTSTART:20251102T090000
END:STANDARD
BEGIN:DAYLIGHT
TZOFFSETFROM:-0800
TZOFFSETTO:-0700
TZNAME:PDT
DTSTART:20260308T100000
END:DAYLIGHT
BEGIN:STANDARD
TZOFFSETFROM:-0700
TZOFFSETTO:-0800
TZNAME:PST
DTSTART:20261101T090000
END:STANDARD
BEGIN:DAYLIGHT
TZOFFSETFROM:-0800
TZOFFSETTO:-0700
TZNAME:PDT
DTSTART:20270314T100000
END:DAYLIGHT
BEGIN:STANDARD
TZOFFSETFROM:-0700
TZOFFSETTO:-0800
TZNAME:PST
DTSTART:20271107T090000
END:STANDARD
END:VTIMEZONE
BEGIN:VEVENT
DTSTART;TZID=America/Los_Angeles:20260104T160000
DTEND;TZID=America/Los_Angeles:20260104T180000
DTSTAMP:20260423T080256
CREATED:20251122T213956Z
LAST-MODIFIED:20260104T215724Z
UID:10002097-1767542400-1767549600@cstpdx.com
SUMMARY:Start Fresh Festival: 3 x 30
DESCRIPTION:Three short films presented by Start Fresh Fest. \n\n\n\nThe OGRE by Justin Boswick follows a rising “pre-crash bunker wave earth tone noxious metal rubber tone mathscape grass-fed conglomerate bass post-ego brown noise premeditated deathcore punk rock jazz” band in Portland. Tensions arise between band members as they prepare for their biggest show yet. Ogre voted “best new band” by Williamette Weekly. Join us as we follow the band\, but beware\, you may end up joining as an honorary member! A great representation of the Portland music scene. \n\n\n\nWriter-director Armen Zilic presents Carpe Diem. When Robby falls into a spiral of negativity\, he must reflect upon himself and realize the importance of living in the moment and focusing on the positives of life. \n\n\n\nInvasion of the FreeBox Monsters by Peter Grey follows a collection of everyday folks fights to survive a new COVID outbreak and garbage eating creatures in order to save the city of Portland and the second annual Avocado Toast Festival from the US Military and the evil General Stone?!
URL:https://cstpdx.com/event/start-fresh-festival-3-x-30/
CATEGORIES:film,local
ATTACH;FMTTYPE=image/jpeg:https://cstpdx.com/wp-content/uploads/2025/11/Start-Fresh-Fest-3-x-30-scaled.jpg
END:VEVENT
END:VCALENDAR