BEGIN:VCALENDAR
VERSION:2.0
PRODID:-//Clinton Street Theater - ECPv6.15.20//NONSGML v1.0//EN
CALSCALE:GREGORIAN
METHOD:PUBLISH
X-ORIGINAL-URL:https://cstpdx.com
X-WR-CALDESC:Events for Clinton Street Theater
REFRESH-INTERVAL;VALUE=DURATION:PT1H
X-Robots-Tag:noindex
X-PUBLISHED-TTL:PT1H
BEGIN:VTIMEZONE
TZID:America/Los_Angeles
BEGIN:DAYLIGHT
TZOFFSETFROM:-0800
TZOFFSETTO:-0700
TZNAME:PDT
DTSTART:20240310T100000
END:DAYLIGHT
BEGIN:STANDARD
TZOFFSETFROM:-0700
TZOFFSETTO:-0800
TZNAME:PST
DTSTART:20241103T090000
END:STANDARD
BEGIN:DAYLIGHT
TZOFFSETFROM:-0800
TZOFFSETTO:-0700
TZNAME:PDT
DTSTART:20250309T100000
END:DAYLIGHT
BEGIN:STANDARD
TZOFFSETFROM:-0700
TZOFFSETTO:-0800
TZNAME:PST
DTSTART:20251102T090000
END:STANDARD
BEGIN:DAYLIGHT
TZOFFSETFROM:-0800
TZOFFSETTO:-0700
TZNAME:PDT
DTSTART:20260308T100000
END:DAYLIGHT
BEGIN:STANDARD
TZOFFSETFROM:-0700
TZOFFSETTO:-0800
TZNAME:PST
DTSTART:20261101T090000
END:STANDARD
END:VTIMEZONE
BEGIN:VEVENT
DTSTART;TZID=America/Los_Angeles:20251228T193000
DTEND;TZID=America/Los_Angeles:20251228T213000
DTSTAMP:20260423T080403
CREATED:20251118T212353Z
LAST-MODIFIED:20251120T001954Z
UID:10002088-1766950200-1766957400@cstpdx.com
SUMMARY:Gauri B: Live in Portland!
DESCRIPTION:A mere 30 seconds on her Instagram channel is enough to fall in love with Gauri and her comedy! Her clips have amassed more than 100 million views on social media and gained her a global following. She has headlined top tier comedy clubs and festivals around the world\, from Leicester Square Theater in London to WUK in Vienna\, to the Melbourne International Comedy Festival in Australia. Gauri enjoys tackling morbid subjects and infusing them with strong punchlines\, which she delivers with a natural charisma. Fearless and unabashed\, Gauri draws endless material from her cultural background\, as well as politics\, society\, and everyday chaos\, crafting sharp jokes into her pointed stand-up routines. And when it comes to crowd work and interacting with the audience\, she is undoubtedly in a league of her own.This show is for fans of stand-up that goes beyond the trivial.
URL:https://cstpdx.com/event/gauri-b-live-in-portland/
CATEGORIES:comedy
ATTACH;FMTTYPE=image/png:https://cstpdx.com/wp-content/uploads/2025/11/profile_gauri_b.png
END:VEVENT
END:VCALENDAR