BEGIN:VCALENDAR
VERSION:2.0
PRODID:-//Clinton Street Theater - ECPv6.15.20//NONSGML v1.0//EN
CALSCALE:GREGORIAN
METHOD:PUBLISH
X-ORIGINAL-URL:https://cstpdx.com
X-WR-CALDESC:Events for Clinton Street Theater
REFRESH-INTERVAL;VALUE=DURATION:PT1H
X-Robots-Tag:noindex
X-PUBLISHED-TTL:PT1H
BEGIN:VTIMEZONE
TZID:America/Los_Angeles
BEGIN:DAYLIGHT
TZOFFSETFROM:-0800
TZOFFSETTO:-0700
TZNAME:PDT
DTSTART:20240310T100000
END:DAYLIGHT
BEGIN:STANDARD
TZOFFSETFROM:-0700
TZOFFSETTO:-0800
TZNAME:PST
DTSTART:20241103T090000
END:STANDARD
BEGIN:DAYLIGHT
TZOFFSETFROM:-0800
TZOFFSETTO:-0700
TZNAME:PDT
DTSTART:20250309T100000
END:DAYLIGHT
BEGIN:STANDARD
TZOFFSETFROM:-0700
TZOFFSETTO:-0800
TZNAME:PST
DTSTART:20251102T090000
END:STANDARD
BEGIN:DAYLIGHT
TZOFFSETFROM:-0800
TZOFFSETTO:-0700
TZNAME:PDT
DTSTART:20260308T100000
END:DAYLIGHT
BEGIN:STANDARD
TZOFFSETFROM:-0700
TZOFFSETTO:-0800
TZNAME:PST
DTSTART:20261101T090000
END:STANDARD
END:VTIMEZONE
BEGIN:VEVENT
DTSTART;TZID=America/Los_Angeles:20251226T150000
DTEND;TZID=America/Los_Angeles:20251226T170000
DTSTAMP:20260423T095306
CREATED:20251023T193541Z
LAST-MODIFIED:20251023T193542Z
UID:10002064-1766761200-1766768400@cstpdx.com
SUMMARY:The Big Lebowski
DESCRIPTION:Get festive and join our annual holiday tradition! \n\n\n\nUltimate L.A. slacker Jeff “The Dude” Lebowski\, mistaken for a millionaire of the same name\, seeks restitution for a rug ruined by debt collectors\, enlisting his bowling buddies for help while trying to find the millionaire’s missing wife. \n\n\n\nKeeping with the long running tradition of showing The Big Lebowski during the holidays\, we will be pouring our take on a White Russian made with sake instead of vodka. \n\n\n\nThe Big Lebowski is a memorable holiday experience with a uniquely Portland twist. \n\n\n\nOnce again\, we’re proud to support the non-profit organization Bark\, whose mission is to defend and restore Mt. Hood National Forest. $1 from every ticket sale will be donated to the group this season. \n\n\n\n    \n        Director: Coen Brothers\n        Year: 1998\n        Country: USA\n        Runtime: 117 minutes
URL:https://cstpdx.com/event/the-big-lebowski-26/
CATEGORIES:film
ATTACH;FMTTYPE=image/jpeg:https://cstpdx.com/wp-content/uploads/2024/10/big-lebowski.jpeg
END:VEVENT
BEGIN:VEVENT
DTSTART;TZID=America/Los_Angeles:20251226T190000
DTEND;TZID=America/Los_Angeles:20251226T210000
DTSTAMP:20260423T095307
CREATED:20251023T193618Z
LAST-MODIFIED:20251023T193619Z
UID:10002065-1766775600-1766782800@cstpdx.com
SUMMARY:The Big Lebowski
DESCRIPTION:Get festive and join our annual holiday tradition! \n\n\n\nUltimate L.A. slacker Jeff “The Dude” Lebowski\, mistaken for a millionaire of the same name\, seeks restitution for a rug ruined by debt collectors\, enlisting his bowling buddies for help while trying to find the millionaire’s missing wife. \n\n\n\nKeeping with the long running tradition of showing The Big Lebowski during the holidays\, we will be pouring our take on a White Russian made with sake instead of vodka. \n\n\n\nThe Big Lebowski is a memorable holiday experience with a uniquely Portland twist. \n\n\n\nOnce again\, we’re proud to support the non-profit organization Bark\, whose mission is to defend and restore Mt. Hood National Forest. $1 from every ticket sale will be donated to the group this season. \n\n\n\n    \n        Director: Coen Brothers\n        Year: 1998\n        Country: USA\n        Runtime: 117 minutes
URL:https://cstpdx.com/event/the-big-lebowski-27/
CATEGORIES:film
ATTACH;FMTTYPE=image/jpeg:https://cstpdx.com/wp-content/uploads/2024/10/big-lebowski.jpeg
END:VEVENT
BEGIN:VEVENT
DTSTART;TZID=America/Los_Angeles:20251226T220000
DTEND;TZID=America/Los_Angeles:20251226T235900
DTSTAMP:20260423T095307
CREATED:20251106T200632Z
LAST-MODIFIED:20251106T200634Z
UID:10002084-1766786400-1766793540@cstpdx.com
SUMMARY:Hundreds of Beavers
DESCRIPTION:Back at The Clinton Street Theater again due to popular demand—a special holiday late night screening of the film we helped make a cult hit in Portland! \n\n\n\nCreated by the Mike Cheslik and Ryland Brickson Cole Tews\, the duo behind the modern cult hit LAKE MICHIGAN MONSTER (2018).  \n\n\n\nIn this 19th century\, supernatural winter epic\, a drunken applejack salesman must go from zero to hero and become North America’s greatest fur trapper by defeating hundreds of beavers. \n\n\n\n“If you have even the slightest love for slap stick comedy and goofball antics\, then this will undoubtedly be the most gut-busting time you have at the movies this year.” –Screen Anarchy \n\n\n\n“Run\, don’t walk: this is one of the must-see independent cinema curios of the 2020s.” –Film School Rejects \n\n\n\n“Starts strange\, gets stranger\, and yet remains resolutely adorable . . . embraces the defiant glee of art cinema and distills it into something so thoroughly pure and sincere that it is surely hard not to fall in love with it.” –Alliance of Women Film Journalists \n\n\n\n    \n        Director: Mike Cheslik\n        Year: 2024\n        Country: USA\n        Runtime: 108 minutes
URL:https://cstpdx.com/event/hundreds-of-beavers-5/
CATEGORIES:film
ATTACH;FMTTYPE=image/jpeg:https://cstpdx.com/wp-content/uploads/2024/01/hundreds-of-beavers.jpeg
END:VEVENT
END:VCALENDAR