BEGIN:VCALENDAR
VERSION:2.0
PRODID:-//Clinton Street Theater - ECPv6.15.20//NONSGML v1.0//EN
CALSCALE:GREGORIAN
METHOD:PUBLISH
X-WR-CALNAME:Clinton Street Theater
X-ORIGINAL-URL:https://cstpdx.com
X-WR-CALDESC:Events for Clinton Street Theater
REFRESH-INTERVAL;VALUE=DURATION:PT1H
X-Robots-Tag:noindex
X-PUBLISHED-TTL:PT1H
BEGIN:VTIMEZONE
TZID:America/Los_Angeles
BEGIN:DAYLIGHT
TZOFFSETFROM:-0800
TZOFFSETTO:-0700
TZNAME:PDT
DTSTART:20240310T100000
END:DAYLIGHT
BEGIN:STANDARD
TZOFFSETFROM:-0700
TZOFFSETTO:-0800
TZNAME:PST
DTSTART:20241103T090000
END:STANDARD
BEGIN:DAYLIGHT
TZOFFSETFROM:-0800
TZOFFSETTO:-0700
TZNAME:PDT
DTSTART:20250309T100000
END:DAYLIGHT
BEGIN:STANDARD
TZOFFSETFROM:-0700
TZOFFSETTO:-0800
TZNAME:PST
DTSTART:20251102T090000
END:STANDARD
BEGIN:DAYLIGHT
TZOFFSETFROM:-0800
TZOFFSETTO:-0700
TZNAME:PDT
DTSTART:20260308T100000
END:DAYLIGHT
BEGIN:STANDARD
TZOFFSETFROM:-0700
TZOFFSETTO:-0800
TZNAME:PST
DTSTART:20261101T090000
END:STANDARD
END:VTIMEZONE
BEGIN:VEVENT
DTSTART;TZID=America/Los_Angeles:20251223T150000
DTEND;TZID=America/Los_Angeles:20251223T170000
DTSTAMP:20260423T110709
CREATED:20251023T192631Z
LAST-MODIFIED:20251023T192722Z
UID:10002058-1766502000-1766509200@cstpdx.com
SUMMARY:The Big Lebowski
DESCRIPTION:Get festive and join our annual holiday tradition! \n\n\n\nUltimate L.A. slacker Jeff “The Dude” Lebowski\, mistaken for a millionaire of the same name\, seeks restitution for a rug ruined by debt collectors\, enlisting his bowling buddies for help while trying to find the millionaire’s missing wife. \n\n\n\nKeeping with the long running tradition of showing The Big Lebowski during the holidays\, we will be pouring our take on a White Russian made with sake instead of vodka. \n\n\n\nThe Big Lebowski is a memorable holiday experience with a uniquely Portland twist. \n\n\n\nOnce again\, we’re proud to support the non-profit organization Bark\, whose mission is to defend and restore Mt. Hood National Forest. $1 from every ticket sale will be donated to the group this season. \n\n\n\n    \n        Director: Coen Brothers\n        Year: 1998\n        Country: USA\n        Runtime: 117 minutes
URL:https://cstpdx.com/event/the-big-lebowski-20/
CATEGORIES:film
ATTACH;FMTTYPE=image/jpeg:https://cstpdx.com/wp-content/uploads/2024/10/big-lebowski.jpeg
END:VEVENT
BEGIN:VEVENT
DTSTART;TZID=America/Los_Angeles:20251223T190000
DTEND;TZID=America/Los_Angeles:20251223T210000
DTSTAMP:20260423T110709
CREATED:20251023T192822Z
LAST-MODIFIED:20251023T192900Z
UID:10002059-1766516400-1766523600@cstpdx.com
SUMMARY:The Big Lebowski
DESCRIPTION:Get festive and join our annual holiday tradition! \n\n\n\nUltimate L.A. slacker Jeff “The Dude” Lebowski\, mistaken for a millionaire of the same name\, seeks restitution for a rug ruined by debt collectors\, enlisting his bowling buddies for help while trying to find the millionaire’s missing wife. \n\n\n\nKeeping with the long running tradition of showing The Big Lebowski during the holidays\, we will be pouring our take on a White Russian made with sake instead of vodka. \n\n\n\nThe Big Lebowski is a memorable holiday experience with a uniquely Portland twist. \n\n\n\nOnce again\, we’re proud to support the non-profit organization Bark\, whose mission is to defend and restore Mt. Hood National Forest. $1 from every ticket sale will be donated to the group this season. \n\n\n\n    \n        Director: Coen Brothers\n        Year: 1998\n        Country: USA\n        Runtime: 117 minutes
URL:https://cstpdx.com/event/the-big-lebowski-21/
CATEGORIES:film
ATTACH;FMTTYPE=image/jpeg:https://cstpdx.com/wp-content/uploads/2024/10/big-lebowski.jpeg
END:VEVENT
END:VCALENDAR