BEGIN:VCALENDAR
VERSION:2.0
PRODID:-//Clinton Street Theater - ECPv6.15.20//NONSGML v1.0//EN
CALSCALE:GREGORIAN
METHOD:PUBLISH
X-WR-CALNAME:Clinton Street Theater
X-ORIGINAL-URL:https://cstpdx.com
X-WR-CALDESC:Events for Clinton Street Theater
REFRESH-INTERVAL;VALUE=DURATION:PT1H
X-Robots-Tag:noindex
X-PUBLISHED-TTL:PT1H
BEGIN:VTIMEZONE
TZID:America/Los_Angeles
BEGIN:DAYLIGHT
TZOFFSETFROM:-0800
TZOFFSETTO:-0700
TZNAME:PDT
DTSTART:20240310T100000
END:DAYLIGHT
BEGIN:STANDARD
TZOFFSETFROM:-0700
TZOFFSETTO:-0800
TZNAME:PST
DTSTART:20241103T090000
END:STANDARD
BEGIN:DAYLIGHT
TZOFFSETFROM:-0800
TZOFFSETTO:-0700
TZNAME:PDT
DTSTART:20250309T100000
END:DAYLIGHT
BEGIN:STANDARD
TZOFFSETFROM:-0700
TZOFFSETTO:-0800
TZNAME:PST
DTSTART:20251102T090000
END:STANDARD
BEGIN:DAYLIGHT
TZOFFSETFROM:-0800
TZOFFSETTO:-0700
TZNAME:PDT
DTSTART:20260308T100000
END:DAYLIGHT
BEGIN:STANDARD
TZOFFSETFROM:-0700
TZOFFSETTO:-0800
TZNAME:PST
DTSTART:20261101T090000
END:STANDARD
END:VTIMEZONE
BEGIN:VEVENT
DTSTART;TZID=America/Los_Angeles:20251220T140000
DTEND;TZID=America/Los_Angeles:20251220T210000
DTSTAMP:20260423T093728
CREATED:20251030T183209Z
LAST-MODIFIED:20251030T183210Z
UID:10002079-1766239200-1766264400@cstpdx.com
SUMMARY:Twin Peaks: Fire Walk with Me with Special Guests Sheryl Lee and Ray Wise
DESCRIPTION:Featuring a special post-screening Q&A with stars Sheryl Lee and Ray Wise! \n\n\n\nDoors open at 1:00 PM. \n\n\n\nIn the town of Twin Peaks\, everyone has their secrets—but especially Laura Palmer (Sheryl Lee). In this prequel to his groundbreaking 1990s television series\, David Lynch resurrects the teenager found wrapped in plastic at the beginning of the show\, following her through the last week of her life and teasing out the enigmas that surround her murder. \n\n\n\nHomecoming queen by day and drug-addicted thrill seeker by night\, Laura leads a double life that pulls her deeper and deeper into horror as she pieces together the identity of the assailant who has been terrorizing her for years. Nightmarish in its vision of an innocent torn apart by unfathomable forces\, Twin Peaks: Fire Walk with Me is nevertheless one of Lynch’s most humane films\, aching with compassion for its tortured heroine—a character as enthralling in life as she was in death. \n\n\n\nSheryl Lee and Ray Wise will be offering separate autographs and photographs ($60 each or $80 for both) at this event only for ticket holders. They will be selling those directly at the screenings and they will not be available for purchase in advance online. \n\n\n\nPlease note: Autographs and photographs will be conducted separately. The Twin Peaks VIP pass is the only opportunity to have both actors in the same photo during their visit to The Clinton Street Theater. \n\n\n\nAll ticket sales are final. We cannot provide any refunds or exchanges. Bag check required at the door. \n\n\n\n    \n        Director: David Lynch\n        Year: 1992\n        Country: France\, USA\n        Runtime: 134 minutes
URL:https://cstpdx.com/event/twin-peaks-fire-walk-with-me-with-special-guests-sheryl-lee-and-ray-wise-2/
CATEGORIES:celeb
ATTACH;FMTTYPE=image/webp:https://cstpdx.com/wp-content/uploads/2025/03/fwwm.webp
END:VEVENT
BEGIN:VEVENT
DTSTART;TZID=America/Los_Angeles:20251220T223000
DTEND;TZID=America/Los_Angeles:20251220T235900
DTSTAMP:20260423T093728
CREATED:20251120T002320Z
LAST-MODIFIED:20251120T002322Z
UID:10002091-1766269800-1766275140@cstpdx.com
SUMMARY:The Rocky Horror Picture Show with the Clinton Street Cabaret
DESCRIPTION:Doors open at 10:00 PM; pre-show starts at 10:30 PM \n\n\n\nJoin our weekly screenings of The Rocky Horror Picture Show that started in April of 1978! Starring Tim Curry\, Susan Sarandon\, and Barry Bostwick\, The Rocky Horror Picture Show (1975) continues to titillate and delight audiences all over the world. \n\n\n\nTonight’s screening features the cast of the Clinton Street Cabaret! $2 from every ticket goes to support the group. Come see the famous\, rambunctious show that has played every single week at the Clinton Street Theater in Portland\, Oregon. \n\n\n\n\nDirector: Jim Sharman\n\n\n\nCountry: USA\n\n\n\nYear: 1975\n\n\n\nRuntime: 100 minutes\n\n\n\n\n\nStarting March 16th of 2024 the CSC will have a selection of tickets for each show which are available to our BIPOC community members FREE of charge! \n\n\n\nTo reserve one send an email to the Clinton Street Cabaret clintonstreetec@gmail.com with the heading BIPOC Affinity Ticket and include your name and the date of the show you would like to reserve a ticket for in the body of the email. Only 1 ticket can be reserved per person per show and reserved tickets also include a prop bag. These tickets can only be reserved by confirmed email with the Clinton Street Cabaret and are not available to reserve at the Clinton Street Theater box office. \n\n\n\nTickets can be reserved starting 2 weeks before a show and no later than 2 hours before the show. Please note we won’t be able to accommodate late requests for shows that are already sold out. These are tickets specifically for the Clinton Street Cabaret’s performances of the Rocky Horror Picture Show at the Clinton Street Theater\, on the 1st\, 3rd\, and occasionally 5th Saturdays of the month.  \n\n\n\nShowings on 2nd and 4th Saturdays or “For Virgins” nights are not Cabaret shows and do not qualify for this program.
URL:https://cstpdx.com/event/the-rocky-horror-picture-show-with-the-clinton-street-cabaret-77/
CATEGORIES:drag
ATTACH;FMTTYPE=image/jpeg:https://cstpdx.com/wp-content/uploads/2022/05/rockyhorror.jpeg
END:VEVENT
END:VCALENDAR