BEGIN:VCALENDAR
VERSION:2.0
PRODID:-//Clinton Street Theater - ECPv6.15.20//NONSGML v1.0//EN
CALSCALE:GREGORIAN
METHOD:PUBLISH
X-ORIGINAL-URL:https://cstpdx.com
X-WR-CALDESC:Events for Clinton Street Theater
REFRESH-INTERVAL;VALUE=DURATION:PT1H
X-Robots-Tag:noindex
X-PUBLISHED-TTL:PT1H
BEGIN:VTIMEZONE
TZID:America/Los_Angeles
BEGIN:DAYLIGHT
TZOFFSETFROM:-0800
TZOFFSETTO:-0700
TZNAME:PDT
DTSTART:20240310T100000
END:DAYLIGHT
BEGIN:STANDARD
TZOFFSETFROM:-0700
TZOFFSETTO:-0800
TZNAME:PST
DTSTART:20241103T090000
END:STANDARD
BEGIN:DAYLIGHT
TZOFFSETFROM:-0800
TZOFFSETTO:-0700
TZNAME:PDT
DTSTART:20250309T100000
END:DAYLIGHT
BEGIN:STANDARD
TZOFFSETFROM:-0700
TZOFFSETTO:-0800
TZNAME:PST
DTSTART:20251102T090000
END:STANDARD
BEGIN:DAYLIGHT
TZOFFSETFROM:-0800
TZOFFSETTO:-0700
TZNAME:PDT
DTSTART:20260308T100000
END:DAYLIGHT
BEGIN:STANDARD
TZOFFSETFROM:-0700
TZOFFSETTO:-0800
TZNAME:PST
DTSTART:20261101T090000
END:STANDARD
END:VTIMEZONE
BEGIN:VEVENT
DTSTART;TZID=America/Los_Angeles:20251219T170000
DTEND;TZID=America/Los_Angeles:20251219T230000
DTSTAMP:20260423T095307
CREATED:20251030T183107Z
LAST-MODIFIED:20251030T183109Z
UID:10002078-1766163600-1766185200@cstpdx.com
SUMMARY:Twin Peaks: Fire Walk with Me with Special Guests Sheryl Lee and Ray Wise
DESCRIPTION:Featuring a special post-screening Q&A with stars Sheryl Lee and Ray Wise! \n\n\n\nDoors open at 4:00 PM. \n\n\n\nIn the town of Twin Peaks\, everyone has their secrets—but especially Laura Palmer (Sheryl Lee). In this prequel to his groundbreaking 1990s television series\, David Lynch resurrects the teenager found wrapped in plastic at the beginning of the show\, following her through the last week of her life and teasing out the enigmas that surround her murder. \n\n\n\nHomecoming queen by day and drug-addicted thrill seeker by night\, Laura leads a double life that pulls her deeper and deeper into horror as she pieces together the identity of the assailant who has been terrorizing her for years. Nightmarish in its vision of an innocent torn apart by unfathomable forces\, Twin Peaks: Fire Walk with Me is nevertheless one of Lynch’s most humane films\, aching with compassion for its tortured heroine—a character as enthralling in life as she was in death. \n\n\n\nSheryl Lee and Ray Wise will be offering separate autographs and photographs ($60 each or $80 for both) at this event only for ticket holders. They will be selling those directly at the screenings and they will not be available for purchase in advance online. \n\n\n\nPlease note: Autographs and photographs will be conducted separately. The Twin Peaks VIP pass is the only opportunity to have both actors in the same photo during their visit to The Clinton Street Theater. \n\n\n\nAll ticket sales are final. We cannot provide any refunds or exchanges. Bag check required at the door. \n\n\n\n    \n        Director: David Lynch\n        Year: 1992\n        Country: France\, USA\n        Runtime: 134 minutes
URL:https://cstpdx.com/event/twin-peaks-fire-walk-with-me-with-special-guests-sheryl-lee-and-ray-wise/
CATEGORIES:celeb
ATTACH;FMTTYPE=image/webp:https://cstpdx.com/wp-content/uploads/2025/03/fwwm.webp
END:VEVENT
END:VCALENDAR