BEGIN:VCALENDAR
VERSION:2.0
PRODID:-//Clinton Street Theater - ECPv6.15.20//NONSGML v1.0//EN
CALSCALE:GREGORIAN
METHOD:PUBLISH
X-WR-CALNAME:Clinton Street Theater
X-ORIGINAL-URL:https://cstpdx.com
X-WR-CALDESC:Events for Clinton Street Theater
REFRESH-INTERVAL;VALUE=DURATION:PT1H
X-Robots-Tag:noindex
X-PUBLISHED-TTL:PT1H
BEGIN:VTIMEZONE
TZID:America/Los_Angeles
BEGIN:DAYLIGHT
TZOFFSETFROM:-0800
TZOFFSETTO:-0700
TZNAME:PDT
DTSTART:20240310T100000
END:DAYLIGHT
BEGIN:STANDARD
TZOFFSETFROM:-0700
TZOFFSETTO:-0800
TZNAME:PST
DTSTART:20241103T090000
END:STANDARD
BEGIN:DAYLIGHT
TZOFFSETFROM:-0800
TZOFFSETTO:-0700
TZNAME:PDT
DTSTART:20250309T100000
END:DAYLIGHT
BEGIN:STANDARD
TZOFFSETFROM:-0700
TZOFFSETTO:-0800
TZNAME:PST
DTSTART:20251102T090000
END:STANDARD
BEGIN:DAYLIGHT
TZOFFSETFROM:-0800
TZOFFSETTO:-0700
TZNAME:PDT
DTSTART:20260308T100000
END:DAYLIGHT
BEGIN:STANDARD
TZOFFSETFROM:-0700
TZOFFSETTO:-0800
TZNAME:PST
DTSTART:20261101T090000
END:STANDARD
END:VTIMEZONE
BEGIN:VEVENT
DTSTART;TZID=America/Los_Angeles:20251218T180000
DTEND;TZID=America/Los_Angeles:20251218T220000
DTSTAMP:20260423T094948
CREATED:20251030T182819Z
LAST-MODIFIED:20251030T182821Z
UID:10002077-1766080800-1766095200@cstpdx.com
SUMMARY:Backbeat with Special Guest Sheryl Lee
DESCRIPTION:Featuring a special post-screening Q&A with star Sheryl Lee! \n\n\n\nDoors open at 5:00 PM. \n\n\n\nA dramatization of the Hamburg\, Germany phase of The Beatles’ early history. Featuring Sheryl Lee as photographer Astrid Kirchherr. \n\n\n\nSheryl Lee will be offering autographs and photographs ($60 each or $80 for both) at this event only for ticket holders. She will be selling those directly at the screenings and they will not be available for purchase in advance online. \n\n\n\nPlease note: We cannot provide any refunds or exchanges. All ticket sales are final. Bag check required at the door. \n\n\n\n    \n        Director: Iain Softley\n        Year: 1994\n        Country: United Kingdom\n        Runtime: 100 minutes
URL:https://cstpdx.com/event/backbeat-with-special-guest-sheryl-lee/
CATEGORIES:celeb
ATTACH;FMTTYPE=image/png:https://cstpdx.com/wp-content/uploads/2025/10/backbeat-poster.png
END:VEVENT
END:VCALENDAR