BEGIN:VCALENDAR
VERSION:2.0
PRODID:-//Clinton Street Theater - ECPv6.15.20//NONSGML v1.0//EN
CALSCALE:GREGORIAN
METHOD:PUBLISH
X-ORIGINAL-URL:https://cstpdx.com
X-WR-CALDESC:Events for Clinton Street Theater
REFRESH-INTERVAL;VALUE=DURATION:PT1H
X-Robots-Tag:noindex
X-PUBLISHED-TTL:PT1H
BEGIN:VTIMEZONE
TZID:America/Los_Angeles
BEGIN:DAYLIGHT
TZOFFSETFROM:-0800
TZOFFSETTO:-0700
TZNAME:PDT
DTSTART:20240310T100000
END:DAYLIGHT
BEGIN:STANDARD
TZOFFSETFROM:-0700
TZOFFSETTO:-0800
TZNAME:PST
DTSTART:20241103T090000
END:STANDARD
BEGIN:DAYLIGHT
TZOFFSETFROM:-0800
TZOFFSETTO:-0700
TZNAME:PDT
DTSTART:20250309T100000
END:DAYLIGHT
BEGIN:STANDARD
TZOFFSETFROM:-0700
TZOFFSETTO:-0800
TZNAME:PST
DTSTART:20251102T090000
END:STANDARD
BEGIN:DAYLIGHT
TZOFFSETFROM:-0800
TZOFFSETTO:-0700
TZNAME:PDT
DTSTART:20260308T100000
END:DAYLIGHT
BEGIN:STANDARD
TZOFFSETFROM:-0700
TZOFFSETTO:-0800
TZNAME:PST
DTSTART:20261101T090000
END:STANDARD
END:VTIMEZONE
BEGIN:VEVENT
DTSTART;TZID=America/Los_Angeles:20251215T190000
DTEND;TZID=America/Los_Angeles:20251215T210000
DTSTAMP:20260423T094416
CREATED:20251022T055505Z
LAST-MODIFIED:20251022T055507Z
UID:10002054-1765825200-1765832400@cstpdx.com
SUMMARY:Big Trouble in Little China
DESCRIPTION:A rough-and-tumble trucker and his sidekick face off with an ancient sorcerer in a supernatural battle beneath Chinatown. Written by W. D. Richter and directed by John Carpenter. \n\n\n\n    \n        Director: John Carpenter\n        Year: 1986\n        Country: USA\n        Runtime: 99 minutes
URL:https://cstpdx.com/event/big-trouble-in-little-china/
ATTACH;FMTTYPE=image/jpeg:https://cstpdx.com/wp-content/uploads/2025/10/Big-Trouble-in-Little-China.jpg
END:VEVENT
END:VCALENDAR