BEGIN:VCALENDAR
VERSION:2.0
PRODID:-//Clinton Street Theater - ECPv6.15.20//NONSGML v1.0//EN
CALSCALE:GREGORIAN
METHOD:PUBLISH
X-WR-CALNAME:Clinton Street Theater
X-ORIGINAL-URL:https://cstpdx.com
X-WR-CALDESC:Events for Clinton Street Theater
REFRESH-INTERVAL;VALUE=DURATION:PT1H
X-Robots-Tag:noindex
X-PUBLISHED-TTL:PT1H
BEGIN:VTIMEZONE
TZID:America/Los_Angeles
BEGIN:DAYLIGHT
TZOFFSETFROM:-0800
TZOFFSETTO:-0700
TZNAME:PDT
DTSTART:20240310T100000
END:DAYLIGHT
BEGIN:STANDARD
TZOFFSETFROM:-0700
TZOFFSETTO:-0800
TZNAME:PST
DTSTART:20241103T090000
END:STANDARD
BEGIN:DAYLIGHT
TZOFFSETFROM:-0800
TZOFFSETTO:-0700
TZNAME:PDT
DTSTART:20250309T100000
END:DAYLIGHT
BEGIN:STANDARD
TZOFFSETFROM:-0700
TZOFFSETTO:-0800
TZNAME:PST
DTSTART:20251102T090000
END:STANDARD
BEGIN:DAYLIGHT
TZOFFSETFROM:-0800
TZOFFSETTO:-0700
TZNAME:PDT
DTSTART:20260308T100000
END:DAYLIGHT
BEGIN:STANDARD
TZOFFSETFROM:-0700
TZOFFSETTO:-0800
TZNAME:PST
DTSTART:20261101T090000
END:STANDARD
END:VTIMEZONE
BEGIN:VEVENT
DTSTART;TZID=America/Los_Angeles:20251214T180000
DTEND;TZID=America/Los_Angeles:20251214T210000
DTSTAMP:20260423T095018
CREATED:20251207T201915Z
LAST-MODIFIED:20251207T201917Z
UID:10002122-1765735200-1765746000@cstpdx.com
SUMMARY:Destiny Smokez and The Spirit of Dahlia Kash D&D Productions Present: MELANGE A QUEER AND P.O.C. VARIETY SHOW
DESCRIPTION:21+ \n\n\n\n\nIt’s DecembrrrrrRrRrr and it’s cold!  \n\n\n\nThis month\, it’s open themed\, so anything goes\, but you can be sure we’ll be there to warm you up on a cold winter night!!! Get ready for some fun\, with an all-new cast of Melanated Magic!! \n\n\n\nPrepare to be amazed by our vibrant cast\, friendly crowd\, and interactive production! Whether you’re a seasoned fan or new to the scene\, Melange is perfect for anyone looking for a night of pure entertainment! \n\n\n\nHosted by:  \n\n\n\n\nDESTINY SMOKEZ\n\n\n\n\nActs From: \n\n\n\n\nAki\n\n\n\nIsis Chanel\n\n\n\nSis-Tah\n\n\n\nThomas Melbourne\n\n\n\nViper\n\n\n\n\nDR@G! BURLE$QUE! MUSIC! CIRCUS! RAFFLES! AND SO MUCH MORE!
URL:https://cstpdx.com/event/destiny-smokez-and-the-spirit-of-dahlia-kash-dd-productions-present-melange-a-queer-and-p-o-c-variety-show/
CATEGORIES:drag
ATTACH;FMTTYPE=image/jpeg:https://cstpdx.com/wp-content/uploads/2025/12/melange-december.jpg
END:VEVENT
END:VCALENDAR