BEGIN:VCALENDAR
VERSION:2.0
PRODID:-//Clinton Street Theater - ECPv6.15.20//NONSGML v1.0//EN
CALSCALE:GREGORIAN
METHOD:PUBLISH
X-ORIGINAL-URL:https://cstpdx.com
X-WR-CALDESC:Events for Clinton Street Theater
REFRESH-INTERVAL;VALUE=DURATION:PT1H
X-Robots-Tag:noindex
X-PUBLISHED-TTL:PT1H
BEGIN:VTIMEZONE
TZID:America/Los_Angeles
BEGIN:DAYLIGHT
TZOFFSETFROM:-0800
TZOFFSETTO:-0700
TZNAME:PDT
DTSTART:20240310T100000
END:DAYLIGHT
BEGIN:STANDARD
TZOFFSETFROM:-0700
TZOFFSETTO:-0800
TZNAME:PST
DTSTART:20241103T090000
END:STANDARD
BEGIN:DAYLIGHT
TZOFFSETFROM:-0800
TZOFFSETTO:-0700
TZNAME:PDT
DTSTART:20250309T100000
END:DAYLIGHT
BEGIN:STANDARD
TZOFFSETFROM:-0700
TZOFFSETTO:-0800
TZNAME:PST
DTSTART:20251102T090000
END:STANDARD
BEGIN:DAYLIGHT
TZOFFSETFROM:-0800
TZOFFSETTO:-0700
TZNAME:PDT
DTSTART:20260308T100000
END:DAYLIGHT
BEGIN:STANDARD
TZOFFSETFROM:-0700
TZOFFSETTO:-0800
TZNAME:PST
DTSTART:20261101T090000
END:STANDARD
END:VTIMEZONE
BEGIN:VEVENT
DTSTART;TZID=America/Los_Angeles:20251212T200000
DTEND;TZID=America/Los_Angeles:20251212T230000
DTSTAMP:20260423T095307
CREATED:20250818T041933Z
LAST-MODIFIED:20250924T223632Z
UID:10001968-1765569600-1765580400@cstpdx.com
SUMMARY:Kevin McDonald Superstar
DESCRIPTION:Join Revolutions Per Movie Live for a very special evening as Kevin McDonald of The Kids in the Hall takes the stage in Kevin McDonald Superstar\, a rip-roaring comic rock opera that takes the audience on an explosive ride through the early days of The Kids in the Hall\, past relationships\, personal follies\, and the glory days of the ‘90s comedy scene that shaped it all. Written by McDonald\, Kevin McDonald Superstar is based on the true story of his relationship with his girlfriend “Cheater” and a stupid\, awful thing he did in New York City while traveling with the Kids in the Hall. The show boasts an eclectic cast of stellar comedic and musical talent\, including Scott McCaughey (of The Minus 5 & R.E.M.)\, Jennifer Faust\, Brian Kunkel\, Chaki\, Suzanne Foster\, Julia Corral\, and\, of course\, McDonald himself.  \n\n\n\nFollowing the performance\, Chris Slusarenko\, host of the Revolutions Per Movie podcast\, will interview Kevin about the creation of his rock opera\, other Kids In The Hall stories that aren’t in this musical\, and open it up to the audience for a Q&A! \n\n\n\nSo prepare to rock out (and laugh out loud) at this unforgettable rock opera that showcases McDonald’s signature offbeat humor and love of music\, delivered in the way only he can.
URL:https://cstpdx.com/event/kevin-mcdonald-superstar/
CATEGORIES:comedy,music
ATTACH;FMTTYPE=image/png:https://cstpdx.com/wp-content/uploads/2025/08/KevinMcDonald_121225R2.png
END:VEVENT
END:VCALENDAR