BEGIN:VCALENDAR
VERSION:2.0
PRODID:-//Clinton Street Theater - ECPv6.15.20//NONSGML v1.0//EN
CALSCALE:GREGORIAN
METHOD:PUBLISH
X-WR-CALNAME:Clinton Street Theater
X-ORIGINAL-URL:https://cstpdx.com
X-WR-CALDESC:Events for Clinton Street Theater
REFRESH-INTERVAL;VALUE=DURATION:PT1H
X-Robots-Tag:noindex
X-PUBLISHED-TTL:PT1H
BEGIN:VTIMEZONE
TZID:America/Los_Angeles
BEGIN:DAYLIGHT
TZOFFSETFROM:-0800
TZOFFSETTO:-0700
TZNAME:PDT
DTSTART:20240310T100000
END:DAYLIGHT
BEGIN:STANDARD
TZOFFSETFROM:-0700
TZOFFSETTO:-0800
TZNAME:PST
DTSTART:20241103T090000
END:STANDARD
BEGIN:DAYLIGHT
TZOFFSETFROM:-0800
TZOFFSETTO:-0700
TZNAME:PDT
DTSTART:20250309T100000
END:DAYLIGHT
BEGIN:STANDARD
TZOFFSETFROM:-0700
TZOFFSETTO:-0800
TZNAME:PST
DTSTART:20251102T090000
END:STANDARD
BEGIN:DAYLIGHT
TZOFFSETFROM:-0800
TZOFFSETTO:-0700
TZNAME:PDT
DTSTART:20260308T100000
END:DAYLIGHT
BEGIN:STANDARD
TZOFFSETFROM:-0700
TZOFFSETTO:-0800
TZNAME:PST
DTSTART:20261101T090000
END:STANDARD
END:VTIMEZONE
BEGIN:VEVENT
DTSTART;TZID=America/Los_Angeles:20251210T190000
DTEND;TZID=America/Los_Angeles:20251210T210000
DTSTAMP:20260423T094948
CREATED:20251127T195753Z
LAST-MODIFIED:20251127T200257Z
UID:10002103-1765393200-1765400400@cstpdx.com
SUMMARY:RUSSIAN FAIRY TALE ANIMATION (Church of Film)
DESCRIPTION:RUSSIAN FAIRY TALE ANIMATION! A collection of wondrous short fairy tale films from the Soviet Union’s best animation studio\, Soyuzmultfilm!  \n\n\n\nGiven free reign stylistically\, and with no profit motive\, Soviet animators created one of the most productive and groundbreaking animation studios in the world to rival Walt Disney! While many of the fairy tales echo Disney’s choice of material\, Russian animators employed a broader technical diversity and approaches\, and often more abstract\, beautiful\, and phantasmagoric representations.  \n\n\n\nIncluded will be Ivan Aksenchuk’s breathtaking THE LITTLE MERMAID (1968) and CINDERELLA (1979)\, work by the great Olga Khodataeva\, Vladimir Pekar’s exquisitely designed VASSILISSA THE BEAUTIFUL (1977)\, and much more!
URL:https://cstpdx.com/event/church-of-film-russian-fairy-tale-animation-4/
CATEGORIES:film
ATTACH;FMTTYPE=image/webp:https://cstpdx.com/wp-content/uploads/2022/12/rfta.webp
END:VEVENT
END:VCALENDAR