BEGIN:VCALENDAR
VERSION:2.0
PRODID:-//Clinton Street Theater - ECPv6.15.20//NONSGML v1.0//EN
CALSCALE:GREGORIAN
METHOD:PUBLISH
X-ORIGINAL-URL:https://cstpdx.com
X-WR-CALDESC:Events for Clinton Street Theater
REFRESH-INTERVAL;VALUE=DURATION:PT1H
X-Robots-Tag:noindex
X-PUBLISHED-TTL:PT1H
BEGIN:VTIMEZONE
TZID:America/Los_Angeles
BEGIN:DAYLIGHT
TZOFFSETFROM:-0800
TZOFFSETTO:-0700
TZNAME:PDT
DTSTART:20240310T100000
END:DAYLIGHT
BEGIN:STANDARD
TZOFFSETFROM:-0700
TZOFFSETTO:-0800
TZNAME:PST
DTSTART:20241103T090000
END:STANDARD
BEGIN:DAYLIGHT
TZOFFSETFROM:-0800
TZOFFSETTO:-0700
TZNAME:PDT
DTSTART:20250309T100000
END:DAYLIGHT
BEGIN:STANDARD
TZOFFSETFROM:-0700
TZOFFSETTO:-0800
TZNAME:PST
DTSTART:20251102T090000
END:STANDARD
BEGIN:DAYLIGHT
TZOFFSETFROM:-0800
TZOFFSETTO:-0700
TZNAME:PDT
DTSTART:20260308T100000
END:DAYLIGHT
BEGIN:STANDARD
TZOFFSETFROM:-0700
TZOFFSETTO:-0800
TZNAME:PST
DTSTART:20261101T090000
END:STANDARD
END:VTIMEZONE
BEGIN:VEVENT
DTSTART;TZID=America/Los_Angeles:20251207T150000
DTEND;TZID=America/Los_Angeles:20251207T170000
DTSTAMP:20260423T095332
CREATED:20251113T140912Z
LAST-MODIFIED:20251113T140917Z
UID:10002086-1765119600-1765126800@cstpdx.com
SUMMARY:Psychotronic After School Christmas Special
DESCRIPTION:In the mood for a little weird Christmas? Celebrate the annual return of this handmade holiday mash-up featuring an oddball treasure trove of seasonal shorts! Special appearances by a 10-year old Seth Green\, a squad of rental Santas and three aliens on an epic holiday quest! PRESENTED ON 16mm FILM! \n\n\n\nSEE aliens discover the holiday spirit in A COSMIC CHRISTMAS \n\n\n\nEXPLORE the Xmas revels of 1969 Los Angeles in THE SEASON \n\n\n\nDISCOVER the meaning of CHARLIES CHRISTMAS SECRET \n\n\n\nFeaturing a PSYCHOTRONIC CHRISTMAS QUIZ with physical media (DVD\, VHS) prizes! \n\n\n\nCurated and hosted by Greg Hamiilton\, Portland film curator and co-founder of the Nyback Archive. \n\n\n\nEach ticket comes with a free small popcorn!
URL:https://cstpdx.com/event/psychotronic-after-school-christmas-special-2/
CATEGORIES:film
ATTACH;FMTTYPE=image/jpeg:https://cstpdx.com/wp-content/uploads/2025/11/Psychotronic-Christmas-2025-CST.jpg
END:VEVENT
BEGIN:VEVENT
DTSTART;TZID=America/Los_Angeles:20251207T190000
DTEND;TZID=America/Los_Angeles:20251207T210000
DTSTAMP:20260423T095332
CREATED:20251022T054533Z
LAST-MODIFIED:20251022T054535Z
UID:10002051-1765134000-1765141200@cstpdx.com
SUMMARY:The Fog (1980)
DESCRIPTION:Local legend tells of a ship lured on to the rocks of Antonio Bay being enveloped by a supernatural cloud as it sank; the myth says that when this mysterious fog returns\, the victims will rise up from the depths seeking vengeance. Written and directed by John Carpenter with Debra Hill. \n\n\n\n    \n        Director: John Carpenter\n        Year: 1980\n        Country: USA\n        Runtime: 90 minutes
URL:https://cstpdx.com/event/the-fog-1980/
ATTACH;FMTTYPE=image/jpeg:https://cstpdx.com/wp-content/uploads/2025/10/The-Fog-1980.jpg
END:VEVENT
END:VCALENDAR