BEGIN:VCALENDAR
VERSION:2.0
PRODID:-//Clinton Street Theater - ECPv6.15.20//NONSGML v1.0//EN
CALSCALE:GREGORIAN
METHOD:PUBLISH
X-ORIGINAL-URL:https://cstpdx.com
X-WR-CALDESC:Events for Clinton Street Theater
REFRESH-INTERVAL;VALUE=DURATION:PT1H
X-Robots-Tag:noindex
X-PUBLISHED-TTL:PT1H
BEGIN:VTIMEZONE
TZID:America/Los_Angeles
BEGIN:DAYLIGHT
TZOFFSETFROM:-0800
TZOFFSETTO:-0700
TZNAME:PDT
DTSTART:20240310T100000
END:DAYLIGHT
BEGIN:STANDARD
TZOFFSETFROM:-0700
TZOFFSETTO:-0800
TZNAME:PST
DTSTART:20241103T090000
END:STANDARD
BEGIN:DAYLIGHT
TZOFFSETFROM:-0800
TZOFFSETTO:-0700
TZNAME:PDT
DTSTART:20250309T100000
END:DAYLIGHT
BEGIN:STANDARD
TZOFFSETFROM:-0700
TZOFFSETTO:-0800
TZNAME:PST
DTSTART:20251102T090000
END:STANDARD
BEGIN:DAYLIGHT
TZOFFSETFROM:-0800
TZOFFSETTO:-0700
TZNAME:PDT
DTSTART:20260308T100000
END:DAYLIGHT
BEGIN:STANDARD
TZOFFSETFROM:-0700
TZOFFSETTO:-0800
TZNAME:PST
DTSTART:20261101T090000
END:STANDARD
END:VTIMEZONE
BEGIN:VEVENT
DTSTART;TZID=America/Los_Angeles:20251205T190000
DTEND;TZID=America/Los_Angeles:20251205T210000
DTSTAMP:20260423T095225
CREATED:20251106T183348Z
LAST-MODIFIED:20251106T183350Z
UID:10002083-1764961200-1764968400@cstpdx.com
SUMMARY:The Nightmare Before Christmas
DESCRIPTION:Jack Skellington\, king of Halloween Town\, discovers Christmas Town\, but his attempts to bring Christmas to his home causes confusion. \n\n\n\n    \n        Director: Henry Selick\n        Year: 1993\n        Country: United States\n        Runtime: 73 minutes
URL:https://cstpdx.com/event/the-nightmare-before-christmas/
CATEGORIES:film
ATTACH;FMTTYPE=image/jpeg:https://cstpdx.com/wp-content/uploads/2025/11/The-Nightmare-Before-Christmas-poster.jpg
END:VEVENT
END:VCALENDAR